BEGIN:VCALENDAR
VERSION:2.0
PRODID:-//Indian Link - ECPv6.15.20//NONSGML v1.0//EN
CALSCALE:GREGORIAN
METHOD:PUBLISH
X-ORIGINAL-URL:https://www.indianlink.com.au
X-WR-CALDESC:Events for Indian Link
REFRESH-INTERVAL;VALUE=DURATION:PT1H
X-Robots-Tag:noindex
X-PUBLISHED-TTL:PT1H
BEGIN:VTIMEZONE
TZID:Australia/Sydney
BEGIN:STANDARD
TZOFFSETFROM:+1100
TZOFFSETTO:+1000
TZNAME:AEST
DTSTART:20240406T160000
END:STANDARD
BEGIN:DAYLIGHT
TZOFFSETFROM:+1000
TZOFFSETTO:+1100
TZNAME:AEDT
DTSTART:20241005T160000
END:DAYLIGHT
BEGIN:STANDARD
TZOFFSETFROM:+1100
TZOFFSETTO:+1000
TZNAME:AEST
DTSTART:20250405T160000
END:STANDARD
BEGIN:DAYLIGHT
TZOFFSETFROM:+1000
TZOFFSETTO:+1100
TZNAME:AEDT
DTSTART:20251004T160000
END:DAYLIGHT
BEGIN:STANDARD
TZOFFSETFROM:+1100
TZOFFSETTO:+1000
TZNAME:AEST
DTSTART:20260404T160000
END:STANDARD
BEGIN:DAYLIGHT
TZOFFSETFROM:+1000
TZOFFSETTO:+1100
TZNAME:AEDT
DTSTART:20261003T160000
END:DAYLIGHT
END:VTIMEZONE
BEGIN:VEVENT
DTSTART;TZID=Australia/Sydney:20250605T151500
DTEND;TZID=Australia/Sydney:20250605T170000
DTSTAMP:20260423T090431
CREATED:20250603T043300Z
LAST-MODIFIED:20250603T043300Z
UID:10008338-1749136500-1749142800@www.indianlink.com.au
SUMMARY:Farming the Revolution - Sydney Film Festival
DESCRIPTION:  \n\nThis immersive documentary captures a mass movement in vivid close-up\, as 12 million farmers challenge the Indian government\, forcing it to retract its unjust farm laws.\n\n\n\nFor 13 months between 2020-21\, 12 million farmers in Punjab\, in the north of India\, took to the streets protesting the government’s unjust farm laws. They occupied the outskirts of the capital city of Delhi\, setting up a tent-city that only expanded over the protest’s duration. In Farming the Revolution\, Nishtha Jain applies a microscope to this exceptional moment in Indian history. Characters slip in and out of this quietly compelling film as the farmers and their families endure the brutal summer and cold winter\, and come together to advocate for justice as though it was the most natural thing to do. Ultimately gesturing towards hope\, this monumental achievement took out the top prize at Hot Docs 2024. \nLimited seats are available for patrons requiring access for wheelchairs\, low vision and hearing loop. Please contact our ticketing team directly on 1300 733 733 or tickets@sff.org.au to complete your booking. \n\n\n\n\n\n\n\n“Remarkable in its audio-visual inquiry into protest as a cultural movement\, and in its excavation of the emotional highs and lows involved in making lasting change.”\nSiddhant Adlakha\, Variety\n\n\n“While revolutions need leaders\, the documentary subtly suggests that perhaps we overrate the importance of charismatic figureheads… ultimately\, it is the people who have the power.”\nTim Grierson\, Screen International\n\n\n\n\nGET TICKETS HERE: Farming the Revolution – Sydney Film Festival
URL:https://www.indianlink.com.au/whats-on/farming-the-revolution-sydney-film-festival/
LOCATION:State Theatre Sydney\, 49 Market St\,\, Sydney\, NSW\, 2000\, Australia
ATTACH;FMTTYPE=image/png:https://p9dzm74w.tinifycdn.com/wp-content/uploads/2025/06/State-theatre.png
GEO:-33.8708086;151.2074936
X-APPLE-STRUCTURED-LOCATION;VALUE=URI;X-ADDRESS=State Theatre Sydney 49 Market St Sydney NSW 2000 Australia;X-APPLE-RADIUS=500;X-TITLE=49 Market St\,:geo:151.2074936,-33.8708086
END:VEVENT
BEGIN:VEVENT
DTSTART;TZID=Australia/Sydney:20250222T200000
DTEND;TZID=Australia/Sydney:20250222T230000
DTSTAMP:20260423T090431
CREATED:20241008T030344Z
LAST-MODIFIED:20241008T030344Z
UID:10002186-1740254400-1740265200@www.indianlink.com.au
SUMMARY:Zakir Khan - State Theatre
DESCRIPTION:  \nAfter Sold out shows of his previous specials\, Zakir Khan will be back in Sydney with his brand new show with new jokes & stories. \n\nThis show is rated 18+. Children will not be permitted. \n  \nGET TICKETS HERE: ZAKIR KHAN – State Theatre
URL:https://www.indianlink.com.au/whats-on/zakir-khan-state-theatre/
LOCATION:State Theatre Sydney\, 49 Market St\,\, Sydney\, NSW\, 2000\, Australia
ATTACH;FMTTYPE=image/jpeg:https://p9dzm74w.tinifycdn.com/wp-content/uploads/2024/10/Zakir-Hussain.jpg
GEO:-33.8708086;151.2074936
X-APPLE-STRUCTURED-LOCATION;VALUE=URI;X-ADDRESS=State Theatre Sydney 49 Market St Sydney NSW 2000 Australia;X-APPLE-RADIUS=500;X-TITLE=49 Market St\,:geo:151.2074936,-33.8708086
END:VEVENT
END:VCALENDAR