BEGIN:VCALENDAR
VERSION:2.0
PRODID:-//Indian Link - ECPv6.15.20//NONSGML v1.0//EN
CALSCALE:GREGORIAN
METHOD:PUBLISH
X-ORIGINAL-URL:https://www.indianlink.com.au
X-WR-CALDESC:Events for Indian Link
REFRESH-INTERVAL;VALUE=DURATION:PT1H
X-Robots-Tag:noindex
X-PUBLISHED-TTL:PT1H
BEGIN:VTIMEZONE
TZID:Australia/Sydney
BEGIN:STANDARD
TZOFFSETFROM:+1100
TZOFFSETTO:+1000
TZNAME:AEST
DTSTART:20250405T160000
END:STANDARD
BEGIN:DAYLIGHT
TZOFFSETFROM:+1000
TZOFFSETTO:+1100
TZNAME:AEDT
DTSTART:20251004T160000
END:DAYLIGHT
BEGIN:STANDARD
TZOFFSETFROM:+1100
TZOFFSETTO:+1000
TZNAME:AEST
DTSTART:20260404T160000
END:STANDARD
BEGIN:DAYLIGHT
TZOFFSETFROM:+1000
TZOFFSETTO:+1100
TZNAME:AEDT
DTSTART:20261003T160000
END:DAYLIGHT
BEGIN:STANDARD
TZOFFSETFROM:+1100
TZOFFSETTO:+1000
TZNAME:AEST
DTSTART:20270403T160000
END:STANDARD
BEGIN:DAYLIGHT
TZOFFSETFROM:+1000
TZOFFSETTO:+1100
TZNAME:AEDT
DTSTART:20271002T160000
END:DAYLIGHT
END:VTIMEZONE
BEGIN:VEVENT
DTSTART;TZID=Australia/Sydney:20260527T180000
DTEND;TZID=Australia/Sydney:20260527T193000
DTSTAMP:20260423T092200
CREATED:20260311T015821Z
LAST-MODIFIED:20260311T015821Z
UID:10008853-1779904800-1779910200@www.indianlink.com.au
SUMMARY:Midweek Minds: A New Cultural Paradigm - Vivid Sydney
DESCRIPTION:  \nHow can our creative industries find more equitable\, ethical ways of working? And how can we ensure that a diverse range of voices aren’t squeezed out during this era of unprecedented change from technological\, economic and cultural forces? \nWith rapid-fire keynotes\, four acclaimed creatives tackle the opportunities to create a better culture in their industries as part of Midweek Minds\, Vivid Sydney’s Wednesday night gatherings for the creative and curious at the State Library of New South Wales. \nAt A New Cultural Paradigm\, hear from New York architect and community builder Dong-Ping Wong\, Walkley Award-winning photojournalist Mridula Amin and Leela Varghese and Emma Hough Hobbs\, the Australian duo behind cult-hit film Lesbian Space Princess. Afterward\, head to the Library Bar for a chance to chat with the speakers\, meet other creatives and establish community in the spirit of informal networking. \nGET TICKETS HERE: Vivid Sydney
URL:https://www.indianlink.com.au/whats-on/midweek-minds-a-new-cultural-paradigm-vivid-sydney/
LOCATION:State Library of New South Wales\, Shakespeare Place 1\, Sydney\, NSW\, 2000\, Australia
ATTACH;FMTTYPE=image/png:https://p9dzm74w.tinifycdn.com/wp-content/uploads/2026/03/January-2026-Feature-Image-600-x-400-px-600-x-400-px-9.png
GEO:-33.8663058;151.2132437
X-APPLE-STRUCTURED-LOCATION;VALUE=URI;X-ADDRESS=State Library of New South Wales Shakespeare Place 1 Sydney NSW 2000 Australia;X-APPLE-RADIUS=500;X-TITLE=Shakespeare Place 1:geo:151.2132437,-33.8663058
END:VEVENT
END:VCALENDAR