BEGIN:VCALENDAR
VERSION:2.0
PRODID:-//Indian Link - ECPv6.15.20//NONSGML v1.0//EN
CALSCALE:GREGORIAN
METHOD:PUBLISH
X-WR-CALNAME:Indian Link
X-ORIGINAL-URL:https://www.indianlink.com.au
X-WR-CALDESC:Events for Indian Link
REFRESH-INTERVAL;VALUE=DURATION:PT1H
X-Robots-Tag:noindex
X-PUBLISHED-TTL:PT1H
BEGIN:VTIMEZONE
TZID:Australia/Sydney
BEGIN:STANDARD
TZOFFSETFROM:+1100
TZOFFSETTO:+1000
TZNAME:AEST
DTSTART:20240406T160000
END:STANDARD
BEGIN:DAYLIGHT
TZOFFSETFROM:+1000
TZOFFSETTO:+1100
TZNAME:AEDT
DTSTART:20241005T160000
END:DAYLIGHT
BEGIN:STANDARD
TZOFFSETFROM:+1100
TZOFFSETTO:+1000
TZNAME:AEST
DTSTART:20250405T160000
END:STANDARD
BEGIN:DAYLIGHT
TZOFFSETFROM:+1000
TZOFFSETTO:+1100
TZNAME:AEDT
DTSTART:20251004T160000
END:DAYLIGHT
BEGIN:STANDARD
TZOFFSETFROM:+1100
TZOFFSETTO:+1000
TZNAME:AEST
DTSTART:20260404T160000
END:STANDARD
BEGIN:DAYLIGHT
TZOFFSETFROM:+1000
TZOFFSETTO:+1100
TZNAME:AEDT
DTSTART:20261003T160000
END:DAYLIGHT
END:VTIMEZONE
BEGIN:VEVENT
DTSTART;TZID=Australia/Sydney:20250322T193000
DTEND;TZID=Australia/Sydney:20250322T203000
DTSTAMP:20260423T035015
CREATED:20250224T041704Z
LAST-MODIFIED:20250224T041704Z
UID:10002609-1742671800-1742675400@www.indianlink.com.au
SUMMARY:Sringaram: Tales of Love - Adelaide Fringe Festival
DESCRIPTION:  \n★★★★★ “Her movement\, always so graceful and gentle\, has an unmistakable steel that tells us to sit up and listen and to think more deeply.”– Hannah Molloy\, Theatreview. \nAn intimate dance performance that weaves together the themes of love and desire\, exploring the essence of femininity and creating a vibrant tapestry of emotion and movement. \nChoreographed in Bharatanatyam—a traditional South Indian dance form—and enhanced by a blend of spoken words and movements\, the piece begins with a meditative introduction. The dancer embodies the essence of her identity—grounded\, ethereal\, and powerful. Fluid movements evoke a sense of self- discovery and inner strength\, celebrating the diverse beauty of womanhood. \nPresented by: Swaroopa Prameela Unni \nI relocated to Boorloo/Perth in February 2024 from Ōtepoti/Dunedin\, Aotearoa/New Zealand. Recently\, I showcased my work in the dance performances ’35: Stories to Stage’ at the Blueroom Theatre\, in collaboration with the Centre for Stories and Performing Lines WA\, as well as ‘I Am…’ an independent production. I practice and perform Bharatanatyam and Mohiniyattam\, two traditional South Indian dance forms. \nMy performances have taken me across Aotearoa and India\, allowing me to explore themes of identity\, home\, belonging\, and feminist narratives within our community. Notable appearances include the Dunedin Fringe Festival (2012\, 2016)\, New Zealand Fringe Festival (2016)\, Body Festival (2015)\, Tempo Dance Festival (2016)\, Dunedin Arts Festival (2021\, 2022)\, and Tahi (2023). \n  \nGET TICKETS HERE: Sringaram – Tales of Love | Adelaide Fringe
URL:https://www.indianlink.com.au/whats-on/sringaram-tales-of-love-adelaide-fringe-festival/2025-03-22/
LOCATION:Star Theatre – South Australia\, 145 Sir Donald Bradman Drive\, Hilton\, Morphett Vale\, SA\, 5033\, Australia
ATTACH;FMTTYPE=image/png:https://p9dzm74w.tinifycdn.com/wp-content/uploads/2025/02/Dance-Adealiade.png
GEO:-34.9324516;138.5639498
X-APPLE-STRUCTURED-LOCATION;VALUE=URI;X-ADDRESS=Star Theatre – South Australia 145 Sir Donald Bradman Drive Hilton Morphett Vale SA 5033 Australia;X-APPLE-RADIUS=500;X-TITLE=145 Sir Donald Bradman Drive:geo:138.5639498,-34.9324516
END:VEVENT
BEGIN:VEVENT
DTSTART;TZID=Australia/Sydney:20250321T193000
DTEND;TZID=Australia/Sydney:20250321T203000
DTSTAMP:20260423T035015
CREATED:20250224T041704Z
LAST-MODIFIED:20250224T041704Z
UID:10002608-1742585400-1742589000@www.indianlink.com.au
SUMMARY:Sringaram: Tales of Love - Adelaide Fringe Festival
DESCRIPTION:  \n★★★★★ “Her movement\, always so graceful and gentle\, has an unmistakable steel that tells us to sit up and listen and to think more deeply.”– Hannah Molloy\, Theatreview. \nAn intimate dance performance that weaves together the themes of love and desire\, exploring the essence of femininity and creating a vibrant tapestry of emotion and movement. \nChoreographed in Bharatanatyam—a traditional South Indian dance form—and enhanced by a blend of spoken words and movements\, the piece begins with a meditative introduction. The dancer embodies the essence of her identity—grounded\, ethereal\, and powerful. Fluid movements evoke a sense of self- discovery and inner strength\, celebrating the diverse beauty of womanhood. \nPresented by: Swaroopa Prameela Unni \nI relocated to Boorloo/Perth in February 2024 from Ōtepoti/Dunedin\, Aotearoa/New Zealand. Recently\, I showcased my work in the dance performances ’35: Stories to Stage’ at the Blueroom Theatre\, in collaboration with the Centre for Stories and Performing Lines WA\, as well as ‘I Am…’ an independent production. I practice and perform Bharatanatyam and Mohiniyattam\, two traditional South Indian dance forms. \nMy performances have taken me across Aotearoa and India\, allowing me to explore themes of identity\, home\, belonging\, and feminist narratives within our community. Notable appearances include the Dunedin Fringe Festival (2012\, 2016)\, New Zealand Fringe Festival (2016)\, Body Festival (2015)\, Tempo Dance Festival (2016)\, Dunedin Arts Festival (2021\, 2022)\, and Tahi (2023). \n  \nGET TICKETS HERE: Sringaram – Tales of Love | Adelaide Fringe
URL:https://www.indianlink.com.au/whats-on/sringaram-tales-of-love-adelaide-fringe-festival/2025-03-21/
LOCATION:Star Theatre – South Australia\, 145 Sir Donald Bradman Drive\, Hilton\, Morphett Vale\, SA\, 5033\, Australia
ATTACH;FMTTYPE=image/png:https://p9dzm74w.tinifycdn.com/wp-content/uploads/2025/02/Dance-Adealiade.png
GEO:-34.9324516;138.5639498
X-APPLE-STRUCTURED-LOCATION;VALUE=URI;X-ADDRESS=Star Theatre – South Australia 145 Sir Donald Bradman Drive Hilton Morphett Vale SA 5033 Australia;X-APPLE-RADIUS=500;X-TITLE=145 Sir Donald Bradman Drive:geo:138.5639498,-34.9324516
END:VEVENT
BEGIN:VEVENT
DTSTART;TZID=Australia/Sydney:20250316T190000
DTEND;TZID=Australia/Sydney:20250316T210000
DTSTAMP:20260423T035015
CREATED:20250224T052600Z
LAST-MODIFIED:20250224T052600Z
UID:10002618-1742151600-1742158800@www.indianlink.com.au
SUMMARY:Aiyyo So Mini Things! with Shraddha Jain in Adelaide
DESCRIPTION:  \nFinally\, a show for all age groups…and yes\, it’s suitable for kids too! \n‘So Mini Things’ is a standup show which is a compilation of short funny experiences narrated in a humorous way to the audience and is expected to go on for up to 75 minutes. \nThe show will predominantly be in English with some words in Hindi\, Marathi\, Tulu\, Kannada\, & Gujarati. \nConditions of Entry \n• Finally\, a show you can get your child along but in the interest of the show we request you to book a corner seat to avoid any disruptions.\n• Need tickets for anyone above 5 years old\n• Seating is fully allocated\n• Event content will be in English.\n• Due to nature of the show\, House lights may be kept on fully or flickering.\n• All sales are final.\n• In an event of international/state border restrictions or venue capacity restriction\, the show will be postponed to a later date wherein existing ticket holders will be credited for same or equivalent seats.\n• Tickets are non-refundable – Tickets once booked cannot be exchanged or refunded.\n•  Booking fee will be charged & will not be refunded in case show gets cancelled or postponed.\n•  In an event of misconduct by patrons\, the event organiser reserves the right of eviction.\n•  Rights of admission are reserved.\n• Content will be almost the same as the previously performed show.\n• We will start the show on time\, and we recommend that you arrive at-least 30 minutes prior at the venue for a seamless entry.\n• These terms and conditions are subject to change from time to time at the discretion of the organizer\n• You are buying the tickets at your own will. You also understand the type of the comedy and content will be performed at the event.\n• Due to venue restrictions\, food and drinks are not allowed inside the auditorium. You may bring a bottle of water.\n• Pricing is may be changed without any prior notice. \nGET TICKETS HERE: Aiyyo So Mini Things! with Shraddha Jain In Adelaide – DryTickets.com.au
URL:https://www.indianlink.com.au/whats-on/aiyyo-so-mini-things-with-shraddha-jain-in-adelaide/
LOCATION:Star Theatre – South Australia\, 145 Sir Donald Bradman Drive\, Hilton\, Morphett Vale\, SA\, 5033\, Australia
ATTACH;FMTTYPE=image/png:https://p9dzm74w.tinifycdn.com/wp-content/uploads/2025/02/Shraddha-Jain-Adelaide.png
GEO:-34.9324516;138.5639498
X-APPLE-STRUCTURED-LOCATION;VALUE=URI;X-ADDRESS=Star Theatre – South Australia 145 Sir Donald Bradman Drive Hilton Morphett Vale SA 5033 Australia;X-APPLE-RADIUS=500;X-TITLE=145 Sir Donald Bradman Drive:geo:138.5639498,-34.9324516
END:VEVENT
END:VCALENDAR