BEGIN:VCALENDAR
VERSION:2.0
PRODID:-//Indian Link - ECPv6.15.20//NONSGML v1.0//EN
CALSCALE:GREGORIAN
METHOD:PUBLISH
X-WR-CALNAME:Indian Link
X-ORIGINAL-URL:https://www.indianlink.com.au
X-WR-CALDESC:Events for Indian Link
REFRESH-INTERVAL;VALUE=DURATION:PT1H
X-Robots-Tag:noindex
X-PUBLISHED-TTL:PT1H
BEGIN:VTIMEZONE
TZID:Australia/Sydney
BEGIN:STANDARD
TZOFFSETFROM:+1100
TZOFFSETTO:+1000
TZNAME:AEST
DTSTART:20250405T160000
END:STANDARD
BEGIN:DAYLIGHT
TZOFFSETFROM:+1000
TZOFFSETTO:+1100
TZNAME:AEDT
DTSTART:20251004T160000
END:DAYLIGHT
BEGIN:STANDARD
TZOFFSETFROM:+1100
TZOFFSETTO:+1000
TZNAME:AEST
DTSTART:20260404T160000
END:STANDARD
BEGIN:DAYLIGHT
TZOFFSETFROM:+1000
TZOFFSETTO:+1100
TZNAME:AEDT
DTSTART:20261003T160000
END:DAYLIGHT
BEGIN:STANDARD
TZOFFSETFROM:+1100
TZOFFSETTO:+1000
TZNAME:AEST
DTSTART:20270403T160000
END:STANDARD
BEGIN:DAYLIGHT
TZOFFSETFROM:+1000
TZOFFSETTO:+1100
TZNAME:AEDT
DTSTART:20271002T160000
END:DAYLIGHT
END:VTIMEZONE
BEGIN:VEVENT
DTSTART;TZID=Australia/Sydney:20260329T190000
DTEND;TZID=Australia/Sydney:20260329T200000
DTSTAMP:20260423T082302
CREATED:20260218T022316Z
LAST-MODIFIED:20260218T022316Z
UID:10008826-1774810800-1774814400@www.indianlink.com.au
SUMMARY:Zain Seven LoveBomb
DESCRIPTION:  \nZain Seven is the immigrant your mum warned you about – charming\, polite and spiritually unstable. \nBorn in Pakistan\, forged in Adelaide and now terrorising Australia one punchline at a time\, Zain brings a comedy voice that is unmistakably his: brown-guy logic mixed with theological chaos\, geopolitical delusion and the kind of confidence only a man raised on cricket disappointment can have. \nIn Lovebomb\, Zain pulls apart the emotional circus of modern identity – race\, religion\, sex\, visas\, parents\, trauma\, Tinder\, God\, Jesus\, footy\, Centrelink and the indescribable smell of Harris Park – then lovingly reassembles it as a comedy grenade and throws it at the audience. \nHe talks about being Muslim but in love with Jesus\, being Pakistani but mistaken for Indian\, being cute but wishing he was funny and being an immigrant who somehow keeps ending up at every protest march purely for Uber surge pricing. \nHe’ll explain why kangaroos are just donkeys on meth\, why Pakistani cricket is a divine curse that no passport can fix\, why Australian men measure status by high schools and why brown suburbs smell like tikka masala from space. \nZain’s comedy is equal parts sharp\, shameless and stupid. One minute he’s questioning God’s HR policies\, the next he’s breaking down racism using Bunnings sausages\, and somewhere in the middle he’ll convince you that Christian Rock is a war crime. \nIt’s loud\, irreverent\, affectionate\, self-roasting and occasionally educational in ways your parents would not approve of. \nIf you like your comedians:\n– politically incorrect but oddly informed\n– brown but not the ABC-friendly kind\n– spiritual but only on sale\n– romantic but emotionally unavailable\n–chaotic but surprisingly sweet \n…then welcome.\nZain Seven is here to lovebomb you. \nJust sit down\, relax and let the red flags wash over you.\nYou already feel special\, don’t you? \nGET TICKETS HERE: Melbourne International Comedy Festival 
URL:https://www.indianlink.com.au/whats-on/zain-seven-lovebomb/2026-03-29/
LOCATION:Speakeasy Theatre- The Vault Theatre\, 522 Flinders Street\, Melbourne\, VIC\, 3000\, Australia
ATTACH;FMTTYPE=image/webp:https://p9dzm74w.tinifycdn.com/wp-content/uploads/2026/02/16311-carouselcrop-hero.webp
GEO:-37.820292;144.9569223
X-APPLE-STRUCTURED-LOCATION;VALUE=URI;X-ADDRESS=Speakeasy Theatre- The Vault Theatre 522 Flinders Street Melbourne VIC 3000 Australia;X-APPLE-RADIUS=500;X-TITLE=522 Flinders Street:geo:144.9569223,-37.820292
END:VEVENT
BEGIN:VEVENT
DTSTART;TZID=Australia/Sydney:20260328T190000
DTEND;TZID=Australia/Sydney:20260328T200000
DTSTAMP:20260423T082302
CREATED:20260218T022316Z
LAST-MODIFIED:20260218T022316Z
UID:10008825-1774724400-1774728000@www.indianlink.com.au
SUMMARY:Zain Seven LoveBomb
DESCRIPTION:  \nZain Seven is the immigrant your mum warned you about – charming\, polite and spiritually unstable. \nBorn in Pakistan\, forged in Adelaide and now terrorising Australia one punchline at a time\, Zain brings a comedy voice that is unmistakably his: brown-guy logic mixed with theological chaos\, geopolitical delusion and the kind of confidence only a man raised on cricket disappointment can have. \nIn Lovebomb\, Zain pulls apart the emotional circus of modern identity – race\, religion\, sex\, visas\, parents\, trauma\, Tinder\, God\, Jesus\, footy\, Centrelink and the indescribable smell of Harris Park – then lovingly reassembles it as a comedy grenade and throws it at the audience. \nHe talks about being Muslim but in love with Jesus\, being Pakistani but mistaken for Indian\, being cute but wishing he was funny and being an immigrant who somehow keeps ending up at every protest march purely for Uber surge pricing. \nHe’ll explain why kangaroos are just donkeys on meth\, why Pakistani cricket is a divine curse that no passport can fix\, why Australian men measure status by high schools and why brown suburbs smell like tikka masala from space. \nZain’s comedy is equal parts sharp\, shameless and stupid. One minute he’s questioning God’s HR policies\, the next he’s breaking down racism using Bunnings sausages\, and somewhere in the middle he’ll convince you that Christian Rock is a war crime. \nIt’s loud\, irreverent\, affectionate\, self-roasting and occasionally educational in ways your parents would not approve of. \nIf you like your comedians:\n– politically incorrect but oddly informed\n– brown but not the ABC-friendly kind\n– spiritual but only on sale\n– romantic but emotionally unavailable\n–chaotic but surprisingly sweet \n…then welcome.\nZain Seven is here to lovebomb you. \nJust sit down\, relax and let the red flags wash over you.\nYou already feel special\, don’t you? \nGET TICKETS HERE: Melbourne International Comedy Festival 
URL:https://www.indianlink.com.au/whats-on/zain-seven-lovebomb/2026-03-28/
LOCATION:Speakeasy Theatre- The Vault Theatre\, 522 Flinders Street\, Melbourne\, VIC\, 3000\, Australia
ATTACH;FMTTYPE=image/webp:https://p9dzm74w.tinifycdn.com/wp-content/uploads/2026/02/16311-carouselcrop-hero.webp
GEO:-37.820292;144.9569223
X-APPLE-STRUCTURED-LOCATION;VALUE=URI;X-ADDRESS=Speakeasy Theatre- The Vault Theatre 522 Flinders Street Melbourne VIC 3000 Australia;X-APPLE-RADIUS=500;X-TITLE=522 Flinders Street:geo:144.9569223,-37.820292
END:VEVENT
BEGIN:VEVENT
DTSTART;TZID=Australia/Sydney:20260327T190000
DTEND;TZID=Australia/Sydney:20260327T200000
DTSTAMP:20260423T082302
CREATED:20260218T022316Z
LAST-MODIFIED:20260218T022316Z
UID:10008824-1774638000-1774641600@www.indianlink.com.au
SUMMARY:Zain Seven LoveBomb
DESCRIPTION:  \nZain Seven is the immigrant your mum warned you about – charming\, polite and spiritually unstable. \nBorn in Pakistan\, forged in Adelaide and now terrorising Australia one punchline at a time\, Zain brings a comedy voice that is unmistakably his: brown-guy logic mixed with theological chaos\, geopolitical delusion and the kind of confidence only a man raised on cricket disappointment can have. \nIn Lovebomb\, Zain pulls apart the emotional circus of modern identity – race\, religion\, sex\, visas\, parents\, trauma\, Tinder\, God\, Jesus\, footy\, Centrelink and the indescribable smell of Harris Park – then lovingly reassembles it as a comedy grenade and throws it at the audience. \nHe talks about being Muslim but in love with Jesus\, being Pakistani but mistaken for Indian\, being cute but wishing he was funny and being an immigrant who somehow keeps ending up at every protest march purely for Uber surge pricing. \nHe’ll explain why kangaroos are just donkeys on meth\, why Pakistani cricket is a divine curse that no passport can fix\, why Australian men measure status by high schools and why brown suburbs smell like tikka masala from space. \nZain’s comedy is equal parts sharp\, shameless and stupid. One minute he’s questioning God’s HR policies\, the next he’s breaking down racism using Bunnings sausages\, and somewhere in the middle he’ll convince you that Christian Rock is a war crime. \nIt’s loud\, irreverent\, affectionate\, self-roasting and occasionally educational in ways your parents would not approve of. \nIf you like your comedians:\n– politically incorrect but oddly informed\n– brown but not the ABC-friendly kind\n– spiritual but only on sale\n– romantic but emotionally unavailable\n–chaotic but surprisingly sweet \n…then welcome.\nZain Seven is here to lovebomb you. \nJust sit down\, relax and let the red flags wash over you.\nYou already feel special\, don’t you? \nGET TICKETS HERE: Melbourne International Comedy Festival 
URL:https://www.indianlink.com.au/whats-on/zain-seven-lovebomb/2026-03-27/
LOCATION:Speakeasy Theatre- The Vault Theatre\, 522 Flinders Street\, Melbourne\, VIC\, 3000\, Australia
ATTACH;FMTTYPE=image/webp:https://p9dzm74w.tinifycdn.com/wp-content/uploads/2026/02/16311-carouselcrop-hero.webp
GEO:-37.820292;144.9569223
X-APPLE-STRUCTURED-LOCATION;VALUE=URI;X-ADDRESS=Speakeasy Theatre- The Vault Theatre 522 Flinders Street Melbourne VIC 3000 Australia;X-APPLE-RADIUS=500;X-TITLE=522 Flinders Street:geo:144.9569223,-37.820292
END:VEVENT
END:VCALENDAR