BEGIN:VCALENDAR
VERSION:2.0
PRODID:-//Indian Link - ECPv6.15.20//NONSGML v1.0//EN
CALSCALE:GREGORIAN
METHOD:PUBLISH
X-ORIGINAL-URL:https://www.indianlink.com.au
X-WR-CALDESC:Events for Indian Link
REFRESH-INTERVAL;VALUE=DURATION:PT1H
X-Robots-Tag:noindex
X-PUBLISHED-TTL:PT1H
BEGIN:VTIMEZONE
TZID:Australia/Sydney
BEGIN:STANDARD
TZOFFSETFROM:+1100
TZOFFSETTO:+1000
TZNAME:AEST
DTSTART:20250405T160000
END:STANDARD
BEGIN:DAYLIGHT
TZOFFSETFROM:+1000
TZOFFSETTO:+1100
TZNAME:AEDT
DTSTART:20251004T160000
END:DAYLIGHT
BEGIN:STANDARD
TZOFFSETFROM:+1100
TZOFFSETTO:+1000
TZNAME:AEST
DTSTART:20260404T160000
END:STANDARD
BEGIN:DAYLIGHT
TZOFFSETFROM:+1000
TZOFFSETTO:+1100
TZNAME:AEDT
DTSTART:20261003T160000
END:DAYLIGHT
BEGIN:STANDARD
TZOFFSETFROM:+1100
TZOFFSETTO:+1000
TZNAME:AEST
DTSTART:20270403T160000
END:STANDARD
BEGIN:DAYLIGHT
TZOFFSETFROM:+1000
TZOFFSETTO:+1100
TZNAME:AEDT
DTSTART:20271002T160000
END:DAYLIGHT
END:VTIMEZONE
BEGIN:VEVENT
DTSTART;VALUE=DATE:20260505
DTEND;VALUE=DATE:20260531
DTSTAMP:20260422T121258
CREATED:20260417T022536Z
LAST-MODIFIED:20260417T022536Z
UID:10008894-1777939200-1780185599@www.indianlink.com.au
SUMMARY:Rangmann Theatre Project - Colours of the Mind
DESCRIPTION:  \nWe invite you to join a theatre-based workshop series designed to support open\, respectful conversations about youth mental health. Through guided storytelling and creative activities\, we’ll explore how we can better understand and support young people’s wellbeing in a safe and inclusive space. No theatre experience needed. \n\nWho can join? \n\n\n• People aged 18+ \n\n\n• Individuals who identify as having Indian Australian heritage\, or who work in roles supporting this community \nPlease note: These workshops are not therapeutic sessions. They are a creative way to learn together\, share ideas and reshape conversations around youth mental health. \n\n\n Sign up: https://forms.office.com/r/C9bgTfhaUb\n For more information\, contact Rebecca: rebecca@enliven.org.au\n\n\n\nWe welcome you to be part of this meaningful and supportive community project. \n\n\n\n\nThank you to our partners headspace Knox\, Shakti Mental Health. \n\n\nThank you to our funder Eastern Melbourne Primary Health Network EMPHN. \n\n\nThis initiative is funded by the Australian Government under the PHN program. \n\n\nGET TICKETS HERE: Sign up here
URL:https://www.indianlink.com.au/whats-on/rangmann-theatre-project-colours-of-the-mind/
LOCATION:Southern Community Centre
ATTACH;FMTTYPE=image/jpeg:https://p9dzm74w.tinifycdn.com/wp-content/uploads/2026/04/Rangmann-Colours-of-the-Mind.jpg
END:VEVENT
END:VCALENDAR