BEGIN:VCALENDAR
VERSION:2.0
PRODID:-//Indian Link - ECPv6.15.20//NONSGML v1.0//EN
CALSCALE:GREGORIAN
METHOD:PUBLISH
X-WR-CALNAME:Indian Link
X-ORIGINAL-URL:https://www.indianlink.com.au
X-WR-CALDESC:Events for Indian Link
REFRESH-INTERVAL;VALUE=DURATION:PT1H
X-Robots-Tag:noindex
X-PUBLISHED-TTL:PT1H
BEGIN:VTIMEZONE
TZID:Australia/Sydney
BEGIN:STANDARD
TZOFFSETFROM:+1100
TZOFFSETTO:+1000
TZNAME:AEST
DTSTART:20240406T160000
END:STANDARD
BEGIN:DAYLIGHT
TZOFFSETFROM:+1000
TZOFFSETTO:+1100
TZNAME:AEDT
DTSTART:20241005T160000
END:DAYLIGHT
BEGIN:STANDARD
TZOFFSETFROM:+1100
TZOFFSETTO:+1000
TZNAME:AEST
DTSTART:20250405T160000
END:STANDARD
BEGIN:DAYLIGHT
TZOFFSETFROM:+1000
TZOFFSETTO:+1100
TZNAME:AEDT
DTSTART:20251004T160000
END:DAYLIGHT
BEGIN:STANDARD
TZOFFSETFROM:+1100
TZOFFSETTO:+1000
TZNAME:AEST
DTSTART:20260404T160000
END:STANDARD
BEGIN:DAYLIGHT
TZOFFSETFROM:+1000
TZOFFSETTO:+1100
TZNAME:AEDT
DTSTART:20261003T160000
END:DAYLIGHT
END:VTIMEZONE
BEGIN:VEVENT
DTSTART;TZID=Australia/Sydney:20250928T180000
DTEND;TZID=Australia/Sydney:20250928T193000
DTSTAMP:20260423T213640
CREATED:20250827T050143Z
LAST-MODIFIED:20250827T050143Z
UID:10008562-1759082400-1759087800@www.indianlink.com.au
SUMMARY:Halwa By Amit Tandon Live Brisbane
DESCRIPTION:Amit Tandon brings out his own take on the aging of a marriage. With every passing year\, the relationship evolves as you start picking your battles based on how committed or tired you are. The characters in these stories are real but the jokes are intentionally fictional. \nThe show is in Hindi Language. \nRegister for the event here: https://indiglo.com.au/event/halwa-amit-tandon-live-in-brisbane/
URL:https://www.indianlink.com.au/whats-on/halwa-by-amit-tandon-live-brisbane/
LOCATION:Somerville House\, Somerville House\, Graham Street\, South Brisbane Brisbane\, QLD\, Australia
ATTACH;FMTTYPE=image/png:https://p9dzm74w.tinifycdn.com/wp-content/uploads/2025/08/halwa-brisbane.png
GEO:-27.4833941;153.0245824
X-APPLE-STRUCTURED-LOCATION;VALUE=URI;X-ADDRESS=Somerville House Somerville House Graham Street South Brisbane Brisbane QLD Australia;X-APPLE-RADIUS=500;X-TITLE=Somerville House\, Graham Street\, South Brisbane Brisbane\, QLD\, Australia:geo:153.0245824,-27.4833941
END:VEVENT
END:VCALENDAR