BEGIN:VCALENDAR
VERSION:2.0
PRODID:-//Indian Link - ECPv6.15.20//NONSGML v1.0//EN
CALSCALE:GREGORIAN
METHOD:PUBLISH
X-WR-CALNAME:Indian Link
X-ORIGINAL-URL:https://www.indianlink.com.au
X-WR-CALDESC:Events for Indian Link
REFRESH-INTERVAL;VALUE=DURATION:PT1H
X-Robots-Tag:noindex
X-PUBLISHED-TTL:PT1H
BEGIN:VTIMEZONE
TZID:Australia/Sydney
BEGIN:STANDARD
TZOFFSETFROM:+1100
TZOFFSETTO:+1000
TZNAME:AEST
DTSTART:20240406T160000
END:STANDARD
BEGIN:DAYLIGHT
TZOFFSETFROM:+1000
TZOFFSETTO:+1100
TZNAME:AEDT
DTSTART:20241005T160000
END:DAYLIGHT
BEGIN:STANDARD
TZOFFSETFROM:+1100
TZOFFSETTO:+1000
TZNAME:AEST
DTSTART:20250405T160000
END:STANDARD
BEGIN:DAYLIGHT
TZOFFSETFROM:+1000
TZOFFSETTO:+1100
TZNAME:AEDT
DTSTART:20251004T160000
END:DAYLIGHT
BEGIN:STANDARD
TZOFFSETFROM:+1100
TZOFFSETTO:+1000
TZNAME:AEST
DTSTART:20260404T160000
END:STANDARD
BEGIN:DAYLIGHT
TZOFFSETFROM:+1000
TZOFFSETTO:+1100
TZNAME:AEDT
DTSTART:20261003T160000
END:DAYLIGHT
END:VTIMEZONE
BEGIN:VEVENT
DTSTART;TZID=Australia/Sydney:20250228T180000
DTEND;TZID=Australia/Sydney:20250228T210000
DTSTAMP:20260423T114941
CREATED:20250204T232523Z
LAST-MODIFIED:20250204T232523Z
UID:10002508-1740765600-1740776400@www.indianlink.com.au
SUMMARY:The Female Pope - Rakini Devi
DESCRIPTION:  \nWitness Rakini Devi ‘s powerful transformative performance\, inspired by the 10th-century Pope Joan and The Hindu Goddess Kali. This free performance protests misogyny and challenges traditional gender roles in society and religion. \nThroughout this three-hour interactive performance\, you can experience The Female Pope through meditative encounters and offer personal petitions. \nAsia TOPA is the eighth presentation and incarnation of The Female Pope. This entrancing performance has been presented in Uppsala\, Sweden\, New York\, Mexico City\, Helsinki\, and Sydney. Inspired by ancient ritual\, Devi embraces contemporary interpretations of female iconography interweaving convention and culture with art and activism. \nNote: One-on-one interactions are not suitable for children. \nFIND OUT MORE HERE: The Female Pope | Asia TOPA
URL:https://www.indianlink.com.au/whats-on/the-female-pope-rakini-devi/2025-02-28/
LOCATION:Smorgon Family Plaza\, Arts Centre\, 100 St Kilda Road\, Melbourne\, VIC\, 3004\, Australia
ATTACH;FMTTYPE=image/png:https://p9dzm74w.tinifycdn.com/wp-content/uploads/2025/02/Female-pope.png
GEO:-37.8201562;144.9679812
X-APPLE-STRUCTURED-LOCATION;VALUE=URI;X-ADDRESS=Smorgon Family Plaza Arts Centre 100 St Kilda Road Melbourne VIC 3004 Australia;X-APPLE-RADIUS=500;X-TITLE=100 St Kilda Road:geo:144.9679812,-37.8201562
END:VEVENT
BEGIN:VEVENT
DTSTART;TZID=Australia/Sydney:20250227T180000
DTEND;TZID=Australia/Sydney:20250227T210000
DTSTAMP:20260423T114941
CREATED:20250204T232523Z
LAST-MODIFIED:20250204T232523Z
UID:10002507-1740679200-1740690000@www.indianlink.com.au
SUMMARY:The Female Pope - Rakini Devi
DESCRIPTION:  \nWitness Rakini Devi ‘s powerful transformative performance\, inspired by the 10th-century Pope Joan and The Hindu Goddess Kali. This free performance protests misogyny and challenges traditional gender roles in society and religion. \nThroughout this three-hour interactive performance\, you can experience The Female Pope through meditative encounters and offer personal petitions. \nAsia TOPA is the eighth presentation and incarnation of The Female Pope. This entrancing performance has been presented in Uppsala\, Sweden\, New York\, Mexico City\, Helsinki\, and Sydney. Inspired by ancient ritual\, Devi embraces contemporary interpretations of female iconography interweaving convention and culture with art and activism. \nNote: One-on-one interactions are not suitable for children. \nFIND OUT MORE HERE: The Female Pope | Asia TOPA
URL:https://www.indianlink.com.au/whats-on/the-female-pope-rakini-devi/2025-02-27/
LOCATION:Smorgon Family Plaza\, Arts Centre\, 100 St Kilda Road\, Melbourne\, VIC\, 3004\, Australia
ATTACH;FMTTYPE=image/png:https://p9dzm74w.tinifycdn.com/wp-content/uploads/2025/02/Female-pope.png
GEO:-37.8201562;144.9679812
X-APPLE-STRUCTURED-LOCATION;VALUE=URI;X-ADDRESS=Smorgon Family Plaza Arts Centre 100 St Kilda Road Melbourne VIC 3004 Australia;X-APPLE-RADIUS=500;X-TITLE=100 St Kilda Road:geo:144.9679812,-37.8201562
END:VEVENT
END:VCALENDAR