BEGIN:VCALENDAR
VERSION:2.0
PRODID:-//Indian Link - ECPv6.15.20//NONSGML v1.0//EN
CALSCALE:GREGORIAN
METHOD:PUBLISH
X-WR-CALNAME:Indian Link
X-ORIGINAL-URL:https://www.indianlink.com.au
X-WR-CALDESC:Events for Indian Link
REFRESH-INTERVAL;VALUE=DURATION:PT1H
X-Robots-Tag:noindex
X-PUBLISHED-TTL:PT1H
BEGIN:VTIMEZONE
TZID:Australia/Sydney
BEGIN:STANDARD
TZOFFSETFROM:+1100
TZOFFSETTO:+1000
TZNAME:AEST
DTSTART:20240406T160000
END:STANDARD
BEGIN:DAYLIGHT
TZOFFSETFROM:+1000
TZOFFSETTO:+1100
TZNAME:AEDT
DTSTART:20241005T160000
END:DAYLIGHT
BEGIN:STANDARD
TZOFFSETFROM:+1100
TZOFFSETTO:+1000
TZNAME:AEST
DTSTART:20250405T160000
END:STANDARD
BEGIN:DAYLIGHT
TZOFFSETFROM:+1000
TZOFFSETTO:+1100
TZNAME:AEDT
DTSTART:20251004T160000
END:DAYLIGHT
BEGIN:STANDARD
TZOFFSETFROM:+1100
TZOFFSETTO:+1000
TZNAME:AEST
DTSTART:20260404T160000
END:STANDARD
BEGIN:DAYLIGHT
TZOFFSETFROM:+1000
TZOFFSETTO:+1100
TZNAME:AEDT
DTSTART:20261003T160000
END:DAYLIGHT
END:VTIMEZONE
BEGIN:VEVENT
DTSTART;VALUE=DATE:20250523
DTEND;VALUE=DATE:20250525
DTSTAMP:20260423T090310
CREATED:20250514T001125Z
LAST-MODIFIED:20250514T001236Z
UID:10008291-1747958400-1748131199@www.indianlink.com.au
SUMMARY:Curtains of Co-Creation by Ritika Skand Vohra
DESCRIPTION:Curtains Of Co-creation is an event exploring embroidery as a collective and dialogical practice. It invites audiences to engage with textile-making through artist talks\, hands-on workshops\, and live stitching sessions that examine the intersections of labour\, memory\, and creative agency. \nOn Friday\, 23 May (6–9 PM)\, the event opens with an artist talk where participating artists will share insights into their practice\, reflecting on the relationship between industrial and collective modes of making. This session provides an opportunity to hear different perspectives on embroidery as a cultural and political practice. Tea will be served to the audience. \nOn Saturday\, 24 May (10 AM–10 PM)\, participants can join one of three workshop sessions. These workshops will introduce mark-making exercises and embroidery techniques\, encouraging dialogue on personal and collective identity through material engagements. Participants will contribute stitches\, textures\, and symbols in response to prompts on labour and memory. Throughout the day\, conversations and making processes will be recorded through audio\, video\, and written reflections. \nA live stitching component will take place\, where the artist and participants will collaboratively weave their contributions into larger textile panels. This performative act highlights the passage of time and labour within the making process. The textile works created during the event will be photographed and archived as part of the final documentation. \nThis event is open to individuals with or without prior embroidery experience\, offering a space for creative exploration and shared making.
URL:https://www.indianlink.com.au/whats-on/curtains-of-co-creation-by-ritika-skand-vohra/
LOCATION:Shell Space\, 8 McIver St\, Brunswick\, VIC\, Australia
CATEGORIES:Arts
ATTACH;FMTTYPE=image/png:https://p9dzm74w.tinifycdn.com/wp-content/uploads/2025/05/curtains-of-co-creation-e1747181544394.png
GEO:-37.768709;144.963746
X-APPLE-STRUCTURED-LOCATION;VALUE=URI;X-ADDRESS=Shell Space 8 McIver St Brunswick VIC Australia;X-APPLE-RADIUS=500;X-TITLE=8 McIver St:geo:144.963746,-37.768709
END:VEVENT
END:VCALENDAR