BEGIN:VCALENDAR
VERSION:2.0
PRODID:-//Indian Link - ECPv6.15.20//NONSGML v1.0//EN
CALSCALE:GREGORIAN
METHOD:PUBLISH
X-ORIGINAL-URL:https://www.indianlink.com.au
X-WR-CALDESC:Events for Indian Link
REFRESH-INTERVAL;VALUE=DURATION:PT1H
X-Robots-Tag:noindex
X-PUBLISHED-TTL:PT1H
BEGIN:VTIMEZONE
TZID:Australia/Sydney
BEGIN:STANDARD
TZOFFSETFROM:+1100
TZOFFSETTO:+1000
TZNAME:AEST
DTSTART:20240406T160000
END:STANDARD
BEGIN:DAYLIGHT
TZOFFSETFROM:+1000
TZOFFSETTO:+1100
TZNAME:AEDT
DTSTART:20241005T160000
END:DAYLIGHT
BEGIN:STANDARD
TZOFFSETFROM:+1100
TZOFFSETTO:+1000
TZNAME:AEST
DTSTART:20250405T160000
END:STANDARD
BEGIN:DAYLIGHT
TZOFFSETFROM:+1000
TZOFFSETTO:+1100
TZNAME:AEDT
DTSTART:20251004T160000
END:DAYLIGHT
BEGIN:STANDARD
TZOFFSETFROM:+1100
TZOFFSETTO:+1000
TZNAME:AEST
DTSTART:20260404T160000
END:STANDARD
BEGIN:DAYLIGHT
TZOFFSETFROM:+1000
TZOFFSETTO:+1100
TZNAME:AEDT
DTSTART:20261003T160000
END:DAYLIGHT
END:VTIMEZONE
BEGIN:VEVENT
DTSTART;TZID=Australia/Sydney:20250920T190000
DTEND;TZID=Australia/Sydney:20250920T200000
DTSTAMP:20260423T141515
CREATED:20250826T050710Z
LAST-MODIFIED:20250826T050809Z
UID:10008535-1758394800-1758398400@www.indianlink.com.au
SUMMARY:An evening of heartfelt & timeless melodies - Live in Sydney 2025
DESCRIPTION:Get ready for an extraordinary evening of timeless melodies on sept 20th This musical night promises an enchanting mix of soulful tunes\, captivating rhythms\, and vibrant entertainment. \nSecure your tickets now and enjoy an evening that begins with live performances of classic and contemporary songs\, taking you on a musical journey through the ages! whose graceful movements will add a special touch to the night Adding to the magic\, a skilled belly dancer will mesmerize you with her captivating moves\, infusing the evening with exotic flair! As the night progresses\, dance the night away with an energetic ?? that will keep the celebration lively until the very last beat! \nLIVE MUSIC BACKED BY SAAZ BAND SYDNEY  \nDon’t miss out on this spectacular event! grab your tickets today and be part of an evening. \nBYO! Delicious food and Kava will be sold at the Venue \nGet your tickets here : An evening of heartfelt & timeless melodies – Live in Sydney 2025 – DryTickets.com.au
URL:https://www.indianlink.com.au/whats-on/an-evening-of-heartfelt-timeless-melodies-live-in-sydney-2025/
LOCATION:Serbian National Federation of NSW  56-58\, Bareena Street Canley Vale  NSW 2166\, 56-58\, Bareena Street Canley Vale\, Sydney\, NSW\, 2166\, Australia
ATTACH;FMTTYPE=image/png:https://p9dzm74w.tinifycdn.com/wp-content/uploads/2025/08/Capture-11.png
GEO:-33.8899491;150.9447282
X-APPLE-STRUCTURED-LOCATION;VALUE=URI;X-ADDRESS=Serbian National Federation of NSW  56-58 Bareena Street Canley Vale  NSW 2166 56-58 Bareena Street Canley Vale Sydney NSW 2166 Australia;X-APPLE-RADIUS=500;X-TITLE=56-58\, Bareena Street Canley Vale:geo:150.9447282,-33.8899491
END:VEVENT
END:VCALENDAR