BEGIN:VCALENDAR
VERSION:2.0
PRODID:-//Indian Link - ECPv6.15.20//NONSGML v1.0//EN
CALSCALE:GREGORIAN
METHOD:PUBLISH
X-WR-CALNAME:Indian Link
X-ORIGINAL-URL:https://www.indianlink.com.au
X-WR-CALDESC:Events for Indian Link
REFRESH-INTERVAL;VALUE=DURATION:PT1H
X-Robots-Tag:noindex
X-PUBLISHED-TTL:PT1H
BEGIN:VTIMEZONE
TZID:Australia/Sydney
BEGIN:STANDARD
TZOFFSETFROM:+1100
TZOFFSETTO:+1000
TZNAME:AEST
DTSTART:20240406T160000
END:STANDARD
BEGIN:DAYLIGHT
TZOFFSETFROM:+1000
TZOFFSETTO:+1100
TZNAME:AEDT
DTSTART:20241005T160000
END:DAYLIGHT
BEGIN:STANDARD
TZOFFSETFROM:+1100
TZOFFSETTO:+1000
TZNAME:AEST
DTSTART:20250405T160000
END:STANDARD
BEGIN:DAYLIGHT
TZOFFSETFROM:+1000
TZOFFSETTO:+1100
TZNAME:AEDT
DTSTART:20251004T160000
END:DAYLIGHT
BEGIN:STANDARD
TZOFFSETFROM:+1100
TZOFFSETTO:+1000
TZNAME:AEST
DTSTART:20260404T160000
END:STANDARD
BEGIN:DAYLIGHT
TZOFFSETFROM:+1000
TZOFFSETTO:+1100
TZNAME:AEDT
DTSTART:20261003T160000
END:DAYLIGHT
END:VTIMEZONE
BEGIN:VEVENT
DTSTART;TZID=Australia/Sydney:20250927T180000
DTEND;TZID=Australia/Sydney:20250927T230000
DTSTAMP:20260426T031914
CREATED:20250827T050838Z
LAST-MODIFIED:20250827T050838Z
UID:10008563-1758996000-1759014000@www.indianlink.com.au
SUMMARY:The Grand Diwali & Indian Bazaar at Sea World
DESCRIPTION:Description\nCelebrate the Festival of Lights like never before at The Grand Diwali & Indian Bazaar at Sea World – a vibrant fusion of Indian culture\, thrilling entertainment\, shopping and family fun! \nEvent Highlights\n20+ Performances featuring cultural dances\, music\, and street shows\n15+ Ethnic Stalls with handcrafted items\, gifts and traditional décor\nVariety of Indian Food Stalls & Trucks representing diverse regions of India\nDJs & Live Music to set the festive vibe\nSea World Attractions with unlimited rides and roller coasters included! \nDolphin Presentation\nExperience an exclusive Affinity Dolphin Show – witness the magical bond between dolphins and their trainers\, while learning about ocean conservation. \nWhy GRAND?\nGrand Opening Ceremony with DrummersDiwali Parade with vibrant décor & dazzling lightsIndian & Southside Drummers PerformancesKids Precinct featuring Nickelodeon ShowUnlimited Thrilling Rides & Roller CoastersHenna & Face Painting (additional cost)Pre-Diwali Shopping at the Grand Indian BazaarCultural Shops\, Sweet Stalls and a festive atmosphere for all ages \n\nGet Involved\nBe part of this iconic cultural celebration!We’re welcoming: \n\nPerforming Arts Groups\nEthnic Stall Holders\nSponsors & Display Partners\nVolunteers & Event Crew\n\nWhy You Can’t Miss This\nA one-of-a-kind Diwali Carnival at Sea World – a perfect mix of culture\, entertainment\, shopping and rides. Bring your family and friends for an unforgettable evening filled with lights\, love and laughter! \n\nRegister for the event here: https://indiglo.com.au/event/the-grand-diwali-indian-bazaar-at-sea-world/
URL:https://www.indianlink.com.au/whats-on/the-grand-diwali-indian-bazaar-at-sea-world/
LOCATION:Sea World\, Sea World\, Seaworld Dr\, Main Beach Gold Coast\, QLD\, Australia
ATTACH;FMTTYPE=image/png:https://p9dzm74w.tinifycdn.com/wp-content/uploads/2025/08/sea-world-diwali.png
GEO:-27.9607093;153.4259632
X-APPLE-STRUCTURED-LOCATION;VALUE=URI;X-ADDRESS=Sea World Sea World Seaworld Dr Main Beach Gold Coast QLD Australia;X-APPLE-RADIUS=500;X-TITLE=Sea World\, Seaworld Dr\, Main Beach Gold Coast\, QLD\, Australia:geo:153.4259632,-27.9607093
END:VEVENT
END:VCALENDAR