BEGIN:VCALENDAR
VERSION:2.0
PRODID:-//Indian Link - ECPv6.15.20//NONSGML v1.0//EN
CALSCALE:GREGORIAN
METHOD:PUBLISH
X-WR-CALNAME:Indian Link
X-ORIGINAL-URL:https://www.indianlink.com.au
X-WR-CALDESC:Events for Indian Link
REFRESH-INTERVAL;VALUE=DURATION:PT1H
X-Robots-Tag:noindex
X-PUBLISHED-TTL:PT1H
BEGIN:VTIMEZONE
TZID:Australia/Sydney
BEGIN:STANDARD
TZOFFSETFROM:+1100
TZOFFSETTO:+1000
TZNAME:AEST
DTSTART:20240406T160000
END:STANDARD
BEGIN:DAYLIGHT
TZOFFSETFROM:+1000
TZOFFSETTO:+1100
TZNAME:AEDT
DTSTART:20241005T160000
END:DAYLIGHT
BEGIN:STANDARD
TZOFFSETFROM:+1100
TZOFFSETTO:+1000
TZNAME:AEST
DTSTART:20250405T160000
END:STANDARD
BEGIN:DAYLIGHT
TZOFFSETFROM:+1000
TZOFFSETTO:+1100
TZNAME:AEDT
DTSTART:20251004T160000
END:DAYLIGHT
BEGIN:STANDARD
TZOFFSETFROM:+1100
TZOFFSETTO:+1000
TZNAME:AEST
DTSTART:20260404T160000
END:STANDARD
BEGIN:DAYLIGHT
TZOFFSETFROM:+1000
TZOFFSETTO:+1100
TZNAME:AEDT
DTSTART:20261003T160000
END:DAYLIGHT
END:VTIMEZONE
BEGIN:VEVENT
DTSTART;TZID=Australia/Sydney:20251115T183000
DTEND;TZID=Australia/Sydney:20251115T203000
DTSTAMP:20260422T234408
CREATED:20251008T015515Z
LAST-MODIFIED:20251008T015515Z
UID:10008653-1763231400-1763238600@www.indianlink.com.au
SUMMARY:'Chala Wahi Des'- The Story Of Meera Bai
DESCRIPTION:  \nAfter your overwhelming appreciation towards Tatkaar Kathak Institute’s 2023 production Abhang Ram\, we are thrilled to present our next Nritya Natika (Dance Drama) “Chala Wahi Des”- The Story Of Meera Bai\, a heartfelt journey into the inspiring devotion and love of Meera Baiji. \nThrough this performance\, we aim to bring alive the timeless tales and deep-rooted traditions of Meera Baiji\, sharing her story with the community here in Australia. These stories carry values and teachings that we hope will continue to inspire generations. \nIf we bring even a speck of her essence through our dance\, music\, and storytelling\, we will be kathakaars. We can’t wait to share this magical experience with you\, Join us for an evening filled emotion\, devotion and grace at Rowville Perfoming Arts Centre 6:30 PM. \nGET TICKETS HERE: https://www.trybooking.com/events/landing/1466173
URL:https://www.indianlink.com.au/whats-on/chala-wahi-des-the-story-of-meera-bai/
LOCATION:Rowville Performing Arts Centre\, Humphreys Way\, Rowville\, Melbourne\, VIC\, 3178\, Australia
ATTACH;FMTTYPE=image/png:https://p9dzm74w.tinifycdn.com/wp-content/uploads/2025/10/The-story-of-Meera-Bhai.png
GEO:-37.9211906;145.2646769
X-APPLE-STRUCTURED-LOCATION;VALUE=URI;X-ADDRESS=Rowville Performing Arts Centre Humphreys Way Rowville Melbourne VIC 3178 Australia;X-APPLE-RADIUS=500;X-TITLE=Humphreys Way\, Rowville:geo:145.2646769,-37.9211906
END:VEVENT
BEGIN:VEVENT
DTSTART;TZID=Australia/Sydney:20250615T170000
DTEND;TZID=Australia/Sydney:20250615T193000
DTSTAMP:20260422T234408
CREATED:20250603T044330Z
LAST-MODIFIED:20250603T044330Z
UID:10008343-1750006800-1750015800@www.indianlink.com.au
SUMMARY:InConcert Music Winter festival 2025
DESCRIPTION:  \n\n\n\n\n\n\nInConcert music invites you to the Winter festival 2025 featuring an array of top carnatic musicians and a bharatanatyam dancer from India \n\n\nConcerts are over two weekends. Some of these popular artists are performing in Melbourne for the first time. We look forward to your support and seeing you at the festival. \nGET TICKETS HERE: InConcert Music Winter Festival 2025 Tickets\, Rowville Performing Arts Centre\, Rowville | TryBooking Australia
URL:https://www.indianlink.com.au/whats-on/inconcert-music-winter-festival-2025/2025-06-15/
LOCATION:Rowville Performing Arts Centre\, Humphreys Way\, Rowville\, Melbourne\, VIC\, 3178\, Australia
ATTACH;FMTTYPE=image/jpeg:https://p9dzm74w.tinifycdn.com/wp-content/uploads/2025/06/InConcert-June-2025-flyer.jpg
GEO:-37.9211906;145.2646769
X-APPLE-STRUCTURED-LOCATION;VALUE=URI;X-ADDRESS=Rowville Performing Arts Centre Humphreys Way Rowville Melbourne VIC 3178 Australia;X-APPLE-RADIUS=500;X-TITLE=Humphreys Way\, Rowville:geo:145.2646769,-37.9211906
END:VEVENT
BEGIN:VEVENT
DTSTART;TZID=Australia/Sydney:20250614T190000
DTEND;TZID=Australia/Sydney:20250614T213000
DTSTAMP:20260422T234408
CREATED:20250603T044330Z
LAST-MODIFIED:20250603T044330Z
UID:10008342-1749927600-1749936600@www.indianlink.com.au
SUMMARY:InConcert Music Winter festival 2025
DESCRIPTION:  \n\n\n\n\n\n\nInConcert music invites you to the Winter festival 2025 featuring an array of top carnatic musicians and a bharatanatyam dancer from India \n\n\nConcerts are over two weekends. Some of these popular artists are performing in Melbourne for the first time. We look forward to your support and seeing you at the festival. \nGET TICKETS HERE: InConcert Music Winter Festival 2025 Tickets\, Rowville Performing Arts Centre\, Rowville | TryBooking Australia
URL:https://www.indianlink.com.au/whats-on/inconcert-music-winter-festival-2025/2025-06-14/2/
LOCATION:Rowville Performing Arts Centre\, Humphreys Way\, Rowville\, Melbourne\, VIC\, 3178\, Australia
ATTACH;FMTTYPE=image/jpeg:https://p9dzm74w.tinifycdn.com/wp-content/uploads/2025/06/InConcert-June-2025-flyer.jpg
GEO:-37.9211906;145.2646769
X-APPLE-STRUCTURED-LOCATION;VALUE=URI;X-ADDRESS=Rowville Performing Arts Centre Humphreys Way Rowville Melbourne VIC 3178 Australia;X-APPLE-RADIUS=500;X-TITLE=Humphreys Way\, Rowville:geo:145.2646769,-37.9211906
END:VEVENT
BEGIN:VEVENT
DTSTART;TZID=Australia/Sydney:20250614T160000
DTEND;TZID=Australia/Sydney:20250614T183000
DTSTAMP:20260422T234408
CREATED:20250603T044330Z
LAST-MODIFIED:20250603T044330Z
UID:10008341-1749916800-1749925800@www.indianlink.com.au
SUMMARY:InConcert Music Winter festival 2025
DESCRIPTION:  \n\n\n\n\n\n\nInConcert music invites you to the Winter festival 2025 featuring an array of top carnatic musicians and a bharatanatyam dancer from India \n\n\nConcerts are over two weekends. Some of these popular artists are performing in Melbourne for the first time. We look forward to your support and seeing you at the festival. \nGET TICKETS HERE: InConcert Music Winter Festival 2025 Tickets\, Rowville Performing Arts Centre\, Rowville | TryBooking Australia
URL:https://www.indianlink.com.au/whats-on/inconcert-music-winter-festival-2025/2025-06-14/1/
LOCATION:Rowville Performing Arts Centre\, Humphreys Way\, Rowville\, Melbourne\, VIC\, 3178\, Australia
ATTACH;FMTTYPE=image/jpeg:https://p9dzm74w.tinifycdn.com/wp-content/uploads/2025/06/InConcert-June-2025-flyer.jpg
GEO:-37.9211906;145.2646769
X-APPLE-STRUCTURED-LOCATION;VALUE=URI;X-ADDRESS=Rowville Performing Arts Centre Humphreys Way Rowville Melbourne VIC 3178 Australia;X-APPLE-RADIUS=500;X-TITLE=Humphreys Way\, Rowville:geo:145.2646769,-37.9211906
END:VEVENT
BEGIN:VEVENT
DTSTART;TZID=Australia/Sydney:20250609T180000
DTEND;TZID=Australia/Sydney:20250609T203000
DTSTAMP:20260422T234408
CREATED:20250603T044330Z
LAST-MODIFIED:20250603T044330Z
UID:10008340-1749492000-1749501000@www.indianlink.com.au
SUMMARY:InConcert Music Winter festival 2025
DESCRIPTION:  \n\n\n\n\n\n\nInConcert music invites you to the Winter festival 2025 featuring an array of top carnatic musicians and a bharatanatyam dancer from India \n\n\nConcerts are over two weekends. Some of these popular artists are performing in Melbourne for the first time. We look forward to your support and seeing you at the festival. \nGET TICKETS HERE: InConcert Music Winter Festival 2025 Tickets\, Rowville Performing Arts Centre\, Rowville | TryBooking Australia
URL:https://www.indianlink.com.au/whats-on/inconcert-music-winter-festival-2025/2025-06-09/2/
LOCATION:Rowville Performing Arts Centre\, Humphreys Way\, Rowville\, Melbourne\, VIC\, 3178\, Australia
ATTACH;FMTTYPE=image/jpeg:https://p9dzm74w.tinifycdn.com/wp-content/uploads/2025/06/InConcert-June-2025-flyer.jpg
GEO:-37.9211906;145.2646769
X-APPLE-STRUCTURED-LOCATION;VALUE=URI;X-ADDRESS=Rowville Performing Arts Centre Humphreys Way Rowville Melbourne VIC 3178 Australia;X-APPLE-RADIUS=500;X-TITLE=Humphreys Way\, Rowville:geo:145.2646769,-37.9211906
END:VEVENT
BEGIN:VEVENT
DTSTART;TZID=Australia/Sydney:20250609T160000
DTEND;TZID=Australia/Sydney:20250609T173000
DTSTAMP:20260422T234408
CREATED:20250603T044330Z
LAST-MODIFIED:20250603T044330Z
UID:10008339-1749484800-1749490200@www.indianlink.com.au
SUMMARY:InConcert Music Winter festival 2025
DESCRIPTION:  \n\n\n\n\n\n\nInConcert music invites you to the Winter festival 2025 featuring an array of top carnatic musicians and a bharatanatyam dancer from India \n\n\nConcerts are over two weekends. Some of these popular artists are performing in Melbourne for the first time. We look forward to your support and seeing you at the festival. \nGET TICKETS HERE: InConcert Music Winter Festival 2025 Tickets\, Rowville Performing Arts Centre\, Rowville | TryBooking Australia
URL:https://www.indianlink.com.au/whats-on/inconcert-music-winter-festival-2025/2025-06-09/1/
LOCATION:Rowville Performing Arts Centre\, Humphreys Way\, Rowville\, Melbourne\, VIC\, 3178\, Australia
ATTACH;FMTTYPE=image/jpeg:https://p9dzm74w.tinifycdn.com/wp-content/uploads/2025/06/InConcert-June-2025-flyer.jpg
GEO:-37.9211906;145.2646769
X-APPLE-STRUCTURED-LOCATION;VALUE=URI;X-ADDRESS=Rowville Performing Arts Centre Humphreys Way Rowville Melbourne VIC 3178 Australia;X-APPLE-RADIUS=500;X-TITLE=Humphreys Way\, Rowville:geo:145.2646769,-37.9211906
END:VEVENT
END:VCALENDAR