BEGIN:VCALENDAR
VERSION:2.0
PRODID:-//Indian Link - ECPv6.15.20//NONSGML v1.0//EN
CALSCALE:GREGORIAN
METHOD:PUBLISH
X-WR-CALNAME:Indian Link
X-ORIGINAL-URL:https://www.indianlink.com.au
X-WR-CALDESC:Events for Indian Link
REFRESH-INTERVAL;VALUE=DURATION:PT1H
X-Robots-Tag:noindex
X-PUBLISHED-TTL:PT1H
BEGIN:VTIMEZONE
TZID:Australia/Sydney
BEGIN:STANDARD
TZOFFSETFROM:+1100
TZOFFSETTO:+1000
TZNAME:AEST
DTSTART:20240406T160000
END:STANDARD
BEGIN:DAYLIGHT
TZOFFSETFROM:+1000
TZOFFSETTO:+1100
TZNAME:AEDT
DTSTART:20241005T160000
END:DAYLIGHT
BEGIN:STANDARD
TZOFFSETFROM:+1100
TZOFFSETTO:+1000
TZNAME:AEST
DTSTART:20250405T160000
END:STANDARD
BEGIN:DAYLIGHT
TZOFFSETFROM:+1000
TZOFFSETTO:+1100
TZNAME:AEDT
DTSTART:20251004T160000
END:DAYLIGHT
BEGIN:STANDARD
TZOFFSETFROM:+1100
TZOFFSETTO:+1000
TZNAME:AEST
DTSTART:20260404T160000
END:STANDARD
BEGIN:DAYLIGHT
TZOFFSETFROM:+1000
TZOFFSETTO:+1100
TZNAME:AEDT
DTSTART:20261003T160000
END:DAYLIGHT
END:VTIMEZONE
BEGIN:VEVENT
DTSTART;TZID=Australia/Sydney:20250905T210000
DTEND;TZID=Australia/Sydney:20250906T040000
DTSTAMP:20260423T102959
CREATED:20250827T014201Z
LAST-MODIFIED:20250827T014201Z
UID:10008550-1757106000-1757131200@www.indianlink.com.au
SUMMARY:The Big Fat Indian Wedding
DESCRIPTION:Sydney’s biggest Indian wedding—filled with vibrant rituals\, Bollywood beats\, energetic dholis\, colourful mehendi\, endless fun & much more! \nBook your tickets here: https://www.eventbrite.com/e/the-big-fat-indian-wedding-tickets-1580487333159?aff=ebdssbdestsearch&keep_tld=1
URL:https://www.indianlink.com.au/whats-on/the-big-fat-indian-wedding/
LOCATION:Room 22 Potts Point\, 22 Bayswater Road Potts Point\, NSW 2011
ATTACH;FMTTYPE=image/png:https://p9dzm74w.tinifycdn.com/wp-content/uploads/2025/08/a-big-fat-indian-wedding.png
GEO:-33.8747989;151.2239339
X-APPLE-STRUCTURED-LOCATION;VALUE=URI;X-ADDRESS=Room 22 Potts Point 22 Bayswater Road Potts Point NSW 2011;X-APPLE-RADIUS=500;X-TITLE=22 Bayswater Road Potts Point\, NSW 2011:geo:151.2239339,-33.8747989
END:VEVENT
END:VCALENDAR