BEGIN:VCALENDAR
VERSION:2.0
PRODID:-//Indian Link - ECPv6.15.20//NONSGML v1.0//EN
CALSCALE:GREGORIAN
METHOD:PUBLISH
X-WR-CALNAME:Indian Link
X-ORIGINAL-URL:https://www.indianlink.com.au
X-WR-CALDESC:Events for Indian Link
REFRESH-INTERVAL;VALUE=DURATION:PT1H
X-Robots-Tag:noindex
X-PUBLISHED-TTL:PT1H
BEGIN:VTIMEZONE
TZID:Australia/Sydney
BEGIN:STANDARD
TZOFFSETFROM:+1100
TZOFFSETTO:+1000
TZNAME:AEST
DTSTART:20240406T160000
END:STANDARD
BEGIN:DAYLIGHT
TZOFFSETFROM:+1000
TZOFFSETTO:+1100
TZNAME:AEDT
DTSTART:20241005T160000
END:DAYLIGHT
BEGIN:STANDARD
TZOFFSETFROM:+1100
TZOFFSETTO:+1000
TZNAME:AEST
DTSTART:20250405T160000
END:STANDARD
BEGIN:DAYLIGHT
TZOFFSETFROM:+1000
TZOFFSETTO:+1100
TZNAME:AEDT
DTSTART:20251004T160000
END:DAYLIGHT
BEGIN:STANDARD
TZOFFSETFROM:+1100
TZOFFSETTO:+1000
TZNAME:AEST
DTSTART:20260404T160000
END:STANDARD
BEGIN:DAYLIGHT
TZOFFSETFROM:+1000
TZOFFSETTO:+1100
TZNAME:AEDT
DTSTART:20261003T160000
END:DAYLIGHT
END:VTIMEZONE
BEGIN:VEVENT
DTSTART;TZID=Australia/Sydney:20250228T190000
DTEND;TZID=Australia/Sydney:20250228T213000
DTSTAMP:20260423T022849
CREATED:20241211T004301Z
LAST-MODIFIED:20241211T004301Z
UID:10002424-1740769200-1740778200@www.indianlink.com.au
SUMMARY:AP Dhillon - LIVE in Melbourne
DESCRIPTION:Canadian-Punjabi sensation AP Dhillon is bringing The Brownprint Tour to Australia this February 2025! 🎤✨ \nWith hits like Excuses and Brown Munde\, Dhillon has taken the world by storm\, becoming the most streamed Punjabi artist globally. 🎶🔥 This is your chance to experience his chart-topping album The Brownprint LIVE for the first time on Aussie soil. \nYou don’t want to miss out!
URL:https://www.indianlink.com.au/whats-on/ap-dhillon-live-in-melbourne/
LOCATION:Rod Laver Arena\, 200 Batman Ave\, Melbourne\, VIC\, 3004\, Australia
CATEGORIES:Happening in Melbourne
ATTACH;FMTTYPE=image/jpeg:https://p9dzm74w.tinifycdn.com/wp-content/uploads/2024/12/AP-Dhillon-tour.jpg
GEO:-37.8240199;144.9875354
X-APPLE-STRUCTURED-LOCATION;VALUE=URI;X-ADDRESS=Rod Laver Arena 200 Batman Ave Melbourne VIC 3004 Australia;X-APPLE-RADIUS=500;X-TITLE=200 Batman Ave:geo:144.9875354,-37.8240199
END:VEVENT
END:VCALENDAR