BEGIN:VCALENDAR
VERSION:2.0
PRODID:-//Indian Link - ECPv6.15.20//NONSGML v1.0//EN
CALSCALE:GREGORIAN
METHOD:PUBLISH
X-WR-CALNAME:Indian Link
X-ORIGINAL-URL:https://www.indianlink.com.au
X-WR-CALDESC:Events for Indian Link
REFRESH-INTERVAL;VALUE=DURATION:PT1H
X-Robots-Tag:noindex
X-PUBLISHED-TTL:PT1H
BEGIN:VTIMEZONE
TZID:Australia/Sydney
BEGIN:STANDARD
TZOFFSETFROM:+1100
TZOFFSETTO:+1000
TZNAME:AEST
DTSTART:20250405T160000
END:STANDARD
BEGIN:DAYLIGHT
TZOFFSETFROM:+1000
TZOFFSETTO:+1100
TZNAME:AEDT
DTSTART:20251004T160000
END:DAYLIGHT
BEGIN:STANDARD
TZOFFSETFROM:+1100
TZOFFSETTO:+1000
TZNAME:AEST
DTSTART:20260404T160000
END:STANDARD
BEGIN:DAYLIGHT
TZOFFSETFROM:+1000
TZOFFSETTO:+1100
TZNAME:AEDT
DTSTART:20261003T160000
END:DAYLIGHT
BEGIN:STANDARD
TZOFFSETFROM:+1100
TZOFFSETTO:+1000
TZNAME:AEST
DTSTART:20270403T160000
END:STANDARD
BEGIN:DAYLIGHT
TZOFFSETFROM:+1000
TZOFFSETTO:+1100
TZNAME:AEDT
DTSTART:20271002T160000
END:DAYLIGHT
END:VTIMEZONE
BEGIN:VEVENT
DTSTART;TZID=Australia/Sydney:20260517T180000
DTEND;TZID=Australia/Sydney:20260517T193000
DTSTAMP:20260423T021754
CREATED:20260210T043736Z
LAST-MODIFIED:20260210T043736Z
UID:10008776-1779040800-1779046200@www.indianlink.com.au
SUMMARY:Ashwyn Singh: Wrong Singh to Say - Adelaide
DESCRIPTION:  \nAshwyn Singh is a standup comedian\, musician\, and writer whose work blends incisive humor with heartfelt social commentary. An Indian immigrant turned Canadian resident\, Ashwyn draws on his unique perspective to explore themes of cultural identity\, immigration\, and family with wit and relatability.  Ashwyn’s standup comedy tackles social issues like immigration\, religion\, politics\, mental health\, and global conflicts\, highlighting the hypocrisy in human behavior with sharp humor. His viral Desi Translations series\, which has over 40 million views\, celebrates the artistry of Hindi and Urdu lyrics by reinterpreting everyday English phrases.  Featured on Canada’s Got Talent\, CBC’s The Debaters\, and major comedy festivals like Winnipeg and Halifax\, Ashwyn has opened for acclaimed acts such as Mark Normand\, Sammy Obeid\, and Zarna Garg\, establishing himself as a standout talent in comedy.  \nGET TICKETS HERE: Eventbrite
URL:https://www.indianlink.com.au/whats-on/ashwyn-singh-wrong-singh-to-say-adelaide/
LOCATION:Rhino Room\, 1/131 Pirie St.\, Adelaide\, SA\, 5000\, Australia
ATTACH;FMTTYPE=image/png:https://p9dzm74w.tinifycdn.com/wp-content/uploads/2026/02/Ashwyn-Singh.png
GEO:-34.9255994;138.6046291
X-APPLE-STRUCTURED-LOCATION;VALUE=URI;X-ADDRESS=Rhino Room 1/131 Pirie St. Adelaide SA 5000 Australia;X-APPLE-RADIUS=500;X-TITLE=1/131 Pirie St.:geo:138.6046291,-34.9255994
END:VEVENT
END:VCALENDAR