BEGIN:VCALENDAR
VERSION:2.0
PRODID:-//Indian Link - ECPv6.15.20//NONSGML v1.0//EN
CALSCALE:GREGORIAN
METHOD:PUBLISH
X-ORIGINAL-URL:https://www.indianlink.com.au
X-WR-CALDESC:Events for Indian Link
REFRESH-INTERVAL;VALUE=DURATION:PT1H
X-Robots-Tag:noindex
X-PUBLISHED-TTL:PT1H
BEGIN:VTIMEZONE
TZID:Australia/Sydney
BEGIN:STANDARD
TZOFFSETFROM:+1100
TZOFFSETTO:+1000
TZNAME:AEST
DTSTART:20240406T160000
END:STANDARD
BEGIN:DAYLIGHT
TZOFFSETFROM:+1000
TZOFFSETTO:+1100
TZNAME:AEDT
DTSTART:20241005T160000
END:DAYLIGHT
BEGIN:STANDARD
TZOFFSETFROM:+1100
TZOFFSETTO:+1000
TZNAME:AEST
DTSTART:20250405T160000
END:STANDARD
BEGIN:DAYLIGHT
TZOFFSETFROM:+1000
TZOFFSETTO:+1100
TZNAME:AEDT
DTSTART:20251004T160000
END:DAYLIGHT
BEGIN:STANDARD
TZOFFSETFROM:+1100
TZOFFSETTO:+1000
TZNAME:AEST
DTSTART:20260404T160000
END:STANDARD
BEGIN:DAYLIGHT
TZOFFSETFROM:+1000
TZOFFSETTO:+1100
TZNAME:AEDT
DTSTART:20261003T160000
END:DAYLIGHT
END:VTIMEZONE
BEGIN:VEVENT
DTSTART;TZID=Australia/Sydney:20250518T190000
DTEND;TZID=Australia/Sydney:20250518T210000
DTSTAMP:20260423T081951
CREATED:20250515T025901Z
LAST-MODIFIED:20250515T025901Z
UID:10008311-1747594800-1747602000@www.indianlink.com.au
SUMMARY:Ashwyn Singh The Audacity 2025 Live in Adelaide
DESCRIPTION:  \nAshwyn Singh is an Indian-immigrant-turned-standup-comedian\, and he’s been delivering intelligent\, witty\, poignant comedy ever since. Ashwyn has toured across the world and opened for acclaimed acts such as Mark Normand\, Sammy Obeid\, and Zarna Garg. \nAshwyn’s Desi Translations series has racked up over 40M views\, with his comedy earning him a spotlight at Canada’s Got Talent\, major festivals and sold out shows across India and Canada. \nGET TICKETS HERE: Ashwyn Singh The Audacity 2025 Live in Adelaide – DryTickets.com.au
URL:https://www.indianlink.com.au/whats-on/ashwyn-singh-the-audacity-2025-live-in-adelaide/
LOCATION:Rhino Room\, 1/131 Pirie St.\, Adelaide\, SA\, 5000\, Australia
ATTACH;FMTTYPE=image/png:https://p9dzm74w.tinifycdn.com/wp-content/uploads/2025/05/wHATS-ON.png
GEO:-34.9255994;138.6046291
X-APPLE-STRUCTURED-LOCATION;VALUE=URI;X-ADDRESS=Rhino Room 1/131 Pirie St. Adelaide SA 5000 Australia;X-APPLE-RADIUS=500;X-TITLE=1/131 Pirie St.:geo:138.6046291,-34.9255994
END:VEVENT
BEGIN:VEVENT
DTSTART;TZID=Australia/Sydney:20250322T203000
DTEND;TZID=Australia/Sydney:20250322T230000
DTSTAMP:20260423T081951
CREATED:20241203T015343Z
LAST-MODIFIED:20241203T015343Z
UID:10002412-1742675400-1742684400@www.indianlink.com.au
SUMMARY:Nazeem Hussain - You Paid For This
DESCRIPTION:  \nAge Restrictions: 15+ \n\n“This is the official bio for my brand new show You Paid for This. Not to be confused with any of the fakes ones out there. I had to write this bio myself\, which really threw my morning plans. I thought coming up with the title was the hard part\, but writing a 150 word biography about a comedy show I haven’t performed yet is really hard. It’s called You Paid for This\, and yes\, I’m aware you likely haven’t actually paid yet. It’s what we call in the biz “presumptive selling”. A bold\, but risky move. The show does what the title suggests\, presuming you buy a ticket. I can’t promise much beyond an hour of jokes\, sponsored by you. You haven’t paid yet\, but we both know it’s only a matter of time. See you there! \nMy Live Nation members can secure tickets first during the pre-sale beginning Thursday 14 November\, 10am. To access presale tickets through the Live Nation presale\, register with My Live Nation. Registration is free. When presale starts\, log in to your account and click BUY TICKETS. No presale code needed. \nLooking for Accessible tickets? All accessible tickets need to be purchased directly by the ticketing agent’s accessible hotline or form. \nHave further accessible queries? Email us at Accessibilty@livenation.com.au \n\nGET TICKETS HERE: You Paid for This
URL:https://www.indianlink.com.au/whats-on/nazeem-hussain-you-paid-for-this-3/
LOCATION:Rhino Room\, 1/131 Pirie St.\, Adelaide\, SA\, 5000\, Australia
ATTACH;FMTTYPE=image/jpeg:https://p9dzm74w.tinifycdn.com/wp-content/uploads/2024/12/Nazeem-Hussain-1.jpg
GEO:-34.9255994;138.6046291
X-APPLE-STRUCTURED-LOCATION;VALUE=URI;X-ADDRESS=Rhino Room 1/131 Pirie St. Adelaide SA 5000 Australia;X-APPLE-RADIUS=500;X-TITLE=1/131 Pirie St.:geo:138.6046291,-34.9255994
END:VEVENT
BEGIN:VEVENT
DTSTART;TZID=Australia/Sydney:20250311T203000
DTEND;TZID=Australia/Sydney:20250311T230000
DTSTAMP:20260423T081951
CREATED:20241203T014808Z
LAST-MODIFIED:20241203T015011Z
UID:10002252-1741725000-1741734000@www.indianlink.com.au
SUMMARY:Nazeem Hussain - You Paid For This
DESCRIPTION:  \nAge Restrictions: 15+ \n\n“This is the official bio for my brand new show You Paid for This. Not to be confused with any of the fakes ones out there. I had to write this bio myself\, which really threw my morning plans. I thought coming up with the title was the hard part\, but writing a 150 word biography about a comedy show I haven’t performed yet is really hard. It’s called You Paid for This\, and yes\, I’m aware you likely haven’t actually paid yet. It’s what we call in the biz “presumptive selling”. A bold\, but risky move. The show does what the title suggests\, presuming you buy a ticket. I can’t promise much beyond an hour of jokes\, sponsored by you. You haven’t paid yet\, but we both know it’s only a matter of time. See you there! \nMy Live Nation members can secure tickets first during the pre-sale beginning Thursday 14 November\, 10am. To access presale tickets through the Live Nation presale\, register with My Live Nation. Registration is free. When presale starts\, log in to your account and click BUY TICKETS. No presale code needed. \nLooking for Accessible tickets? All accessible tickets need to be purchased directly by the ticketing agent’s accessible hotline or form. \nHave further accessible queries? Email us at Accessibilty@livenation.com.au \n\nGET TICKETS HERE: You Paid for This
URL:https://www.indianlink.com.au/whats-on/nazeem-hussain-you-paid-for-this-2/
LOCATION:Rhino Room\, 1/131 Pirie St.\, Adelaide\, SA\, 5000\, Australia
ATTACH;FMTTYPE=image/jpeg:https://p9dzm74w.tinifycdn.com/wp-content/uploads/2024/12/Nazeem-Hussain.jpg
GEO:-34.9255994;138.6046291
X-APPLE-STRUCTURED-LOCATION;VALUE=URI;X-ADDRESS=Rhino Room 1/131 Pirie St. Adelaide SA 5000 Australia;X-APPLE-RADIUS=500;X-TITLE=1/131 Pirie St.:geo:138.6046291,-34.9255994
END:VEVENT
END:VCALENDAR