BEGIN:VCALENDAR
VERSION:2.0
PRODID:-//Indian Link - ECPv6.15.20//NONSGML v1.0//EN
CALSCALE:GREGORIAN
METHOD:PUBLISH
X-WR-CALNAME:Indian Link
X-ORIGINAL-URL:https://www.indianlink.com.au
X-WR-CALDESC:Events for Indian Link
REFRESH-INTERVAL;VALUE=DURATION:PT1H
X-Robots-Tag:noindex
X-PUBLISHED-TTL:PT1H
BEGIN:VTIMEZONE
TZID:Australia/Sydney
BEGIN:STANDARD
TZOFFSETFROM:+1100
TZOFFSETTO:+1000
TZNAME:AEST
DTSTART:20240406T160000
END:STANDARD
BEGIN:DAYLIGHT
TZOFFSETFROM:+1000
TZOFFSETTO:+1100
TZNAME:AEDT
DTSTART:20241005T160000
END:DAYLIGHT
BEGIN:STANDARD
TZOFFSETFROM:+1100
TZOFFSETTO:+1000
TZNAME:AEST
DTSTART:20250405T160000
END:STANDARD
BEGIN:DAYLIGHT
TZOFFSETFROM:+1000
TZOFFSETTO:+1100
TZNAME:AEDT
DTSTART:20251004T160000
END:DAYLIGHT
BEGIN:STANDARD
TZOFFSETFROM:+1100
TZOFFSETTO:+1000
TZNAME:AEST
DTSTART:20260404T160000
END:STANDARD
BEGIN:DAYLIGHT
TZOFFSETFROM:+1000
TZOFFSETTO:+1100
TZNAME:AEDT
DTSTART:20261003T160000
END:DAYLIGHT
END:VTIMEZONE
BEGIN:VEVENT
DTSTART;TZID=Australia/Sydney:20250921T150000
DTEND;TZID=Australia/Sydney:20250921T160000
DTSTAMP:20260423T121701
CREATED:20250820T032551Z
LAST-MODIFIED:20250820T032551Z
UID:10008463-1758466800-1758470400@www.indianlink.com.au
SUMMARY:And What Will People Say? - Sydney Fringe Festival
DESCRIPTION:A powerful fusion of Indian dance\, music\, and poetry\, this immersive theatre work confronts domestic violence with raw honesty\, cultural depth\, and the courage to discuss uncomfortable truths.\nWhat happens when silence is survival—but speaking out is freedom? \nAnd What Will People Say? is an electrifying 60-minute immersive theatre experience that blends Indian dance\, original music\, and spoken word to explore the unspoken realities of domestic violence within families and communities. Told through the eyes of a mother and her children\, this powerful piece invites audiences into a deeply personal journey of love\, fear\, shame\, and resilience. \nRooted in real experiences and shaped by the voices too often left out of the conversation\, the production challenges cultural stigma and generational silence. It exposes the hidden stories that echo behind closed doors\, those shaped not only by violence itself\, but by the social pressures that keep people quiet. It is a story of pain but also of courage\, hope\, and radical truth-telling. \nCombining traditional storytelling with a bold contemporary narrative\, this show is a call to listen and a call to act. Through immersive staging\, live performance\, and a hauntingly beautiful original score\, audiences are not just spectators\, they are witnesses. \nWhether you’ve lived this story\, know someone who has\, or are just beginning to understand the complexities of domestic violence\, And What Will People Say? offers a space for reflection\, recognition\, and connection. \nThis is more than theatre. This is a conversation our communities need to have. And it starts here. \nContent Note: This production contains references to domestic violence. \nAccessibility: TBC \nGet your tickets here: https://sydneyfringe.com/events/and-what-will-people-say/
URL:https://www.indianlink.com.au/whats-on/and-what-will-people-say-sydney-fringe-festival/2025-09-21/
LOCATION:Pottery Lane Performance Space\, 1 Pottery Lane\, Lane Cove\, Lane Cove\, Sydney\, NSW\, 2066\, Australia
ATTACH;FMTTYPE=image/png:https://p9dzm74w.tinifycdn.com/wp-content/uploads/2025/08/And-What-Will-People-Say.png
GEO:-33.8138325;151.1707237
X-APPLE-STRUCTURED-LOCATION;VALUE=URI;X-ADDRESS=Pottery Lane Performance Space 1 Pottery Lane Lane Cove Lane Cove Sydney NSW 2066 Australia;X-APPLE-RADIUS=500;X-TITLE=1 Pottery Lane\, Lane Cove\, Lane Cove:geo:151.1707237,-33.8138325
END:VEVENT
BEGIN:VEVENT
DTSTART;TZID=Australia/Sydney:20250920T170000
DTEND;TZID=Australia/Sydney:20250920T180000
DTSTAMP:20260423T121701
CREATED:20250820T032551Z
LAST-MODIFIED:20250820T032551Z
UID:10008462-1758387600-1758391200@www.indianlink.com.au
SUMMARY:And What Will People Say? - Sydney Fringe Festival
DESCRIPTION:A powerful fusion of Indian dance\, music\, and poetry\, this immersive theatre work confronts domestic violence with raw honesty\, cultural depth\, and the courage to discuss uncomfortable truths.\nWhat happens when silence is survival—but speaking out is freedom? \nAnd What Will People Say? is an electrifying 60-minute immersive theatre experience that blends Indian dance\, original music\, and spoken word to explore the unspoken realities of domestic violence within families and communities. Told through the eyes of a mother and her children\, this powerful piece invites audiences into a deeply personal journey of love\, fear\, shame\, and resilience. \nRooted in real experiences and shaped by the voices too often left out of the conversation\, the production challenges cultural stigma and generational silence. It exposes the hidden stories that echo behind closed doors\, those shaped not only by violence itself\, but by the social pressures that keep people quiet. It is a story of pain but also of courage\, hope\, and radical truth-telling. \nCombining traditional storytelling with a bold contemporary narrative\, this show is a call to listen and a call to act. Through immersive staging\, live performance\, and a hauntingly beautiful original score\, audiences are not just spectators\, they are witnesses. \nWhether you’ve lived this story\, know someone who has\, or are just beginning to understand the complexities of domestic violence\, And What Will People Say? offers a space for reflection\, recognition\, and connection. \nThis is more than theatre. This is a conversation our communities need to have. And it starts here. \nContent Note: This production contains references to domestic violence. \nAccessibility: TBC \nGet your tickets here: https://sydneyfringe.com/events/and-what-will-people-say/
URL:https://www.indianlink.com.au/whats-on/and-what-will-people-say-sydney-fringe-festival/2025-09-20/
LOCATION:Pottery Lane Performance Space\, 1 Pottery Lane\, Lane Cove\, Lane Cove\, Sydney\, NSW\, 2066\, Australia
ATTACH;FMTTYPE=image/png:https://p9dzm74w.tinifycdn.com/wp-content/uploads/2025/08/And-What-Will-People-Say.png
GEO:-33.8138325;151.1707237
X-APPLE-STRUCTURED-LOCATION;VALUE=URI;X-ADDRESS=Pottery Lane Performance Space 1 Pottery Lane Lane Cove Lane Cove Sydney NSW 2066 Australia;X-APPLE-RADIUS=500;X-TITLE=1 Pottery Lane\, Lane Cove\, Lane Cove:geo:151.1707237,-33.8138325
END:VEVENT
BEGIN:VEVENT
DTSTART;TZID=Australia/Sydney:20250919T190000
DTEND;TZID=Australia/Sydney:20250919T200000
DTSTAMP:20260423T121701
CREATED:20250820T032551Z
LAST-MODIFIED:20250820T032551Z
UID:10008461-1758308400-1758312000@www.indianlink.com.au
SUMMARY:And What Will People Say? - Sydney Fringe Festival
DESCRIPTION:A powerful fusion of Indian dance\, music\, and poetry\, this immersive theatre work confronts domestic violence with raw honesty\, cultural depth\, and the courage to discuss uncomfortable truths.\nWhat happens when silence is survival—but speaking out is freedom? \nAnd What Will People Say? is an electrifying 60-minute immersive theatre experience that blends Indian dance\, original music\, and spoken word to explore the unspoken realities of domestic violence within families and communities. Told through the eyes of a mother and her children\, this powerful piece invites audiences into a deeply personal journey of love\, fear\, shame\, and resilience. \nRooted in real experiences and shaped by the voices too often left out of the conversation\, the production challenges cultural stigma and generational silence. It exposes the hidden stories that echo behind closed doors\, those shaped not only by violence itself\, but by the social pressures that keep people quiet. It is a story of pain but also of courage\, hope\, and radical truth-telling. \nCombining traditional storytelling with a bold contemporary narrative\, this show is a call to listen and a call to act. Through immersive staging\, live performance\, and a hauntingly beautiful original score\, audiences are not just spectators\, they are witnesses. \nWhether you’ve lived this story\, know someone who has\, or are just beginning to understand the complexities of domestic violence\, And What Will People Say? offers a space for reflection\, recognition\, and connection. \nThis is more than theatre. This is a conversation our communities need to have. And it starts here. \nContent Note: This production contains references to domestic violence. \nAccessibility: TBC \nGet your tickets here: https://sydneyfringe.com/events/and-what-will-people-say/
URL:https://www.indianlink.com.au/whats-on/and-what-will-people-say-sydney-fringe-festival/2025-09-19/
LOCATION:Pottery Lane Performance Space\, 1 Pottery Lane\, Lane Cove\, Lane Cove\, Sydney\, NSW\, 2066\, Australia
ATTACH;FMTTYPE=image/png:https://p9dzm74w.tinifycdn.com/wp-content/uploads/2025/08/And-What-Will-People-Say.png
GEO:-33.8138325;151.1707237
X-APPLE-STRUCTURED-LOCATION;VALUE=URI;X-ADDRESS=Pottery Lane Performance Space 1 Pottery Lane Lane Cove Lane Cove Sydney NSW 2066 Australia;X-APPLE-RADIUS=500;X-TITLE=1 Pottery Lane\, Lane Cove\, Lane Cove:geo:151.1707237,-33.8138325
END:VEVENT
BEGIN:VEVENT
DTSTART;TZID=Australia/Sydney:20250918T190000
DTEND;TZID=Australia/Sydney:20250918T200000
DTSTAMP:20260423T121701
CREATED:20250820T032551Z
LAST-MODIFIED:20250820T032551Z
UID:10008460-1758222000-1758225600@www.indianlink.com.au
SUMMARY:And What Will People Say? - Sydney Fringe Festival
DESCRIPTION:A powerful fusion of Indian dance\, music\, and poetry\, this immersive theatre work confronts domestic violence with raw honesty\, cultural depth\, and the courage to discuss uncomfortable truths.\nWhat happens when silence is survival—but speaking out is freedom? \nAnd What Will People Say? is an electrifying 60-minute immersive theatre experience that blends Indian dance\, original music\, and spoken word to explore the unspoken realities of domestic violence within families and communities. Told through the eyes of a mother and her children\, this powerful piece invites audiences into a deeply personal journey of love\, fear\, shame\, and resilience. \nRooted in real experiences and shaped by the voices too often left out of the conversation\, the production challenges cultural stigma and generational silence. It exposes the hidden stories that echo behind closed doors\, those shaped not only by violence itself\, but by the social pressures that keep people quiet. It is a story of pain but also of courage\, hope\, and radical truth-telling. \nCombining traditional storytelling with a bold contemporary narrative\, this show is a call to listen and a call to act. Through immersive staging\, live performance\, and a hauntingly beautiful original score\, audiences are not just spectators\, they are witnesses. \nWhether you’ve lived this story\, know someone who has\, or are just beginning to understand the complexities of domestic violence\, And What Will People Say? offers a space for reflection\, recognition\, and connection. \nThis is more than theatre. This is a conversation our communities need to have. And it starts here. \nContent Note: This production contains references to domestic violence. \nAccessibility: TBC \nGet your tickets here: https://sydneyfringe.com/events/and-what-will-people-say/
URL:https://www.indianlink.com.au/whats-on/and-what-will-people-say-sydney-fringe-festival/2025-09-18/
LOCATION:Pottery Lane Performance Space\, 1 Pottery Lane\, Lane Cove\, Lane Cove\, Sydney\, NSW\, 2066\, Australia
ATTACH;FMTTYPE=image/png:https://p9dzm74w.tinifycdn.com/wp-content/uploads/2025/08/And-What-Will-People-Say.png
GEO:-33.8138325;151.1707237
X-APPLE-STRUCTURED-LOCATION;VALUE=URI;X-ADDRESS=Pottery Lane Performance Space 1 Pottery Lane Lane Cove Lane Cove Sydney NSW 2066 Australia;X-APPLE-RADIUS=500;X-TITLE=1 Pottery Lane\, Lane Cove\, Lane Cove:geo:151.1707237,-33.8138325
END:VEVENT
BEGIN:VEVENT
DTSTART;TZID=Australia/Sydney:20250917T190000
DTEND;TZID=Australia/Sydney:20250917T190000
DTSTAMP:20260423T121701
CREATED:20250820T032551Z
LAST-MODIFIED:20250820T032551Z
UID:10008459-1758135600-1758135600@www.indianlink.com.au
SUMMARY:And What Will People Say? - Sydney Fringe Festival
DESCRIPTION:A powerful fusion of Indian dance\, music\, and poetry\, this immersive theatre work confronts domestic violence with raw honesty\, cultural depth\, and the courage to discuss uncomfortable truths.\nWhat happens when silence is survival—but speaking out is freedom? \nAnd What Will People Say? is an electrifying 60-minute immersive theatre experience that blends Indian dance\, original music\, and spoken word to explore the unspoken realities of domestic violence within families and communities. Told through the eyes of a mother and her children\, this powerful piece invites audiences into a deeply personal journey of love\, fear\, shame\, and resilience. \nRooted in real experiences and shaped by the voices too often left out of the conversation\, the production challenges cultural stigma and generational silence. It exposes the hidden stories that echo behind closed doors\, those shaped not only by violence itself\, but by the social pressures that keep people quiet. It is a story of pain but also of courage\, hope\, and radical truth-telling. \nCombining traditional storytelling with a bold contemporary narrative\, this show is a call to listen and a call to act. Through immersive staging\, live performance\, and a hauntingly beautiful original score\, audiences are not just spectators\, they are witnesses. \nWhether you’ve lived this story\, know someone who has\, or are just beginning to understand the complexities of domestic violence\, And What Will People Say? offers a space for reflection\, recognition\, and connection. \nThis is more than theatre. This is a conversation our communities need to have. And it starts here. \nContent Note: This production contains references to domestic violence. \nAccessibility: TBC \nGet your tickets here: https://sydneyfringe.com/events/and-what-will-people-say/
URL:https://www.indianlink.com.au/whats-on/and-what-will-people-say-sydney-fringe-festival/2025-09-17/
LOCATION:Pottery Lane Performance Space\, 1 Pottery Lane\, Lane Cove\, Lane Cove\, Sydney\, NSW\, 2066\, Australia
ATTACH;FMTTYPE=image/png:https://p9dzm74w.tinifycdn.com/wp-content/uploads/2025/08/And-What-Will-People-Say.png
GEO:-33.8138325;151.1707237
X-APPLE-STRUCTURED-LOCATION;VALUE=URI;X-ADDRESS=Pottery Lane Performance Space 1 Pottery Lane Lane Cove Lane Cove Sydney NSW 2066 Australia;X-APPLE-RADIUS=500;X-TITLE=1 Pottery Lane\, Lane Cove\, Lane Cove:geo:151.1707237,-33.8138325
END:VEVENT
END:VCALENDAR