BEGIN:VCALENDAR
VERSION:2.0
PRODID:-//Indian Link - ECPv6.15.20//NONSGML v1.0//EN
CALSCALE:GREGORIAN
METHOD:PUBLISH
X-WR-CALNAME:Indian Link
X-ORIGINAL-URL:https://www.indianlink.com.au
X-WR-CALDESC:Events for Indian Link
REFRESH-INTERVAL;VALUE=DURATION:PT1H
X-Robots-Tag:noindex
X-PUBLISHED-TTL:PT1H
BEGIN:VTIMEZONE
TZID:Australia/Sydney
BEGIN:STANDARD
TZOFFSETFROM:+1100
TZOFFSETTO:+1000
TZNAME:AEST
DTSTART:20250405T160000
END:STANDARD
BEGIN:DAYLIGHT
TZOFFSETFROM:+1000
TZOFFSETTO:+1100
TZNAME:AEDT
DTSTART:20251004T160000
END:DAYLIGHT
BEGIN:STANDARD
TZOFFSETFROM:+1100
TZOFFSETTO:+1000
TZNAME:AEST
DTSTART:20260404T160000
END:STANDARD
BEGIN:DAYLIGHT
TZOFFSETFROM:+1000
TZOFFSETTO:+1100
TZNAME:AEDT
DTSTART:20261003T160000
END:DAYLIGHT
BEGIN:STANDARD
TZOFFSETFROM:+1100
TZOFFSETTO:+1000
TZNAME:AEST
DTSTART:20270403T160000
END:STANDARD
BEGIN:DAYLIGHT
TZOFFSETFROM:+1000
TZOFFSETTO:+1100
TZNAME:AEDT
DTSTART:20271002T160000
END:DAYLIGHT
END:VTIMEZONE
BEGIN:VEVENT
DTSTART;TZID=Australia/Sydney:20260510T183000
DTEND;TZID=Australia/Sydney:20260510T203000
DTSTAMP:20260423T034925
CREATED:20260417T010934Z
LAST-MODIFIED:20260417T010934Z
UID:10008893-1778437800-1778445000@www.indianlink.com.au
SUMMARY:Maheep Singh Live in Sydney
DESCRIPTION:  \nOverview\n\n\n\n\nGet ready to laugh till your stomach hurts as Maheep Singh brings his hilarious stand-up comedy to Sydney! \n\n\n\nA funny look at love\, relationships\, marriage and mundane lives of Indian men. Outrageously witty and often borderline offensive. \nA funny look at love\, relationships\, marriage and mundane lives of Indian men.\nOutrageously witty and often borderline offensive. Cuss words are used spuriously as punctuations but not directed at someone in particular.\nFreestyle comedy set in last 50 years narrating real life stories of the artist himself. \nEvent Terms & Conditions \n\n16 + years event. ( Adult Content )\nShow is in Hindi Language.\nTickets are non-refundable – Once confirmed\, ticket sales are final. Refunds\, exchanges or cancellations and seat swapping not available.\nIf an event is cancelled/postponed\, we will refund only the face value of the ticket and NOT the booking fee.\nEvent Producers & the Venue staff reserve the right to ask any guest to leave or remove them from the venue for any reason we see as inappropriate and for a successful running of our event.\nIn an event of misconduct by patron’s\, Event Producers reserves the right to eviction.\nWe recommend that you arrive at-least 30 minutes prior at the venue for a seamless entry.\nThese terms and conditions are subject to change from time to time at the discretion of the Producers.\nTicket price can change without any prior notice.\nAny kind of Photography or Videography is NOT Allowed. If you are found recording the show\, your device will be confiscated & legal action may be taken against you.\n\nGET TICKETS HERE: Maheep Singh Live in Sydney
URL:https://www.indianlink.com.au/whats-on/maheep-singh-live-in-sydney/
LOCATION:Pioneer Theatre
ATTACH;FMTTYPE=image/jpeg:https://p9dzm74w.tinifycdn.com/wp-content/uploads/2026/04/Maheep-SIngh.jpg
GEO:-33.7312933;151.0036055
END:VEVENT
END:VCALENDAR