BEGIN:VCALENDAR
VERSION:2.0
PRODID:-//Indian Link - ECPv6.15.20//NONSGML v1.0//EN
CALSCALE:GREGORIAN
METHOD:PUBLISH
X-ORIGINAL-URL:https://www.indianlink.com.au
X-WR-CALDESC:Events for Indian Link
REFRESH-INTERVAL;VALUE=DURATION:PT1H
X-Robots-Tag:noindex
X-PUBLISHED-TTL:PT1H
BEGIN:VTIMEZONE
TZID:Australia/Sydney
BEGIN:STANDARD
TZOFFSETFROM:+1100
TZOFFSETTO:+1000
TZNAME:AEST
DTSTART:20240406T160000
END:STANDARD
BEGIN:DAYLIGHT
TZOFFSETFROM:+1000
TZOFFSETTO:+1100
TZNAME:AEDT
DTSTART:20241005T160000
END:DAYLIGHT
BEGIN:STANDARD
TZOFFSETFROM:+1100
TZOFFSETTO:+1000
TZNAME:AEST
DTSTART:20250405T160000
END:STANDARD
BEGIN:DAYLIGHT
TZOFFSETFROM:+1000
TZOFFSETTO:+1100
TZNAME:AEDT
DTSTART:20251004T160000
END:DAYLIGHT
BEGIN:STANDARD
TZOFFSETFROM:+1100
TZOFFSETTO:+1000
TZNAME:AEST
DTSTART:20260404T160000
END:STANDARD
BEGIN:DAYLIGHT
TZOFFSETFROM:+1000
TZOFFSETTO:+1100
TZNAME:AEDT
DTSTART:20261003T160000
END:DAYLIGHT
END:VTIMEZONE
BEGIN:VEVENT
DTSTART;TZID=Australia/Sydney:20251012T170000
DTEND;TZID=Australia/Sydney:20251012T190000
DTSTAMP:20260423T051816
CREATED:20250821T023915Z
LAST-MODIFIED:20250821T023915Z
UID:10008476-1760288400-1760295600@www.indianlink.com.au
SUMMARY:Rhythm & Radiance - Beats of Belonging
DESCRIPTION:Presented by Chennai Silks Australia in support of Sri Gayatri Peetam \nStep into an unforgettable evening of culture\, colour\, and celebration! \nRhythm and Radiance: Beats of Belonging is a vibrant fashion show and cultural showcase that weaves together the rich heritage of India and Sri Lanka. From the elegant weaves of Kanchipuram to the bold prints of Gujarat\, from the rhythmic grace of Kerala to the vibrant hues of Sri Lanka — witness the traditions of the subcontinent come alive on stage. \nCurated by Chennai Silks Australia\, this one-of-a-kind event is a fundraiser for Sri Gayatri Peetam\, with 100% of proceeds from ticket sales going directly to the temple fund. Join us in supporting a noble cause while immersing yourself in the beauty of regional fashion\, music\, and movement. \n✨ What’s included with your ticket? \n• Entry to the full 2-hour cultural fashion experience \n• A complimentary dinner box on your way out to take home and enjoy \nLet the rhythm move you. Let the radiance inspire you. Let’s come together in style — for culture\, for community\, and for a cause. \n  \nGet your tickets here: https://www.eventbrite.com.au/e/rhythm-radiance-beats-of-belonging-tickets-1497910303039?aff=ebdssbdestsearch&keep_tld=1
URL:https://www.indianlink.com.au/whats-on/rhythm-radiance-beats-of-belonging/
LOCATION:Pioneer Theatre
ATTACH;FMTTYPE=image/png:https://p9dzm74w.tinifycdn.com/wp-content/uploads/2025/08/Rhythm-Radiance-Beats-of-Belonging.png
GEO:-33.7312933;151.0036055
END:VEVENT
END:VCALENDAR