BEGIN:VCALENDAR
VERSION:2.0
PRODID:-//Indian Link - ECPv6.15.20//NONSGML v1.0//EN
CALSCALE:GREGORIAN
METHOD:PUBLISH
X-ORIGINAL-URL:https://www.indianlink.com.au
X-WR-CALDESC:Events for Indian Link
REFRESH-INTERVAL;VALUE=DURATION:PT1H
X-Robots-Tag:noindex
X-PUBLISHED-TTL:PT1H
BEGIN:VTIMEZONE
TZID:Australia/Sydney
BEGIN:STANDARD
TZOFFSETFROM:+1100
TZOFFSETTO:+1000
TZNAME:AEST
DTSTART:20250405T160000
END:STANDARD
BEGIN:DAYLIGHT
TZOFFSETFROM:+1000
TZOFFSETTO:+1100
TZNAME:AEDT
DTSTART:20251004T160000
END:DAYLIGHT
BEGIN:STANDARD
TZOFFSETFROM:+1100
TZOFFSETTO:+1000
TZNAME:AEST
DTSTART:20260404T160000
END:STANDARD
BEGIN:DAYLIGHT
TZOFFSETFROM:+1000
TZOFFSETTO:+1100
TZNAME:AEDT
DTSTART:20261003T160000
END:DAYLIGHT
BEGIN:STANDARD
TZOFFSETFROM:+1100
TZOFFSETTO:+1000
TZNAME:AEST
DTSTART:20270403T160000
END:STANDARD
BEGIN:DAYLIGHT
TZOFFSETFROM:+1000
TZOFFSETTO:+1100
TZNAME:AEDT
DTSTART:20271002T160000
END:DAYLIGHT
END:VTIMEZONE
BEGIN:VEVENT
DTSTART;TZID=Australia/Sydney:20260424T190000
DTEND;TZID=Australia/Sydney:20260424T203000
DTSTAMP:20260422T171545
CREATED:20260414T045322Z
LAST-MODIFIED:20260414T045322Z
UID:10008881-1777057200-1777062600@www.indianlink.com.au
SUMMARY:MERI NAZAR SE DEKHO
DESCRIPTION:  \nMeri Nazar Se Dekho (A two-act play in Hindi) \nDirector: Shashidhar Dandekar | Asst Director: Saurabh Datar \nArtists: Bobby Mallick | Rushi Dave | Saurabh Datar | Rajshri Roy | Master Tanish
URL:https://www.indianlink.com.au/whats-on/meri-nazar-se-dekho/2026-04-24/
LOCATION:Pioneer Theatre Castle Hill\, 14 Pennant St\, Castle Hill\, NSW\, 2154\, Australia
CATEGORIES:Stage and Performing
ATTACH;FMTTYPE=image/jpeg:https://p9dzm74w.tinifycdn.com/wp-content/uploads/2026/04/671280541_10162316372047127_2245327180790520944_n.jpg
ORGANIZER;CN="Prekshaa Art & Culture":MAILTO:bobby-mallick@hotmail.com
GEO:-33.7312933;151.0036055
X-APPLE-STRUCTURED-LOCATION;VALUE=URI;X-ADDRESS=Pioneer Theatre Castle Hill 14 Pennant St Castle Hill NSW 2154 Australia;X-APPLE-RADIUS=500;X-TITLE=14 Pennant St:geo:151.0036055,-33.7312933
END:VEVENT
BEGIN:VEVENT
DTSTART;TZID=Australia/Sydney:20260425T190000
DTEND;TZID=Australia/Sydney:20260425T203000
DTSTAMP:20260422T171545
CREATED:20260414T045322Z
LAST-MODIFIED:20260414T045322Z
UID:10008882-1777143600-1777149000@www.indianlink.com.au
SUMMARY:MERI NAZAR SE DEKHO
DESCRIPTION:  \nMeri Nazar Se Dekho (A two-act play in Hindi) \nDirector: Shashidhar Dandekar | Asst Director: Saurabh Datar \nArtists: Bobby Mallick | Rushi Dave | Saurabh Datar | Rajshri Roy | Master Tanish
URL:https://www.indianlink.com.au/whats-on/meri-nazar-se-dekho/2026-04-25/
LOCATION:Pioneer Theatre Castle Hill\, 14 Pennant St\, Castle Hill\, NSW\, 2154\, Australia
CATEGORIES:Stage and Performing
ATTACH;FMTTYPE=image/jpeg:https://p9dzm74w.tinifycdn.com/wp-content/uploads/2026/04/671280541_10162316372047127_2245327180790520944_n.jpg
ORGANIZER;CN="Prekshaa Art & Culture":MAILTO:bobby-mallick@hotmail.com
GEO:-33.7312933;151.0036055
X-APPLE-STRUCTURED-LOCATION;VALUE=URI;X-ADDRESS=Pioneer Theatre Castle Hill 14 Pennant St Castle Hill NSW 2154 Australia;X-APPLE-RADIUS=500;X-TITLE=14 Pennant St:geo:151.0036055,-33.7312933
END:VEVENT
BEGIN:VEVENT
DTSTART;TZID=Australia/Sydney:20260426T120000
DTEND;TZID=Australia/Sydney:20260426T140000
DTSTAMP:20260422T171545
CREATED:20260414T045322Z
LAST-MODIFIED:20260414T045322Z
UID:10008883-1777204800-1777212000@www.indianlink.com.au
SUMMARY:MERI NAZAR SE DEKHO
DESCRIPTION:  \nMeri Nazar Se Dekho (A two-act play in Hindi) \nDirector: Shashidhar Dandekar | Asst Director: Saurabh Datar \nArtists: Bobby Mallick | Rushi Dave | Saurabh Datar | Rajshri Roy | Master Tanish
URL:https://www.indianlink.com.au/whats-on/meri-nazar-se-dekho/2026-04-26/
LOCATION:Pioneer Theatre Castle Hill\, 14 Pennant St\, Castle Hill\, NSW\, 2154\, Australia
CATEGORIES:Stage and Performing
ATTACH;FMTTYPE=image/jpeg:https://p9dzm74w.tinifycdn.com/wp-content/uploads/2026/04/671280541_10162316372047127_2245327180790520944_n.jpg
ORGANIZER;CN="Prekshaa Art & Culture":MAILTO:bobby-mallick@hotmail.com
GEO:-33.7312933;151.0036055
X-APPLE-STRUCTURED-LOCATION;VALUE=URI;X-ADDRESS=Pioneer Theatre Castle Hill 14 Pennant St Castle Hill NSW 2154 Australia;X-APPLE-RADIUS=500;X-TITLE=14 Pennant St:geo:151.0036055,-33.7312933
END:VEVENT
BEGIN:VEVENT
DTSTART;TZID=Australia/Sydney:20260503T100000
DTEND;TZID=Australia/Sydney:20260503T200000
DTSTAMP:20260422T171545
CREATED:20260422T010400Z
LAST-MODIFIED:20260422T010400Z
UID:10008898-1777802400-1777838400@www.indianlink.com.au
SUMMARY:Dance\, Discuss\, Diversity at Safal Festival: South Asia and Australia
DESCRIPTION:  \nSafal Festival is a unique platform showcasing diverse South Asian cultures in Australia. The SAFAL Festival celebrates diverse arts\, culture\, languages and literature of the dynamic South Asian region of Afghanistan\, Bangladesh\, Bhutan\, India\, Maldives\, Nepal\, Sri Lanka and Pakistan in Australia. \nThe Founder and President of the SAFAL Festival Ash Gholkar brings his passion for diversity and inclusion to the festival inviting everyone to attend the art exhibitions & hands-on workshops; literature & book fair; short film screenings in the main theatre; live song & dance concert; bazaar; trade stalls & cultural displays. Join interactive sessions including creative writing\, craft making\, painting\, doll making\, Japanese stitching Sashiko\, patchwork for all ages. \nAsh Gholkar President\, Kedar Pagaddinnimath Festival Chairperson and Saliya Tennekoon Festival Director lead the team inviting everyone of all ages to celebrate at this free and fabulous festival. \nGET TICKETS HERE: SAFAL Fest | South Asian Film\, Arts & Literature Festival
URL:https://www.indianlink.com.au/whats-on/dance-discuss-diversity-at-safal-festival-south-asia-and-australia/
LOCATION:Pioneer Theatre Castle Hill\, 14 Pennant St\, Castle Hill\, NSW\, 2154\, Australia
ATTACH;FMTTYPE=image/png:https://p9dzm74w.tinifycdn.com/wp-content/uploads/2026/04/January-2026-Feature-Image-600-x-400-px-600-x-400-px-59.png
GEO:-33.7312933;151.0036055
X-APPLE-STRUCTURED-LOCATION;VALUE=URI;X-ADDRESS=Pioneer Theatre Castle Hill 14 Pennant St Castle Hill NSW 2154 Australia;X-APPLE-RADIUS=500;X-TITLE=14 Pennant St:geo:151.0036055,-33.7312933
END:VEVENT
END:VCALENDAR