BEGIN:VCALENDAR
VERSION:2.0
PRODID:-//Indian Link - ECPv6.15.20//NONSGML v1.0//EN
CALSCALE:GREGORIAN
METHOD:PUBLISH
X-WR-CALNAME:Indian Link
X-ORIGINAL-URL:https://www.indianlink.com.au
X-WR-CALDESC:Events for Indian Link
REFRESH-INTERVAL;VALUE=DURATION:PT1H
X-Robots-Tag:noindex
X-PUBLISHED-TTL:PT1H
BEGIN:VTIMEZONE
TZID:Australia/Sydney
BEGIN:STANDARD
TZOFFSETFROM:+1100
TZOFFSETTO:+1000
TZNAME:AEST
DTSTART:20240406T160000
END:STANDARD
BEGIN:DAYLIGHT
TZOFFSETFROM:+1000
TZOFFSETTO:+1100
TZNAME:AEDT
DTSTART:20241005T160000
END:DAYLIGHT
BEGIN:STANDARD
TZOFFSETFROM:+1100
TZOFFSETTO:+1000
TZNAME:AEST
DTSTART:20250405T160000
END:STANDARD
BEGIN:DAYLIGHT
TZOFFSETFROM:+1000
TZOFFSETTO:+1100
TZNAME:AEDT
DTSTART:20251004T160000
END:DAYLIGHT
BEGIN:STANDARD
TZOFFSETFROM:+1100
TZOFFSETTO:+1000
TZNAME:AEST
DTSTART:20260404T160000
END:STANDARD
BEGIN:DAYLIGHT
TZOFFSETFROM:+1000
TZOFFSETTO:+1100
TZNAME:AEDT
DTSTART:20261003T160000
END:DAYLIGHT
END:VTIMEZONE
BEGIN:VEVENT
DTSTART;TZID=Australia/Sydney:20250607T150000
DTEND;TZID=Australia/Sydney:20250607T220000
DTSTAMP:20260422T121149
CREATED:20250528T043238Z
LAST-MODIFIED:20250528T043238Z
UID:10008336-1749308400-1749333600@www.indianlink.com.au
SUMMARY:Celebrate the Legacy of Gurudev Rabindranath Tagore
DESCRIPTION:Sydney is set to host a vibrant cultural evening honouring Gurudev Rabindranath Tagore –  the iconic poet\, philosopher\, and Nobel Laureate\, whose work continues to inspire worldwide. \nThe event will feature a rich showcase of music\, dance\, and spoken word\, paying tribute to Tagore’s timeless contributions to art\, literature\, and culture. \nPresented with the support of cultural organisations dedicated to promoting Indian heritage in Australia\, the evening promises to be a heartfelt celebration of a global visionary. \nOrganised by: ICCR in Australia\, The Consulate General of India\, Sydney\, and the Swami Vivekananda Cultural Centre in association with Bengal Association of New South Wales (BANSW)
URL:https://www.indianlink.com.au/whats-on/celebrate-the-legacy-of-gurudev-rabindranath-tagore/
LOCATION:Pioneer Theatre Castle Hill\, 14 Pennant St\, Castle Hill\, NSW\, 2154\, Australia
CATEGORIES:Arts,Happening in Sydney
ATTACH;FMTTYPE=image/jpeg:https://p9dzm74w.tinifycdn.com/wp-content/uploads/2025/05/Rabindranath-Tagore.jpg
GEO:-33.7312933;151.0036055
X-APPLE-STRUCTURED-LOCATION;VALUE=URI;X-ADDRESS=Pioneer Theatre Castle Hill 14 Pennant St Castle Hill NSW 2154 Australia;X-APPLE-RADIUS=500;X-TITLE=14 Pennant St:geo:151.0036055,-33.7312933
END:VEVENT
BEGIN:VEVENT
DTSTART;TZID=Australia/Sydney:20250301T133000
DTEND;TZID=Australia/Sydney:20250301T170000
DTSTAMP:20260422T121149
CREATED:20241227T024158Z
LAST-MODIFIED:20241227T024158Z
UID:10002426-1740835800-1740848400@www.indianlink.com.au
SUMMARY:Breaking The Silence - Women's Day celebration
DESCRIPTION:  \nCome celebrate Women’s Day with us at Harman Foundation as we embrace the theme Breaking the Silence with a moving performance of Rising From The Ashes play by Natak Mandali and a powerful Fashion Walk. Each year our community comes together to raise awarness about domestic and family violence. Don’t miss this special event filled with inspiration\, art and empowerment. \n🌟 Event Highlights \n·        Play “Rising From the Ashes” \n·        Fashion Walk \n·        Stalls \nContact: \n📞 0493 985 507 \n📞 1800 116 675 \nGET TICKETS HERE: Buy ticket for Breaking The Silence | Best event in your city – Event Baba
URL:https://www.indianlink.com.au/whats-on/breaking-the-silence-womens-day-celebration/
LOCATION:Pioneer Theatre Castle Hill\, 14 Pennant St\, Castle Hill\, NSW\, 2154\, Australia
ATTACH;FMTTYPE=image/png:https://p9dzm74w.tinifycdn.com/wp-content/uploads/2024/12/Whats-on.png
GEO:-33.7312933;151.0036055
X-APPLE-STRUCTURED-LOCATION;VALUE=URI;X-ADDRESS=Pioneer Theatre Castle Hill 14 Pennant St Castle Hill NSW 2154 Australia;X-APPLE-RADIUS=500;X-TITLE=14 Pennant St:geo:151.0036055,-33.7312933
END:VEVENT
END:VCALENDAR