BEGIN:VCALENDAR
VERSION:2.0
PRODID:-//Indian Link - ECPv6.15.20//NONSGML v1.0//EN
CALSCALE:GREGORIAN
METHOD:PUBLISH
X-ORIGINAL-URL:https://www.indianlink.com.au
X-WR-CALDESC:Events for Indian Link
REFRESH-INTERVAL;VALUE=DURATION:PT1H
X-Robots-Tag:noindex
X-PUBLISHED-TTL:PT1H
BEGIN:VTIMEZONE
TZID:Australia/Sydney
BEGIN:STANDARD
TZOFFSETFROM:+1100
TZOFFSETTO:+1000
TZNAME:AEST
DTSTART:20240406T160000
END:STANDARD
BEGIN:DAYLIGHT
TZOFFSETFROM:+1000
TZOFFSETTO:+1100
TZNAME:AEDT
DTSTART:20241005T160000
END:DAYLIGHT
BEGIN:STANDARD
TZOFFSETFROM:+1100
TZOFFSETTO:+1000
TZNAME:AEST
DTSTART:20250405T160000
END:STANDARD
BEGIN:DAYLIGHT
TZOFFSETFROM:+1000
TZOFFSETTO:+1100
TZNAME:AEDT
DTSTART:20251004T160000
END:DAYLIGHT
BEGIN:STANDARD
TZOFFSETFROM:+1100
TZOFFSETTO:+1000
TZNAME:AEST
DTSTART:20260404T160000
END:STANDARD
BEGIN:DAYLIGHT
TZOFFSETFROM:+1000
TZOFFSETTO:+1100
TZNAME:AEDT
DTSTART:20261003T160000
END:DAYLIGHT
END:VTIMEZONE
BEGIN:VEVENT
DTSTART;TZID=Australia/Sydney:20250824T183000
DTEND;TZID=Australia/Sydney:20250824T213000
DTSTAMP:20260424T033333
CREATED:20250822T013812Z
LAST-MODIFIED:20250822T013812Z
UID:10008497-1756060200-1756071000@www.indianlink.com.au
SUMMARY:Gurdas Maan Live in Perth 2025
DESCRIPTION:  \nAfter the Successful Shows in UK\, GURDAS MAAN is coming to Australia / New Zealand Tour in August 2025 \nThe Legend of Punjabi music\, the maestro GURDAS MAAN is ready to enchant Perth with his melodious voice and extraordinary performances! \nExperience the magic of legendary Punjabi icon Gurdas Maan live at Perth Convention and Exhibition Centre. With over 40 years of musical excellence\, Gurdas Maan has captivated millions worldwide with his soulful voice and timeless compositions. Known as Punjab’s cultural ambassador\, his songs transcend borders\, touching hearts across generations with themes of love\, spirituality\, and heritage. \nGet ready for an unforgettable night of soulful Punjabi music\, mesmerizing lyrics\, and electrifying energy. Join us as we witness the magic of one of the greatest musicians of our time. Gurdas Maan is known for his music that resonates with people across generations\, making this an event you can’t afford to miss! \nMark your calendars\, save the date\, and gear up for a sensational night of music and fun! Book the best spots now before they run out. \nPresented by Eminent Productions Australia and Bikram & PDR International Production. \nGET TICKETS HERE: https://premier.ticketek.com.au/shows/show.aspx?sh=GURMAAN25
URL:https://www.indianlink.com.au/whats-on/gurdas-maan-live-in-perth-2025/
LOCATION:Riverside Theatre\, Perth Convention and Exhibition Centre\, 21 Mount Bays Road\, Perth\, WA\, 6000\, Australia
ATTACH;FMTTYPE=image/png:https://p9dzm74w.tinifycdn.com/wp-content/uploads/2025/08/Gurdas-Maan.png
GEO:-31.956944;115.853611
X-APPLE-STRUCTURED-LOCATION;VALUE=URI;X-ADDRESS=Riverside Theatre Perth Convention and Exhibition Centre 21 Mount Bays Road Perth WA 6000 Australia;X-APPLE-RADIUS=500;X-TITLE=21 Mount Bays Road:geo:115.853611,-31.956944
END:VEVENT
END:VCALENDAR