BEGIN:VCALENDAR
VERSION:2.0
PRODID:-//Indian Link - ECPv6.15.20//NONSGML v1.0//EN
CALSCALE:GREGORIAN
METHOD:PUBLISH
X-WR-CALNAME:Indian Link
X-ORIGINAL-URL:https://www.indianlink.com.au
X-WR-CALDESC:Events for Indian Link
REFRESH-INTERVAL;VALUE=DURATION:PT1H
X-Robots-Tag:noindex
X-PUBLISHED-TTL:PT1H
BEGIN:VTIMEZONE
TZID:Australia/Sydney
BEGIN:STANDARD
TZOFFSETFROM:+1100
TZOFFSETTO:+1000
TZNAME:AEST
DTSTART:20240406T160000
END:STANDARD
BEGIN:DAYLIGHT
TZOFFSETFROM:+1000
TZOFFSETTO:+1100
TZNAME:AEDT
DTSTART:20241005T160000
END:DAYLIGHT
BEGIN:STANDARD
TZOFFSETFROM:+1100
TZOFFSETTO:+1000
TZNAME:AEST
DTSTART:20250405T160000
END:STANDARD
BEGIN:DAYLIGHT
TZOFFSETFROM:+1000
TZOFFSETTO:+1100
TZNAME:AEDT
DTSTART:20251004T160000
END:DAYLIGHT
BEGIN:STANDARD
TZOFFSETFROM:+1100
TZOFFSETTO:+1000
TZNAME:AEST
DTSTART:20260404T160000
END:STANDARD
BEGIN:DAYLIGHT
TZOFFSETFROM:+1000
TZOFFSETTO:+1100
TZNAME:AEDT
DTSTART:20261003T160000
END:DAYLIGHT
END:VTIMEZONE
BEGIN:VEVENT
DTSTART;TZID=Australia/Sydney:20250824T143000
DTEND;TZID=Australia/Sydney:20250824T143000
DTSTAMP:20260425T232912
CREATED:20250821T045039Z
LAST-MODIFIED:20250821T045039Z
UID:10008488-1756045800-1756045800@www.indianlink.com.au
SUMMARY:Mela Mutiyaran Da 2025 - Newcastle
DESCRIPTION:Get ready for an unforgettable experience at Mela Mutiyaran Da 2025 in Newcastle! \n\nCultural Celebration: Enjoy a lively celebration of cultural music\, dance\, and food.\nPerformances: A series of traditional performances that showcase the rich heritage of the community.\nFamily-Friendly: A great event for all ages\, perfect for families to come together and enjoy.\n\nMela Mutiyaran Da 2025 is more than just an event – it’s a celebration of community and culture. Come for the performances\, stay for the lively atmosphere and unforgettable experiences. \nDon’t miss out on this incredible cultural event. Get your tickets today and be part of Mela Mutiyaran Da 2025! \nGet your tickets here: https://www.premiertickets.co/event/mela-mutiyaran-da-2025-newcastle/
URL:https://www.indianlink.com.au/whats-on/mela-mutiyaran-da-2025-newcastle/
LOCATION:Pat Hughes Community Hall
ATTACH;FMTTYPE=image/png:https://p9dzm74w.tinifycdn.com/wp-content/uploads/2025/08/Mela-Mutiyaran-Da-2025-Newcastle-1.png
END:VEVENT
END:VCALENDAR