BEGIN:VCALENDAR
VERSION:2.0
PRODID:-//Indian Link - ECPv6.15.20//NONSGML v1.0//EN
CALSCALE:GREGORIAN
METHOD:PUBLISH
X-WR-CALNAME:Indian Link
X-ORIGINAL-URL:https://www.indianlink.com.au
X-WR-CALDESC:Events for Indian Link
REFRESH-INTERVAL;VALUE=DURATION:PT1H
X-Robots-Tag:noindex
X-PUBLISHED-TTL:PT1H
BEGIN:VTIMEZONE
TZID:Australia/Sydney
BEGIN:STANDARD
TZOFFSETFROM:+1100
TZOFFSETTO:+1000
TZNAME:AEST
DTSTART:20230401T160000
END:STANDARD
BEGIN:DAYLIGHT
TZOFFSETFROM:+1000
TZOFFSETTO:+1100
TZNAME:AEDT
DTSTART:20230930T160000
END:DAYLIGHT
BEGIN:STANDARD
TZOFFSETFROM:+1100
TZOFFSETTO:+1000
TZNAME:AEST
DTSTART:20240406T160000
END:STANDARD
BEGIN:DAYLIGHT
TZOFFSETFROM:+1000
TZOFFSETTO:+1100
TZNAME:AEDT
DTSTART:20241005T160000
END:DAYLIGHT
BEGIN:STANDARD
TZOFFSETFROM:+1100
TZOFFSETTO:+1000
TZNAME:AEST
DTSTART:20250405T160000
END:STANDARD
BEGIN:DAYLIGHT
TZOFFSETFROM:+1000
TZOFFSETTO:+1100
TZNAME:AEDT
DTSTART:20251004T160000
END:DAYLIGHT
END:VTIMEZONE
BEGIN:VEVENT
DTSTART;TZID=Australia/Sydney:20241231T200000
DTEND;TZID=Australia/Sydney:20241231T233000
DTSTAMP:20260423T103556
CREATED:20241118T010418Z
LAST-MODIFIED:20241118T010418Z
UID:10002238-1735675200-1735687800@www.indianlink.com.au
SUMMARY:NYE ROYAL BALL WELCOME 2025
DESCRIPTION:  \nTheme: Grand Indian Wedding \nAttractions:\n4 Course scrumptious Dinner\, Gala Family Entertainment | Unlimited Beer/Wine/Soft Drinks (BYO spirits) | Bollywood DJ\, Dance performances | Professional photographers | Best dressed male and female | Live fireworks on big screen | Lots of prizes and surprises\, Limited seats. \nGET TICKETS HERE: NYE ROYAL BALL WELCOME 2025 – DryTickets.com.au
URL:https://www.indianlink.com.au/whats-on/nye-royal-ball-welcome-2025/
LOCATION:Parra Villa Function Lounge\, 42\, Campbell Street\, Parramatta\, NSW\, 2150\, Australia
ATTACH;FMTTYPE=image/jpeg:https://p9dzm74w.tinifycdn.com/wp-content/uploads/2024/11/NYE-2025.jpg
GEO:-33.8181441;151.0025448
X-APPLE-STRUCTURED-LOCATION;VALUE=URI;X-ADDRESS=Parra Villa Function Lounge 42 Campbell Street Parramatta NSW 2150 Australia;X-APPLE-RADIUS=500;X-TITLE=42\, Campbell Street:geo:151.0025448,-33.8181441
END:VEVENT
END:VCALENDAR