BEGIN:VCALENDAR
VERSION:2.0
PRODID:-//Indian Link - ECPv6.15.20//NONSGML v1.0//EN
CALSCALE:GREGORIAN
METHOD:PUBLISH
X-WR-CALNAME:Indian Link
X-ORIGINAL-URL:https://www.indianlink.com.au
X-WR-CALDESC:Events for Indian Link
REFRESH-INTERVAL;VALUE=DURATION:PT1H
X-Robots-Tag:noindex
X-PUBLISHED-TTL:PT1H
BEGIN:VTIMEZONE
TZID:Australia/Sydney
BEGIN:STANDARD
TZOFFSETFROM:+1100
TZOFFSETTO:+1000
TZNAME:AEST
DTSTART:20250405T160000
END:STANDARD
BEGIN:DAYLIGHT
TZOFFSETFROM:+1000
TZOFFSETTO:+1100
TZNAME:AEDT
DTSTART:20251004T160000
END:DAYLIGHT
BEGIN:STANDARD
TZOFFSETFROM:+1100
TZOFFSETTO:+1000
TZNAME:AEST
DTSTART:20260404T160000
END:STANDARD
BEGIN:DAYLIGHT
TZOFFSETFROM:+1000
TZOFFSETTO:+1100
TZNAME:AEDT
DTSTART:20261003T160000
END:DAYLIGHT
BEGIN:STANDARD
TZOFFSETFROM:+1100
TZOFFSETTO:+1000
TZNAME:AEST
DTSTART:20270403T160000
END:STANDARD
BEGIN:DAYLIGHT
TZOFFSETFROM:+1000
TZOFFSETTO:+1100
TZNAME:AEDT
DTSTART:20271002T160000
END:DAYLIGHT
END:VTIMEZONE
BEGIN:VEVENT
DTSTART;TZID=Australia/Sydney:20260509T183000
DTEND;TZID=Australia/Sydney:20260509T203000
DTSTAMP:20260423T021039
CREATED:20260326T001203Z
LAST-MODIFIED:20260326T001203Z
UID:10008862-1778351400-1778358600@www.indianlink.com.au
SUMMARY:Mahesh Kale's Abhangwari - A Soulful Sound of Bhakti Live
DESCRIPTION:  \nAbhangWari with Mahesh Kale \nLet’s come together to celebrate the soul-stirring beauty of Abhangs and devotional music. Experience an evening filled with powerful vocals\, timeless abhangs and music that touches the heart. \nBring your family and friends and be part of a truly uplifting celebration in Sydney. \nGET TICKETS HERE: Drytickets
URL:https://www.indianlink.com.au/whats-on/mahesh-kales-abhangwari-a-soulful-sound-of-bhakti-live/
LOCATION:Pacific Hills Christian School\, 9 Quarry Rd\, Dural\, NSW\, 2158\, Australia
ATTACH;FMTTYPE=image/jpeg:https://p9dzm74w.tinifycdn.com/wp-content/uploads/2026/03/image.jpg
GEO:-33.6968889;151.0377655
X-APPLE-STRUCTURED-LOCATION;VALUE=URI;X-ADDRESS=Pacific Hills Christian School 9 Quarry Rd Dural NSW 2158 Australia;X-APPLE-RADIUS=500;X-TITLE=9 Quarry Rd:geo:151.0377655,-33.6968889
END:VEVENT
END:VCALENDAR