BEGIN:VCALENDAR
VERSION:2.0
PRODID:-//Indian Link - ECPv6.15.20//NONSGML v1.0//EN
CALSCALE:GREGORIAN
METHOD:PUBLISH
X-WR-CALNAME:Indian Link
X-ORIGINAL-URL:https://www.indianlink.com.au
X-WR-CALDESC:Events for Indian Link
REFRESH-INTERVAL;VALUE=DURATION:PT1H
X-Robots-Tag:noindex
X-PUBLISHED-TTL:PT1H
BEGIN:VTIMEZONE
TZID:Australia/Sydney
BEGIN:STANDARD
TZOFFSETFROM:+1100
TZOFFSETTO:+1000
TZNAME:AEST
DTSTART:20240406T160000
END:STANDARD
BEGIN:DAYLIGHT
TZOFFSETFROM:+1000
TZOFFSETTO:+1100
TZNAME:AEDT
DTSTART:20241005T160000
END:DAYLIGHT
BEGIN:STANDARD
TZOFFSETFROM:+1100
TZOFFSETTO:+1000
TZNAME:AEST
DTSTART:20250405T160000
END:STANDARD
BEGIN:DAYLIGHT
TZOFFSETFROM:+1000
TZOFFSETTO:+1100
TZNAME:AEDT
DTSTART:20251004T160000
END:DAYLIGHT
BEGIN:STANDARD
TZOFFSETFROM:+1100
TZOFFSETTO:+1000
TZNAME:AEST
DTSTART:20260404T160000
END:STANDARD
BEGIN:DAYLIGHT
TZOFFSETFROM:+1000
TZOFFSETTO:+1100
TZNAME:AEDT
DTSTART:20261003T160000
END:DAYLIGHT
END:VTIMEZONE
BEGIN:VEVENT
DTSTART;TZID=Australia/Sydney:20250816T190000
DTEND;TZID=Australia/Sydney:20250816T220000
DTSTAMP:20260425T215400
CREATED:20250714T034633Z
LAST-MODIFIED:20250714T034633Z
UID:10008386-1755370800-1755381600@www.indianlink.com.au
SUMMARY:Gurdas Maan Live in Sydney - Yaar Punjab Tour 2025
DESCRIPTION:  \nDon’t miss the iconic Gurdas Maan as he graces Sydney for his Yaar Punjab Tour 2025 at the Norwest Convention Centre. This unforgettable event promises a night filled with music\, energy\, and heartwarming performances. Join us for an evening that celebrates Punjabi culture through the legendary voice of Gurdas Maan. \n\nEvent Name: Gurdas Maan Live in Sydney\nDate: Saturday\, 16th August 2025\nTime: 07:00 PM\nVenue: Norwest Convention Centre\, 1/9 Solent Cct\, Norwest\, New South Wales\, Australia 2153\nTour: Yaar Punjab Tour 2025\n\nExperience the live performance of one of the most celebrated voices in the Punjabi music industry. Gurdas Maan’s soul-stirring songs\, energetic stage presence\, and connection with the audience make this an event you won’t want to miss. \nGet your tickets now and be a part of an unforgettable night in Sydney! \nGET TICKETS HERE: Gurdas Maan Live in Sydney – Yaar Punjab Tour 2025
URL:https://www.indianlink.com.au/whats-on/gurdas-maan-live-in-sydney-yaar-punjab-tour-2025/
LOCATION:Norwest Convention Centre\, 1/9 Solent Cct\, Norwest\, Sydney\, NSW\, 2153\, Australia
ATTACH;FMTTYPE=image/png:https://p9dzm74w.tinifycdn.com/wp-content/uploads/2025/07/Gurdas-maan.png
GEO:-33.7351729;150.9614298
X-APPLE-STRUCTURED-LOCATION;VALUE=URI;X-ADDRESS=Norwest Convention Centre 1/9 Solent Cct Norwest Sydney NSW 2153 Australia;X-APPLE-RADIUS=500;X-TITLE=1/9 Solent Cct\, Norwest:geo:150.9614298,-33.7351729
END:VEVENT
BEGIN:VEVENT
DTSTART;TZID=Australia/Sydney:20250322T190000
DTEND;TZID=Australia/Sydney:20250322T210000
DTSTAMP:20260425T215400
CREATED:20250224T115457Z
LAST-MODIFIED:20250224T115457Z
UID:10002625-1742670000-1742677200@www.indianlink.com.au
SUMMARY:Neha Kakkar Live in Sydney 2025
DESCRIPTION:  \nIndia’s illustrious pop sensation\, Neha Kakkar\, is bringing her versatility to Sydney\, promising an evening filled with Emotive music and high-energy tempos. \nFrom chart-topping hits like “Dilbar”\, “Aankh Maarey”\, “Kala Chashma”\, and “O Saki Saki” to her recent viral track with Karan Aujla\, “Aye Haaye”\, Neha’s music has resonated with millions. As one of the most streamed female playback singers\, she continues to captivate fans with her compelling voice\, unparalleled energy\, and a creative brilliance that spans decades. \nThis special concert marks her incredible journey—from beginning as a reality TV contestant to reigning as Bollywood’s “Queen of Pop.” Neha’s dynamic stage presence and unparalleled versatility have made her a global phenomenon. \nBe part of this exceptional celebration of music and witness Neha Kakkar light up the stage like never before. \nGET TICKETS HERE: Neha Kakkar Live In Sydney 2025 – DryTickets.com.au
URL:https://www.indianlink.com.au/whats-on/neha-kakkar-live-in-sydney-2025/
LOCATION:Norwest Convention Centre\, 1/9 Solent Cct\, Norwest\, Sydney\, NSW\, 2153\, Australia
ATTACH;FMTTYPE=image/png:https://p9dzm74w.tinifycdn.com/wp-content/uploads/2025/02/Neha-K.png
GEO:-33.7351729;150.9614298
X-APPLE-STRUCTURED-LOCATION;VALUE=URI;X-ADDRESS=Norwest Convention Centre 1/9 Solent Cct Norwest Sydney NSW 2153 Australia;X-APPLE-RADIUS=500;X-TITLE=1/9 Solent Cct\, Norwest:geo:150.9614298,-33.7351729
END:VEVENT
END:VCALENDAR