BEGIN:VCALENDAR
VERSION:2.0
PRODID:-//Indian Link - ECPv6.15.20//NONSGML v1.0//EN
CALSCALE:GREGORIAN
METHOD:PUBLISH
X-ORIGINAL-URL:https://www.indianlink.com.au
X-WR-CALDESC:Events for Indian Link
REFRESH-INTERVAL;VALUE=DURATION:PT1H
X-Robots-Tag:noindex
X-PUBLISHED-TTL:PT1H
BEGIN:VTIMEZONE
TZID:Australia/Sydney
BEGIN:STANDARD
TZOFFSETFROM:+1100
TZOFFSETTO:+1000
TZNAME:AEST
DTSTART:20240406T160000
END:STANDARD
BEGIN:DAYLIGHT
TZOFFSETFROM:+1000
TZOFFSETTO:+1100
TZNAME:AEDT
DTSTART:20241005T160000
END:DAYLIGHT
BEGIN:STANDARD
TZOFFSETFROM:+1100
TZOFFSETTO:+1000
TZNAME:AEST
DTSTART:20250405T160000
END:STANDARD
BEGIN:DAYLIGHT
TZOFFSETFROM:+1000
TZOFFSETTO:+1100
TZNAME:AEDT
DTSTART:20251004T160000
END:DAYLIGHT
BEGIN:STANDARD
TZOFFSETFROM:+1100
TZOFFSETTO:+1000
TZNAME:AEST
DTSTART:20260404T160000
END:STANDARD
BEGIN:DAYLIGHT
TZOFFSETFROM:+1000
TZOFFSETTO:+1100
TZNAME:AEDT
DTSTART:20261003T160000
END:DAYLIGHT
END:VTIMEZONE
BEGIN:VEVENT
DTSTART;TZID=Australia/Sydney:20250830T100000
DTEND;TZID=Australia/Sydney:20250830T170000
DTSTAMP:20260425T222430
CREATED:20250814T033626Z
LAST-MODIFIED:20250829T004109Z
UID:10008438-1756548000-1756573200@www.indianlink.com.au
SUMMARY:Indian Community Day at NGV – A Celebration of Culture\, Colour & Connection
DESCRIPTION:tep into a vibrant celebration of India’s rich heritage as NGV International transforms into a hub of music\, dance\, art\, and flavour for Indian Community Day. From soulful melodies and dynamic performances to creative workshops and delicious food\, this free\, family-friendly event is a joyful immersion into culture. \n✨ Event Highlights \n\n\nHosted by Sharon Johal – Actor\, creative\, and proud advocate for community and the arts. \n\n\nIndian Drumming – Feel the powerful rhythms of traditional dhol performances (12.50 & 1.50pm\, Federation Court). \n\n\nDJ Karan – Groove to Bollywood classics and contemporary hits (11am–12.30pm & 3–5pm\, Great Hall). \n\n\nMasala Bhangra – Join Naki Khan for a high-energy Bollywood-inspired dance workout (12.30–12.50pm). \n\n\nKarma Dance – Experience a contemporary Indian dance showcase and pop-up (2pm & 3.25pm). \n\n\nDance Battle – Studio J and Sapphire Dance face off in styles from Kathak to Bhangra (2.30–3pm & 3.45–3.55pm). \n\n\nBansuri by Vinod Prasanna – Lose yourself in the soothing sounds of the Indian flute (11.45am–12.30pm & 2.30–3.30pm). \n\n\nDrawn to You – Create a personal portrait in an interactive art workshop with Swathi Madike (11.30am–3.30pm). \n\n\nFilm Screening – My Melbourne – A collection of short films celebrating diverse voices (2.30–4.30pm\, MA15+). \n\n\nTalks & Tours – From family-friendly art tours to “Heritage & Heirlooms” discussions with Preeti Jabbal. \n\n\n🍛 Indian FlavoursTreat yourself to authentic vegetarian and vegan delicacies including pakoras\, Bombay burgers\, samosas\, mango lassi\, and masala chai.
URL:https://www.indianlink.com.au/whats-on/indian-community-day-at-ngv-a-celebration-of-culture-colour-connection/
LOCATION:National Gallery of Victoria\, 180 St Kilda Road\, Melbourne\, VIC\, 3004\, Australia
CATEGORIES:Arts,Happening in Melbourne
ATTACH;FMTTYPE=image/png:https://p9dzm74w.tinifycdn.com/wp-content/uploads/2025/08/NGV.png
GEO:-37.8226009;144.9693358
X-APPLE-STRUCTURED-LOCATION;VALUE=URI;X-ADDRESS=National Gallery of Victoria 180 St Kilda Road Melbourne VIC 3004 Australia;X-APPLE-RADIUS=500;X-TITLE=180 St Kilda Road:geo:144.9693358,-37.8226009
END:VEVENT
END:VCALENDAR