BEGIN:VCALENDAR
VERSION:2.0
PRODID:-//Indian Link - ECPv6.15.20//NONSGML v1.0//EN
CALSCALE:GREGORIAN
METHOD:PUBLISH
X-WR-CALNAME:Indian Link
X-ORIGINAL-URL:https://www.indianlink.com.au
X-WR-CALDESC:Events for Indian Link
REFRESH-INTERVAL;VALUE=DURATION:PT1H
X-Robots-Tag:noindex
X-PUBLISHED-TTL:PT1H
BEGIN:VTIMEZONE
TZID:Australia/Sydney
BEGIN:STANDARD
TZOFFSETFROM:+1100
TZOFFSETTO:+1000
TZNAME:AEST
DTSTART:20240406T160000
END:STANDARD
BEGIN:DAYLIGHT
TZOFFSETFROM:+1000
TZOFFSETTO:+1100
TZNAME:AEDT
DTSTART:20241005T160000
END:DAYLIGHT
BEGIN:STANDARD
TZOFFSETFROM:+1100
TZOFFSETTO:+1000
TZNAME:AEST
DTSTART:20250405T160000
END:STANDARD
BEGIN:DAYLIGHT
TZOFFSETFROM:+1000
TZOFFSETTO:+1100
TZNAME:AEDT
DTSTART:20251004T160000
END:DAYLIGHT
BEGIN:STANDARD
TZOFFSETFROM:+1100
TZOFFSETTO:+1000
TZNAME:AEST
DTSTART:20260404T160000
END:STANDARD
BEGIN:DAYLIGHT
TZOFFSETFROM:+1000
TZOFFSETTO:+1100
TZNAME:AEDT
DTSTART:20261003T160000
END:DAYLIGHT
END:VTIMEZONE
BEGIN:VEVENT
DTSTART;VALUE=DATE:20250731
DTEND;VALUE=DATE:20250801
DTSTAMP:20260423T105846
CREATED:20250731T020739Z
LAST-MODIFIED:20250731T020739Z
UID:10008422-1753920000-1754006399@www.indianlink.com.au
SUMMARY:Sid Pattni art exhibition: The Act of Putting It Back Together
DESCRIPTION:  \nThis month\, Michael Reid Sydney will present our first solo exhibition from Naarm/Melbourne-based Indian-Australian contemporary painter Sid Pattni\, who recently joined our stable of represented artists and is currently a finalist in the Archibald Prize at the Art Gallery of New South Wales. \n“I’m interested in how aesthetics shaped under empire can be reclaimed and reconfigured to tell new stories about migration\, memory\, and identity\,” says the London-born\, Kenya-raised artist\, speaking with Belle magazine in an extensive profile published in its latest issue. “Painting became a way to process the dissonance I felt navigating multiple cultural identities. I return to themes of hybridity\, belonging and erasure\, referencing historical visual formats not as homage\, but as a means of critique and reimagining.”
URL:https://www.indianlink.com.au/whats-on/sid-pattni-art-exhibition-the-act-of-putting-it-back-together/
LOCATION:michael reid gallery\, 109 Shepherd Street\, Chippendale\, NSW\, 2077\, Australia
ATTACH;FMTTYPE=image/jpeg:https://p9dzm74w.tinifycdn.com/wp-content/uploads/2025/07/L-FRESH-the-LION-2.jpg
GEO:-33.8876496;151.1950999
X-APPLE-STRUCTURED-LOCATION;VALUE=URI;X-ADDRESS=michael reid gallery 109 Shepherd Street Chippendale NSW 2077 Australia;X-APPLE-RADIUS=500;X-TITLE=109 Shepherd Street:geo:151.1950999,-33.8876496
END:VEVENT
END:VCALENDAR