BEGIN:VCALENDAR
VERSION:2.0
PRODID:-//Indian Link - ECPv6.15.20//NONSGML v1.0//EN
CALSCALE:GREGORIAN
METHOD:PUBLISH
X-ORIGINAL-URL:https://www.indianlink.com.au
X-WR-CALDESC:Events for Indian Link
REFRESH-INTERVAL;VALUE=DURATION:PT1H
X-Robots-Tag:noindex
X-PUBLISHED-TTL:PT1H
BEGIN:VTIMEZONE
TZID:Australia/Sydney
BEGIN:STANDARD
TZOFFSETFROM:+1100
TZOFFSETTO:+1000
TZNAME:AEST
DTSTART:20240406T160000
END:STANDARD
BEGIN:DAYLIGHT
TZOFFSETFROM:+1000
TZOFFSETTO:+1100
TZNAME:AEDT
DTSTART:20241005T160000
END:DAYLIGHT
BEGIN:STANDARD
TZOFFSETFROM:+1100
TZOFFSETTO:+1000
TZNAME:AEST
DTSTART:20250405T160000
END:STANDARD
BEGIN:DAYLIGHT
TZOFFSETFROM:+1000
TZOFFSETTO:+1100
TZNAME:AEDT
DTSTART:20251004T160000
END:DAYLIGHT
BEGIN:STANDARD
TZOFFSETFROM:+1100
TZOFFSETTO:+1000
TZNAME:AEST
DTSTART:20260404T160000
END:STANDARD
BEGIN:DAYLIGHT
TZOFFSETFROM:+1000
TZOFFSETTO:+1100
TZNAME:AEDT
DTSTART:20261003T160000
END:DAYLIGHT
END:VTIMEZONE
BEGIN:VEVENT
DTSTART;TZID=Australia/Sydney:20250930T193000
DTEND;TZID=Australia/Sydney:20251004T000000
DTSTAMP:20260423T171214
CREATED:20250911T055951Z
LAST-MODIFIED:20250911T055951Z
UID:10008596-1759260600-1759536000@www.indianlink.com.au
SUMMARY:The Migration Office - Melbourne Fringe Festival
DESCRIPTION:After sold-out seasons at the Melbourne Fringe Festival 2024 and Melbourne International Comedy Festival 2025\, The Migration Office returns with a sharp\, absurd\, and delightfully spicy hour of comedy. This ethnically diverse troupe blends stand-up\, sketch\, improv\, clowning\, and storytelling to explore cultural experiences and ethnic issues. With each show unique\, audiences can expect thought-provoking humour\, playful absurdity\, and a dynamic ensemble performance. \nProduced by Benzir Siddiqui and Beray Uzunbay\, the show features Benzir Siddiqui\, Beray Uzunbay\, Lee Ton\, Shannan Tamby Lim\, Jamie Yung\, Ece Musatoff\, Esma Yucel\, Jess Ciancio\, and more. Wheelchair accessible.
URL:https://www.indianlink.com.au/whats-on/the-migration-office-melbourne-fringe-festival/
LOCATION:Meat Market – Craft Room\, 5 Blackwood St\, North Melbourne\, Melbourne\, Victoria\, 3051\, Australia
CATEGORIES:Arts,Happening in Melbourne
ATTACH;FMTTYPE=image/jpeg:https://p9dzm74w.tinifycdn.com/wp-content/uploads/2025/09/Featured-August-sept-3.jpg
GEO:-37.8015941;144.9544321
X-APPLE-STRUCTURED-LOCATION;VALUE=URI;X-ADDRESS=Meat Market – Craft Room 5 Blackwood St North Melbourne Melbourne Victoria 3051 Australia;X-APPLE-RADIUS=500;X-TITLE=5 Blackwood St\, North Melbourne:geo:144.9544321,-37.8015941
END:VEVENT
END:VCALENDAR