BEGIN:VCALENDAR
VERSION:2.0
PRODID:-//Indian Link - ECPv6.15.20//NONSGML v1.0//EN
CALSCALE:GREGORIAN
METHOD:PUBLISH
X-WR-CALNAME:Indian Link
X-ORIGINAL-URL:https://www.indianlink.com.au
X-WR-CALDESC:Events for Indian Link
REFRESH-INTERVAL;VALUE=DURATION:PT1H
X-Robots-Tag:noindex
X-PUBLISHED-TTL:PT1H
BEGIN:VTIMEZONE
TZID:Australia/Sydney
BEGIN:STANDARD
TZOFFSETFROM:+1100
TZOFFSETTO:+1000
TZNAME:AEST
DTSTART:20240406T160000
END:STANDARD
BEGIN:DAYLIGHT
TZOFFSETFROM:+1000
TZOFFSETTO:+1100
TZNAME:AEDT
DTSTART:20241005T160000
END:DAYLIGHT
BEGIN:STANDARD
TZOFFSETFROM:+1100
TZOFFSETTO:+1000
TZNAME:AEST
DTSTART:20250405T160000
END:STANDARD
BEGIN:DAYLIGHT
TZOFFSETFROM:+1000
TZOFFSETTO:+1100
TZNAME:AEDT
DTSTART:20251004T160000
END:DAYLIGHT
BEGIN:STANDARD
TZOFFSETFROM:+1100
TZOFFSETTO:+1000
TZNAME:AEST
DTSTART:20260404T160000
END:STANDARD
BEGIN:DAYLIGHT
TZOFFSETFROM:+1000
TZOFFSETTO:+1100
TZNAME:AEDT
DTSTART:20261003T160000
END:DAYLIGHT
END:VTIMEZONE
BEGIN:VEVENT
DTSTART;TZID=Australia/Sydney:20251108T223000
DTEND;TZID=Australia/Sydney:20251109T050000
DTSTAMP:20260425T233933
CREATED:20251029T023837Z
LAST-MODIFIED:20251029T023837Z
UID:10008692-1762641000-1762664400@www.indianlink.com.au
SUMMARY:Bollywood Playboy - FT. Aerreo
DESCRIPTION:If you’re in Sydney and not attending a Musketeers event\, are you even in Sydney?
URL:https://www.indianlink.com.au/whats-on/bollywood-playboy-ft-aerreo/
LOCATION:Mary’s Underground\, 29 Reiby Place\, Sydney\, NSW\, 2000\, Australia
CATEGORIES:Happening in Sydney
ATTACH;FMTTYPE=image/jpeg:https://p9dzm74w.tinifycdn.com/wp-content/uploads/2025/10/Bollywood-Playboy-FT.-Aerreo.jpeg
GEO:-33.8626518;151.2099426
X-APPLE-STRUCTURED-LOCATION;VALUE=URI;X-ADDRESS=Mary’s Underground 29 Reiby Place Sydney NSW 2000 Australia;X-APPLE-RADIUS=500;X-TITLE=29 Reiby Place:geo:151.2099426,-33.8626518
END:VEVENT
END:VCALENDAR