BEGIN:VCALENDAR
VERSION:2.0
PRODID:-//Indian Link - ECPv6.15.20//NONSGML v1.0//EN
CALSCALE:GREGORIAN
METHOD:PUBLISH
X-WR-CALNAME:Indian Link
X-ORIGINAL-URL:https://www.indianlink.com.au
X-WR-CALDESC:Events for Indian Link
REFRESH-INTERVAL;VALUE=DURATION:PT1H
X-Robots-Tag:noindex
X-PUBLISHED-TTL:PT1H
BEGIN:VTIMEZONE
TZID:Australia/Sydney
BEGIN:STANDARD
TZOFFSETFROM:+1100
TZOFFSETTO:+1000
TZNAME:AEST
DTSTART:20240406T160000
END:STANDARD
BEGIN:DAYLIGHT
TZOFFSETFROM:+1000
TZOFFSETTO:+1100
TZNAME:AEDT
DTSTART:20241005T160000
END:DAYLIGHT
BEGIN:STANDARD
TZOFFSETFROM:+1100
TZOFFSETTO:+1000
TZNAME:AEST
DTSTART:20250405T160000
END:STANDARD
BEGIN:DAYLIGHT
TZOFFSETFROM:+1000
TZOFFSETTO:+1100
TZNAME:AEDT
DTSTART:20251004T160000
END:DAYLIGHT
BEGIN:STANDARD
TZOFFSETFROM:+1100
TZOFFSETTO:+1000
TZNAME:AEST
DTSTART:20260404T160000
END:STANDARD
BEGIN:DAYLIGHT
TZOFFSETFROM:+1000
TZOFFSETTO:+1100
TZNAME:AEDT
DTSTART:20261003T160000
END:DAYLIGHT
END:VTIMEZONE
BEGIN:VEVENT
DTSTART;TZID=Australia/Sydney:20250830T143000
DTEND;TZID=Australia/Sydney:20250830T143000
DTSTAMP:20260423T121842
CREATED:20250825T011009Z
LAST-MODIFIED:20250825T024234Z
UID:10008503-1756564200-1756564200@www.indianlink.com.au
SUMMARY:Arpo Irro Festival 2025 – Sydney Onam Afterparty (Non-Sadya Ticket)
DESCRIPTION:Event Snapshot\n\n\nArpo Irro Festival 2025 – Sydney Onam Afterparty (Non-Sadya Ticket)\nCouldn’t make it for the Sadya? No worries\, the real party starts after Sadya!\nWith a Non-Sadya Ticket\, you’re invited to Sydney’s biggest Onam Afterparty  a celebration of culture\, music\, and community that goes late into the evening. \nWhat’s Waiting for You\nTraditional Onam Games\nJump into fun competitions that bring laughter\, spirit\, and togetherness. \nCultural Performances\nWitness vibrant music\, dance\, and acts that light up the stage with Onam traditions. \nCommunity Vibes\nCelebrate heritage and youth connect with friends and make new ones in a festive atmosphere. \nSydney Onam Afterparty  DJ Night Takeover\nAs the lights go down\, the beats go up! Dance the night away with high-energy DJ sets\, lights\, and unforgettable vibes. \nEntry Details\nEntry strictly from 2:30 PM onwards (after Sadya).\nThis ticket does not include Sadya.\nAccess valid for all cultural shows\, games\, and the Sydney Afterparty (DJ Night). \nImportant Information !! \nNo Alcohol Allowed\nThis is a 16+ alcohol-free event. \nAnyone found with alcohol will be removed immediately. Security and local authorities will be present. \nUnder 18? Parental Consent Required\nAll attendees aged 16–17 must submit parent/guardian consent and emergency contact details before entry.\nFill the form here: CONSENT FORM \nTickets are non-refundable unless the event is canceled. \nWith a Non-Sadya Ticket\, you get games\, cultural programs\, community vibes\, and Sydney’s biggest Onam Afterparty (DJ Night Takeover). Don’t miss it! \nGet your tickets here: https://eventik.com.au/event/festival-or-fair-arpo-irro-festival-2025-sydney-onam-afterparty-non-sadya-ticket/
URL:https://www.indianlink.com.au/whats-on/arpo-irro-festival-2025-sydney-onam-afterparty-non-sadya-ticket/
LOCATION:Marsden High School\, 8 Rhodes St\, Meadowbank\, Sydney\, NSW\, 2114\, Australia
ATTACH;FMTTYPE=image/png:https://p9dzm74w.tinifycdn.com/wp-content/uploads/2025/08/Arpo-Irro-Festival-2025-Sydney.png
GEO:-33.812708;151.0912635
X-APPLE-STRUCTURED-LOCATION;VALUE=URI;X-ADDRESS=Marsden High School 8 Rhodes St Meadowbank Sydney NSW 2114 Australia;X-APPLE-RADIUS=500;X-TITLE=8 Rhodes St\, Meadowbank:geo:151.0912635,-33.812708
END:VEVENT
END:VCALENDAR