BEGIN:VCALENDAR
VERSION:2.0
PRODID:-//Indian Link - ECPv6.15.20//NONSGML v1.0//EN
CALSCALE:GREGORIAN
METHOD:PUBLISH
X-WR-CALNAME:Indian Link
X-ORIGINAL-URL:https://www.indianlink.com.au
X-WR-CALDESC:Events for Indian Link
REFRESH-INTERVAL;VALUE=DURATION:PT1H
X-Robots-Tag:noindex
X-PUBLISHED-TTL:PT1H
BEGIN:VTIMEZONE
TZID:Australia/Sydney
BEGIN:STANDARD
TZOFFSETFROM:+1100
TZOFFSETTO:+1000
TZNAME:AEST
DTSTART:20240406T160000
END:STANDARD
BEGIN:DAYLIGHT
TZOFFSETFROM:+1000
TZOFFSETTO:+1100
TZNAME:AEDT
DTSTART:20241005T160000
END:DAYLIGHT
BEGIN:STANDARD
TZOFFSETFROM:+1100
TZOFFSETTO:+1000
TZNAME:AEST
DTSTART:20250405T160000
END:STANDARD
BEGIN:DAYLIGHT
TZOFFSETFROM:+1000
TZOFFSETTO:+1100
TZNAME:AEDT
DTSTART:20251004T160000
END:DAYLIGHT
BEGIN:STANDARD
TZOFFSETFROM:+1100
TZOFFSETTO:+1000
TZNAME:AEST
DTSTART:20260404T160000
END:STANDARD
BEGIN:DAYLIGHT
TZOFFSETFROM:+1000
TZOFFSETTO:+1100
TZNAME:AEDT
DTSTART:20261003T160000
END:DAYLIGHT
END:VTIMEZONE
BEGIN:VEVENT
DTSTART;TZID=Australia/Sydney:20250228T193000
DTEND;TZID=Australia/Sydney:20250228T203000
DTSTAMP:20260423T115740
CREATED:20241203T022538Z
LAST-MODIFIED:20241203T022538Z
UID:10002416-1740771000-1740774600@www.indianlink.com.au
SUMMARY:A Stand Up Comedy Show by Haseeb Khan
DESCRIPTION:  \nDropped out TWICE from two different colleges\, Haseeb Khan is on a journey to turn failures into punchlines. Join him as he shares his life’s hilarious ups and downs. \nNow he’s coming to Australia with his new show titled ‘A Stand Up Comedy Show.’ \n  \nGET TICKETS HERE: A Stand Up Comedy Show 
URL:https://www.indianlink.com.au/whats-on/a-stand-up-comedy-show-by-haseeb-khan/
LOCATION:Marana Auditorium – Hurstville Entertainment Centre\, 16 Macmahon Street Hurstville\, Sydney\, NSW\, 2220
ATTACH;FMTTYPE=image/jpeg:https://p9dzm74w.tinifycdn.com/wp-content/uploads/2024/12/Haseeb-Khan.jpg
GEO:-33.9644755;151.1020473
X-APPLE-STRUCTURED-LOCATION;VALUE=URI;X-ADDRESS=Marana Auditorium – Hurstville Entertainment Centre 16 Macmahon Street Hurstville Sydney NSW 2220;X-APPLE-RADIUS=500;X-TITLE=16 Macmahon Street Hurstville:geo:151.1020473,-33.9644755
END:VEVENT
END:VCALENDAR