BEGIN:VCALENDAR
VERSION:2.0
PRODID:-//Indian Link - ECPv6.15.20//NONSGML v1.0//EN
CALSCALE:GREGORIAN
METHOD:PUBLISH
X-WR-CALNAME:Indian Link
X-ORIGINAL-URL:https://www.indianlink.com.au
X-WR-CALDESC:Events for Indian Link
REFRESH-INTERVAL;VALUE=DURATION:PT1H
X-Robots-Tag:noindex
X-PUBLISHED-TTL:PT1H
BEGIN:VTIMEZONE
TZID:Australia/Sydney
BEGIN:STANDARD
TZOFFSETFROM:+1100
TZOFFSETTO:+1000
TZNAME:AEST
DTSTART:20250405T160000
END:STANDARD
BEGIN:DAYLIGHT
TZOFFSETFROM:+1000
TZOFFSETTO:+1100
TZNAME:AEDT
DTSTART:20251004T160000
END:DAYLIGHT
BEGIN:STANDARD
TZOFFSETFROM:+1100
TZOFFSETTO:+1000
TZNAME:AEST
DTSTART:20260404T160000
END:STANDARD
BEGIN:DAYLIGHT
TZOFFSETFROM:+1000
TZOFFSETTO:+1100
TZNAME:AEDT
DTSTART:20261003T160000
END:DAYLIGHT
BEGIN:STANDARD
TZOFFSETFROM:+1100
TZOFFSETTO:+1000
TZNAME:AEST
DTSTART:20270403T160000
END:STANDARD
BEGIN:DAYLIGHT
TZOFFSETFROM:+1000
TZOFFSETTO:+1100
TZNAME:AEDT
DTSTART:20271002T160000
END:DAYLIGHT
END:VTIMEZONE
BEGIN:VEVENT
DTSTART;VALUE=DATE:20260208
DTEND;VALUE=DATE:20260216
DTSTAMP:20260423T075934
CREATED:20260203T062043Z
LAST-MODIFIED:20260203T062043Z
UID:10008763-1770508800-1771199999@www.indianlink.com.au
SUMMARY:a river is a witness
DESCRIPTION:  \n\nI remember.  \nIt is a simple and honest act – to resist forgetting – and yet its faculty is one of profound determination\, resilience\, and resistance. \na river is a witness is a solo exhibition of works by Jagath Dheerasekara: a multi-disciplinary artist who\, born in Sri Lanka\, was forced to flee the island in the early 1990s due to his political and human rights activism— a result of the 1987-1990 Southern People’s Uprising. Outside the minds of witnesses\, events of that period remain largely undocumented. Obscured in – and at times\, completely erased from – official history records\, silenced in public discourse\, and left unspoken by many who lived through it. But memory\, too\, leaves a trace.   \nIn this exhibition\, Dheerasekara takes on the role of the archivist: someone who documents\, records\, and recalls memories for safekeeping\, collecting and categorising the intangible and the almost-lost. Only the archive at hand is not one of official record: his is an archive of traces\, silences\, and residue. Of memory and emotion\, of scars and fragments\, of stories passed or carried within. These are the remnants that endure.  \nThe river emerges as a powerful metaphor. It\, too\, an archive and a repository. Of something that courses\, unceasing\, through past and present\, from generation to generation. A witness to time\, and a carrier of what lies beneath. This exhibition reminds us to reflect on what is lost when histories are buried\, but also to take note of that which persists — which refuses to be forgotten – and the value that lies within that ceaseless\, simple\, resilient gesture.  \na river is a witness invites us to reflect on the importance of remembering complex histories— to bear witness\, to honour those affected\, and to challenge the forces that seek to bury them. \nTo insist\, I remember.  \nGET TICKETS HERE: A river is a witness
URL:https://www.indianlink.com.au/whats-on/a-river-is-a-witness/
LOCATION:Lewers House\, Penrith Regional Gallery\, 86 River Rd\, Emu Plains\, Sydney\, NSW\, 2750\, Australia
ATTACH;FMTTYPE=image/jpeg:https://p9dzm74w.tinifycdn.com/wp-content/uploads/2026/02/A-river-is-a-witness.jpg
GEO:-33.7581106;150.6648006
X-APPLE-STRUCTURED-LOCATION;VALUE=URI;X-ADDRESS=Lewers House Penrith Regional Gallery 86 River Rd Emu Plains Sydney NSW 2750 Australia;X-APPLE-RADIUS=500;X-TITLE=Penrith Regional Gallery\, 86 River Rd\, Emu Plains:geo:150.6648006,-33.7581106
END:VEVENT
END:VCALENDAR