BEGIN:VCALENDAR
VERSION:2.0
PRODID:-//Indian Link - ECPv6.15.20//NONSGML v1.0//EN
CALSCALE:GREGORIAN
METHOD:PUBLISH
X-ORIGINAL-URL:https://www.indianlink.com.au
X-WR-CALDESC:Events for Indian Link
REFRESH-INTERVAL;VALUE=DURATION:PT1H
X-Robots-Tag:noindex
X-PUBLISHED-TTL:PT1H
BEGIN:VTIMEZONE
TZID:Australia/Sydney
BEGIN:STANDARD
TZOFFSETFROM:+1100
TZOFFSETTO:+1000
TZNAME:AEST
DTSTART:20240406T160000
END:STANDARD
BEGIN:DAYLIGHT
TZOFFSETFROM:+1000
TZOFFSETTO:+1100
TZNAME:AEDT
DTSTART:20241005T160000
END:DAYLIGHT
BEGIN:STANDARD
TZOFFSETFROM:+1100
TZOFFSETTO:+1000
TZNAME:AEST
DTSTART:20250405T160000
END:STANDARD
BEGIN:DAYLIGHT
TZOFFSETFROM:+1000
TZOFFSETTO:+1100
TZNAME:AEDT
DTSTART:20251004T160000
END:DAYLIGHT
BEGIN:STANDARD
TZOFFSETFROM:+1100
TZOFFSETTO:+1000
TZNAME:AEST
DTSTART:20260404T160000
END:STANDARD
BEGIN:DAYLIGHT
TZOFFSETFROM:+1000
TZOFFSETTO:+1100
TZNAME:AEDT
DTSTART:20261003T160000
END:DAYLIGHT
END:VTIMEZONE
BEGIN:VEVENT
DTSTART;TZID=Australia/Sydney:20250227T183000
DTEND;TZID=Australia/Sydney:20250227T193000
DTSTAMP:20260423T100207
CREATED:20250115T071203Z
LAST-MODIFIED:20250115T071203Z
UID:10002455-1740681000-1740684600@www.indianlink.com.au
SUMMARY:Pankaj Mishra: Global Conflicts\, Competing Narratives
DESCRIPTION:  \nPankaj Mishra | Simon Longstaff \nIn a timely and thought-provoking discussion\, essayist and author of the soon-to-be-released The World After Gaza\, Pankaj Mishra reflects on the ongoing war in Gaza\, examining how competing narratives of colonialism\, national identity and justice collide with tragic consequences for all. \nIn an evening of conversation with philosopher and Executive Director of The Ethics Centre Simon Longstaff\, Mishra will delve into the historical\, political and ethical forces shaping our world\, the waning influence of the Global North and the role of journalism in actively constructing and distorting reality. \nEngage with Mishra on the difficult questions and complex issues arising from today’s global conflicts. The Centre for Ideas invites you to ask yourself: how can we collectively build societal cohesion and resilience? \nGET TICKETS HERE: Pankaj Mishra: Global Conflicts\, Competing Narratives | UNSW Sydney
URL:https://www.indianlink.com.au/whats-on/pankaj-mishra-global-conflicts-competing-narratives/
LOCATION:Leighton Hall\, UNSW\, Kensington\, Library Road\, Kensington\, NSW\, 2033\, Australia
ATTACH;FMTTYPE=image/png:https://p9dzm74w.tinifycdn.com/wp-content/uploads/2025/01/Pankaj.png
GEO:-33.9180194;151.2321015
X-APPLE-STRUCTURED-LOCATION;VALUE=URI;X-ADDRESS=Leighton Hall UNSW Kensington Library Road Kensington NSW 2033 Australia;X-APPLE-RADIUS=500;X-TITLE=Library Road:geo:151.2321015,-33.9180194
END:VEVENT
END:VCALENDAR