BEGIN:VCALENDAR
VERSION:2.0
PRODID:-//Indian Link - ECPv6.15.20//NONSGML v1.0//EN
CALSCALE:GREGORIAN
METHOD:PUBLISH
X-WR-CALNAME:Indian Link
X-ORIGINAL-URL:https://www.indianlink.com.au
X-WR-CALDESC:Events for Indian Link
REFRESH-INTERVAL;VALUE=DURATION:PT1H
X-Robots-Tag:noindex
X-PUBLISHED-TTL:PT1H
BEGIN:VTIMEZONE
TZID:Australia/Sydney
BEGIN:STANDARD
TZOFFSETFROM:+1100
TZOFFSETTO:+1000
TZNAME:AEST
DTSTART:20240406T160000
END:STANDARD
BEGIN:DAYLIGHT
TZOFFSETFROM:+1000
TZOFFSETTO:+1100
TZNAME:AEDT
DTSTART:20241005T160000
END:DAYLIGHT
BEGIN:STANDARD
TZOFFSETFROM:+1100
TZOFFSETTO:+1000
TZNAME:AEST
DTSTART:20250405T160000
END:STANDARD
BEGIN:DAYLIGHT
TZOFFSETFROM:+1000
TZOFFSETTO:+1100
TZNAME:AEDT
DTSTART:20251004T160000
END:DAYLIGHT
BEGIN:STANDARD
TZOFFSETFROM:+1100
TZOFFSETTO:+1000
TZNAME:AEST
DTSTART:20260404T160000
END:STANDARD
BEGIN:DAYLIGHT
TZOFFSETFROM:+1000
TZOFFSETTO:+1100
TZNAME:AEDT
DTSTART:20261003T160000
END:DAYLIGHT
END:VTIMEZONE
BEGIN:VEVENT
DTSTART;TZID=Australia/Sydney:20250826T080000
DTEND;TZID=Australia/Sydney:20250826T170000
DTSTAMP:20260426T083111
CREATED:20250826T045753Z
LAST-MODIFIED:20250826T045753Z
UID:10008534-1756195200-1756227600@www.indianlink.com.au
SUMMARY:Makeup Master Class by Roop Kaur Sandhu - Live in Sydney 2025
DESCRIPTION:What you’all learn \n\nSelf Makeup Session\nOne Bridal Makeup\nSkincare & Product Knowledge\nMaking Familiar with Right Brishes\nClient Dealings\n\nGet your tickets here : Makeup Master Class by Roop Kaur Sandhu – Live in Sydney 2025 – DryTickets.com.au
URL:https://www.indianlink.com.au/whats-on/makeup-master-class-by-roop-kaur-sandhu-live-in-sydney-2025/
LOCATION:Laneway Education – Sydney  Level 7/11 – 31 York St Sydney  NSW 2000 \, Australia\, Laneway Education - Sydney Level 7/11 - 31 York St\, Sydney\, NSW\, 2000\, Australia
ATTACH;FMTTYPE=image/png:https://p9dzm74w.tinifycdn.com/wp-content/uploads/2025/08/Capture-10.png
GEO:-33.8653149;151.205438
X-APPLE-STRUCTURED-LOCATION;VALUE=URI;X-ADDRESS=Laneway Education – Sydney  Level 7/11 – 31 York St Sydney  NSW 2000  Australia Laneway Education - Sydney Level 7/11 - 31 York St Sydney NSW 2000 Australia;X-APPLE-RADIUS=500;X-TITLE=Laneway Education - Sydney Level 7/11 - 31 York St:geo:151.205438,-33.8653149
END:VEVENT
END:VCALENDAR