BEGIN:VCALENDAR
VERSION:2.0
PRODID:-//Indian Link - ECPv6.15.20//NONSGML v1.0//EN
CALSCALE:GREGORIAN
METHOD:PUBLISH
X-ORIGINAL-URL:https://www.indianlink.com.au
X-WR-CALDESC:Events for Indian Link
REFRESH-INTERVAL;VALUE=DURATION:PT1H
X-Robots-Tag:noindex
X-PUBLISHED-TTL:PT1H
BEGIN:VTIMEZONE
TZID:Australia/Sydney
BEGIN:STANDARD
TZOFFSETFROM:+1100
TZOFFSETTO:+1000
TZNAME:AEST
DTSTART:20240406T160000
END:STANDARD
BEGIN:DAYLIGHT
TZOFFSETFROM:+1000
TZOFFSETTO:+1100
TZNAME:AEDT
DTSTART:20241005T160000
END:DAYLIGHT
BEGIN:STANDARD
TZOFFSETFROM:+1100
TZOFFSETTO:+1000
TZNAME:AEST
DTSTART:20250405T160000
END:STANDARD
BEGIN:DAYLIGHT
TZOFFSETFROM:+1000
TZOFFSETTO:+1100
TZNAME:AEDT
DTSTART:20251004T160000
END:DAYLIGHT
BEGIN:STANDARD
TZOFFSETFROM:+1100
TZOFFSETTO:+1000
TZNAME:AEST
DTSTART:20260404T160000
END:STANDARD
BEGIN:DAYLIGHT
TZOFFSETFROM:+1000
TZOFFSETTO:+1100
TZNAME:AEDT
DTSTART:20261003T160000
END:DAYLIGHT
END:VTIMEZONE
BEGIN:VEVENT
DTSTART;TZID=Australia/Sydney:20250830T120000
DTEND;TZID=Australia/Sydney:20250830T130000
DTSTAMP:20260423T141825
CREATED:20250826T044847Z
LAST-MODIFIED:20250826T044847Z
UID:10008533-1756555200-1756558800@www.indianlink.com.au
SUMMARY:Makeup Master Class by Roop Kaur Sandhu - Live in Melbourne 2025
DESCRIPTION:What you’all learn \n\nSelf Makeup Session\nOne Bridal Makeup\nSkincare & Product Knowledge\nMaking Familiar with Right Brishes\nClient Dealings\n\nget your tickets here : Makeup Master Class by Roop Kaur Sandhu – Live in Melbourne 2025 – DryTickets.com.au
URL:https://www.indianlink.com.au/whats-on/makeup-master-class-by-roop-kaur-sandhu-live-in-melbourne-2025/
LOCATION:Laneway Education – Melbourne  Level 7/118 Queen Street Melbourne  VIC 3000 \, Australia\, Laneway Education - Melbourne Level 7/118 Queen Street\, Melbourne\, Victoria\, 3000\, Australia
ATTACH;FMTTYPE=image/png:https://p9dzm74w.tinifycdn.com/wp-content/uploads/2025/08/Capture-9.png
GEO:-37.8156943;144.9612155
X-APPLE-STRUCTURED-LOCATION;VALUE=URI;X-ADDRESS=Laneway Education – Melbourne  Level 7/118 Queen Street Melbourne  VIC 3000  Australia Laneway Education - Melbourne Level 7/118 Queen Street Melbourne Victoria 3000 Australia;X-APPLE-RADIUS=500;X-TITLE=Laneway Education - Melbourne Level 7/118 Queen Street:geo:144.9612155,-37.8156943
END:VEVENT
END:VCALENDAR