BEGIN:VCALENDAR
VERSION:2.0
PRODID:-//Indian Link - ECPv6.15.20//NONSGML v1.0//EN
CALSCALE:GREGORIAN
METHOD:PUBLISH
X-WR-CALNAME:Indian Link
X-ORIGINAL-URL:https://www.indianlink.com.au
X-WR-CALDESC:Events for Indian Link
REFRESH-INTERVAL;VALUE=DURATION:PT1H
X-Robots-Tag:noindex
X-PUBLISHED-TTL:PT1H
BEGIN:VTIMEZONE
TZID:Australia/Sydney
BEGIN:STANDARD
TZOFFSETFROM:+1100
TZOFFSETTO:+1000
TZNAME:AEST
DTSTART:20240406T160000
END:STANDARD
BEGIN:DAYLIGHT
TZOFFSETFROM:+1000
TZOFFSETTO:+1100
TZNAME:AEDT
DTSTART:20241005T160000
END:DAYLIGHT
BEGIN:STANDARD
TZOFFSETFROM:+1100
TZOFFSETTO:+1000
TZNAME:AEST
DTSTART:20250405T160000
END:STANDARD
BEGIN:DAYLIGHT
TZOFFSETFROM:+1000
TZOFFSETTO:+1100
TZNAME:AEDT
DTSTART:20251004T160000
END:DAYLIGHT
BEGIN:STANDARD
TZOFFSETFROM:+1100
TZOFFSETTO:+1000
TZNAME:AEST
DTSTART:20260404T160000
END:STANDARD
BEGIN:DAYLIGHT
TZOFFSETFROM:+1000
TZOFFSETTO:+1100
TZNAME:AEDT
DTSTART:20261003T160000
END:DAYLIGHT
END:VTIMEZONE
BEGIN:VEVENT
DTSTART;TZID=Australia/Sydney:20250209T153000
DTEND;TZID=Australia/Sydney:20250209T183000
DTSTAMP:20260426T031909
CREATED:20250120T061639Z
LAST-MODIFIED:20250203T230700Z
UID:10002462-1739115000-1739125800@www.indianlink.com.au
SUMMARY:Pink Sari Inc. Cancer Awareness Walk
DESCRIPTION:  \n\nPink Sari Inc is excited to be hosting a Cancer Awareness Walk on the 9th of February 2025 at Jubilee Park\, in Harris Park to commemorate World Cancer Day. Inspired by the new World Cancer Day campaign 2025-27 “United by Unique” this walk aims to spread awareness of cancer\, cancer screening and person-centred cancer care within the health system and the community.\n\n\n\nThis event is supported by the Cancer Institute NSW. We look forward to seeing you all there.\n\n\nREGISTER HERE: https://www.trybooking.com/events/landing/1337476 
URL:https://www.indianlink.com.au/whats-on/pink-sari-inc-cancer-awareness-walk/
LOCATION:Jubilee Park\, Parkes Street 7A\, Parramatta\, New South Wales\, 2150\, Australia
ATTACH;FMTTYPE=image/jpeg:https://p9dzm74w.tinifycdn.com/wp-content/uploads/2025/01/Pink-Saari-collective.jpg
GEO:-33.8205609;151.0058251
X-APPLE-STRUCTURED-LOCATION;VALUE=URI;X-ADDRESS=Jubilee Park Parkes Street 7A Parramatta New South Wales 2150 Australia;X-APPLE-RADIUS=500;X-TITLE=Parkes Street 7A:geo:151.0058251,-33.8205609
END:VEVENT
END:VCALENDAR