BEGIN:VCALENDAR
VERSION:2.0
PRODID:-//Indian Link - ECPv6.15.20//NONSGML v1.0//EN
CALSCALE:GREGORIAN
METHOD:PUBLISH
X-WR-CALNAME:Indian Link
X-ORIGINAL-URL:https://www.indianlink.com.au
X-WR-CALDESC:Events for Indian Link
REFRESH-INTERVAL;VALUE=DURATION:PT1H
X-Robots-Tag:noindex
X-PUBLISHED-TTL:PT1H
BEGIN:VTIMEZONE
TZID:Australia/Sydney
BEGIN:STANDARD
TZOFFSETFROM:+1100
TZOFFSETTO:+1000
TZNAME:AEST
DTSTART:20240406T160000
END:STANDARD
BEGIN:DAYLIGHT
TZOFFSETFROM:+1000
TZOFFSETTO:+1100
TZNAME:AEDT
DTSTART:20241005T160000
END:DAYLIGHT
BEGIN:STANDARD
TZOFFSETFROM:+1100
TZOFFSETTO:+1000
TZNAME:AEST
DTSTART:20250405T160000
END:STANDARD
BEGIN:DAYLIGHT
TZOFFSETFROM:+1000
TZOFFSETTO:+1100
TZNAME:AEDT
DTSTART:20251004T160000
END:DAYLIGHT
BEGIN:STANDARD
TZOFFSETFROM:+1100
TZOFFSETTO:+1000
TZNAME:AEST
DTSTART:20260404T160000
END:STANDARD
BEGIN:DAYLIGHT
TZOFFSETFROM:+1000
TZOFFSETTO:+1100
TZNAME:AEDT
DTSTART:20261003T160000
END:DAYLIGHT
END:VTIMEZONE
BEGIN:VEVENT
DTSTART;TZID=Australia/Sydney:20250913T170000
DTEND;TZID=Australia/Sydney:20250913T190000
DTSTAMP:20260423T170635
CREATED:20250821T013703Z
LAST-MODIFIED:20250821T013703Z
UID:10008470-1757782800-1757790000@www.indianlink.com.au
SUMMARY:ਸਾਂਝ: ਕਹਾਣੀਆਂ\, ਹਵਾ ਅਤੇ ਜ਼ਮੀਨ سانجھ: کہانیاں، ہوا تے زمین Togetherness: Stories\, Air & Land Film Screening
DESCRIPTION:In memory of the life and work of Bhagat Puran Singh\, 33 years from his passing. \nJoin us for a community film screening and conversation that connects coal projects in Australia\, climate impacts in Punjab\, and our shared responsibility to act with care. \nسانجھ: کہانیاں، ہوا تے زمین | ਸਾਂਝ: ਕਹਾਣੀਆਂ\, ਹਵਾ ਅਤੇ ਜ਼ਮੀਨ \nTogether\, we’ll watch the powerful short film Voices for the Valley\, which follows Manjot Kaur\, a young climate leader raised in Mudgee—a region on Wiradjuri land where locals have resisted coal for over two decades—and rooted in Punjab\, where her ancestral village is facing heatwaves\, drought\, and ecological breakdown. \nThrough film\, stories\, chai and conversation\, we’ll explore what it means to protect land\, honour relationships\, and reimagine seva in a time of climate crisis.\nIn the spirit of saãjh—shared existence—this event invites us to pause\, listen\, and notice the patterns between seemingly distant places: Wollar\, Mudgee\, Punjab. \nAfter the screening\, we’ll open a warm\, welcoming space for storytelling\, reflection\, and collective action. Inspired by the life and seva of Bhagat Puran Singh Ji. \nWe’ll offer: \n\nScreening of Voices for the Valley (20 mins) 🎥 \nA simple guide and template to make submissions opposing a major coal project\nThe chance to write or call your local MP or Minister Scully on the spot\nStories of youth leadership and seva in disaster response—and how we shift from reaction to prevention\nA community WhatsApp group to stay connected and support each other\nOpportunities to build confidence in political engagement—especially for those new to it\n\nWe invite parents\, youth\, elders\, volunteers\, artists\, sports teams\, and changemakers across our community. \n☕ Chai\, Pakoras\, Sweets Provided\nLet’s grow our collective voice\, and honour those who came before us—like Bhagat Puran Singh Ji\, whose love for justice included love for the environment\, land and people. \nAll ticket sales go to covering the cost of the venue and food. 20% of the ticket sale goes to Bhagat Puran Singh’s Pingalwara in Amristar. \nGet your tickets here: https://events.humanitix.com/togethernesssyd?c=email
URL:https://www.indianlink.com.au/whats-on/%e0%a8%b8%e0%a8%be%e0%a8%82%e0%a8%9d-%e0%a8%95%e0%a8%b9%e0%a8%be%e0%a8%a3%e0%a9%80%e0%a8%86%e0%a8%82-%e0%a8%b9%e0%a8%b5%e0%a8%be-%e0%a8%85%e0%a8%a4%e0%a9%87-%e0%a8%9c%e0%a8%bc%e0%a8%ae%e0%a9%80/
LOCATION:Jim Southee Community Centre
ATTACH;FMTTYPE=image/png:https://p9dzm74w.tinifycdn.com/wp-content/uploads/2025/08/Togetherness-Stories-Air-Land.png
END:VEVENT
END:VCALENDAR