BEGIN:VCALENDAR
VERSION:2.0
PRODID:-//Indian Link - ECPv6.15.20//NONSGML v1.0//EN
CALSCALE:GREGORIAN
METHOD:PUBLISH
X-WR-CALNAME:Indian Link
X-ORIGINAL-URL:https://www.indianlink.com.au
X-WR-CALDESC:Events for Indian Link
REFRESH-INTERVAL;VALUE=DURATION:PT1H
X-Robots-Tag:noindex
X-PUBLISHED-TTL:PT1H
BEGIN:VTIMEZONE
TZID:Australia/Sydney
BEGIN:STANDARD
TZOFFSETFROM:+1100
TZOFFSETTO:+1000
TZNAME:AEST
DTSTART:20240406T160000
END:STANDARD
BEGIN:DAYLIGHT
TZOFFSETFROM:+1000
TZOFFSETTO:+1100
TZNAME:AEDT
DTSTART:20241005T160000
END:DAYLIGHT
BEGIN:STANDARD
TZOFFSETFROM:+1100
TZOFFSETTO:+1000
TZNAME:AEST
DTSTART:20250405T160000
END:STANDARD
BEGIN:DAYLIGHT
TZOFFSETFROM:+1000
TZOFFSETTO:+1100
TZNAME:AEDT
DTSTART:20251004T160000
END:DAYLIGHT
BEGIN:STANDARD
TZOFFSETFROM:+1100
TZOFFSETTO:+1000
TZNAME:AEST
DTSTART:20260404T160000
END:STANDARD
BEGIN:DAYLIGHT
TZOFFSETFROM:+1000
TZOFFSETTO:+1100
TZNAME:AEDT
DTSTART:20261003T160000
END:DAYLIGHT
END:VTIMEZONE
BEGIN:VEVENT
DTSTART;TZID=Australia/Sydney:20250823T190000
DTEND;TZID=Australia/Sydney:20250823T220000
DTSTAMP:20260426T010954
CREATED:20250822T013444Z
LAST-MODIFIED:20250822T013444Z
UID:10008496-1755975600-1755986400@www.indianlink.com.au
SUMMARY:Gurdas Maan Live in Adelaide – Yaar Punjab Tour 2025
DESCRIPTION:  \nGet ready for an unforgettable musical experience as the legendary Gurdas Maan takes the stage in Adelaide for his much-awaited Yaar Punjab Tour 2025. The iconic artist will be performing live at the Influencers Theatre\, located at 57 Darley Rd\, Paradise\, South Australia\, 5075 on Saturday\, 23rd August 2025\, at 7:00 PM. \nGurdas Maan\, known for his soulful voice and heartwarming lyrics\, is a name that resonates deeply with music lovers worldwide. This live concert will be an opportunity to witness the power of his music\, culture\, and emotions in one spectacular show. \nEvent Highlights: \n\nLive performance by Gurdas Maan\nVibrant Punjabi music that will touch your heart\nA night filled with high-energy performances and live interaction\nExperience the Yaar Punjab Tour 2025 exclusively in Adelaide\n\nWhether you’re a die-hard fan or a newcomer to Gurdas Maan’s music\, this event is not to be missed. Get your tickets now and be part of a night that promises unforgettable memories! \nGET TICKETS HERE: https://www.premiertickets.co/event/gurdas-maan-live-in-adelaide-yaar-punjab-tour-2025/
URL:https://www.indianlink.com.au/whats-on/gurdas-maan-live-in-adelaide-yaar-punjab-tour-2025/
LOCATION:Influencers Theatre\, 57 Darley Rd\, Paradise\, Adelaide\, SA\, 5075\, Australia
ATTACH;FMTTYPE=image/png:https://p9dzm74w.tinifycdn.com/wp-content/uploads/2025/08/Gurdas-Maan.png
GEO:-34.8699439;138.6681757
X-APPLE-STRUCTURED-LOCATION;VALUE=URI;X-ADDRESS=Influencers Theatre 57 Darley Rd Paradise Adelaide SA 5075 Australia;X-APPLE-RADIUS=500;X-TITLE=57 Darley Rd\, Paradise:geo:138.6681757,-34.8699439
END:VEVENT
END:VCALENDAR