BEGIN:VCALENDAR
VERSION:2.0
PRODID:-//Indian Link - ECPv6.15.20//NONSGML v1.0//EN
CALSCALE:GREGORIAN
METHOD:PUBLISH
X-WR-CALNAME:Indian Link
X-ORIGINAL-URL:https://www.indianlink.com.au
X-WR-CALDESC:Events for Indian Link
REFRESH-INTERVAL;VALUE=DURATION:PT1H
X-Robots-Tag:noindex
X-PUBLISHED-TTL:PT1H
BEGIN:VTIMEZONE
TZID:Australia/Sydney
BEGIN:STANDARD
TZOFFSETFROM:+1100
TZOFFSETTO:+1000
TZNAME:AEST
DTSTART:20240406T160000
END:STANDARD
BEGIN:DAYLIGHT
TZOFFSETFROM:+1000
TZOFFSETTO:+1100
TZNAME:AEDT
DTSTART:20241005T160000
END:DAYLIGHT
BEGIN:STANDARD
TZOFFSETFROM:+1100
TZOFFSETTO:+1000
TZNAME:AEST
DTSTART:20250405T160000
END:STANDARD
BEGIN:DAYLIGHT
TZOFFSETFROM:+1000
TZOFFSETTO:+1100
TZNAME:AEDT
DTSTART:20251004T160000
END:DAYLIGHT
BEGIN:STANDARD
TZOFFSETFROM:+1100
TZOFFSETTO:+1000
TZNAME:AEST
DTSTART:20260404T160000
END:STANDARD
BEGIN:DAYLIGHT
TZOFFSETFROM:+1000
TZOFFSETTO:+1100
TZNAME:AEDT
DTSTART:20261003T160000
END:DAYLIGHT
END:VTIMEZONE
BEGIN:VEVENT
DTSTART;TZID=Australia/Sydney:20251003T120000
DTEND;TZID=Australia/Sydney:20251003T133000
DTSTAMP:20260423T114129
CREATED:20250819T004351Z
LAST-MODIFIED:20250819T004351Z
UID:10008442-1759492800-1759498200@www.indianlink.com.au
SUMMARY:Moon Futures - Powerhouse Musuem
DESCRIPTION:  \n\nMoon Futures brings together space leaders\, designers\, astrophysicists and lawyers to talk about humanity’s future on the Moon. Featuring Aarti Holla-Maini (UN Office for Outer Space Affairs)\, Dr Dava Newman (MIT Media Lab\, formerly NASA Deputy Administrator)\, Xavier De Kestelier\, (Hassell)\, Ben Sorensen (ELO2) and Karlie Noon (Gamilaraay astrophysicist). The talk will explore plans to return astronauts to the Moon\, developments in lunar architecture\, and the ethical implications of human activity on the Moon. \n\n\nThis is an Auslan interpreted event. \n\nGET TICKETS HERE: https://powerhouse.com.au/program/moon-futures
URL:https://www.indianlink.com.au/whats-on/moon-futures-powerhouse-musuem/
LOCATION:ICC Sydney Darling Harbour\, 14 Darling Dr\,\, Sydney\, NSW\, 2000\, Australia
ATTACH;FMTTYPE=image/png:https://p9dzm74w.tinifycdn.com/wp-content/uploads/2025/08/Aarti.png
GEO:-33.8751814;151.1998628
X-APPLE-STRUCTURED-LOCATION;VALUE=URI;X-ADDRESS=ICC Sydney Darling Harbour 14 Darling Dr Sydney NSW 2000 Australia;X-APPLE-RADIUS=500;X-TITLE=14 Darling Dr\,:geo:151.1998628,-33.8751814
END:VEVENT
BEGIN:VEVENT
DTSTART;TZID=Australia/Sydney:20250919T190000
DTEND;TZID=Australia/Sydney:20250919T190000
DTSTAMP:20260423T114129
CREATED:20250825T011636Z
LAST-MODIFIED:20250825T023638Z
UID:10008504-1758308400-1758308400@www.indianlink.com.au
SUMMARY:Thenisai Thendral Deva Live in Concert –  "King of Gaana"
DESCRIPTION:Experience an unforgettable night as the legendary Deva sir takes the stage live\, celebrating his iconic contribution to Tamil cinema. From foot-tapping kuthu beats to heartwarming melodies\, his music defined the 90s and early 2000s\, leaving a lasting mark on Tamil music lovers everywhere. \nThis concert is a tribute to the man behind countless chartbusters that still live in our hearts. Whether you’re a lifelong fan or just discovering his sound\, get ready for a night full of rhythm\, nostalgia\, and pure musical energy. \nDon’t miss this once-in-a-lifetime experience and be part of the magic! \nBook your tickets here: https://premier.ticketek.com.au/shows/show.aspx?sh=THENISAI25&eg=DEVA&ep=DEVAPRE
URL:https://www.indianlink.com.au/whats-on/thenisai-thendral-deva-live-in-concert-king-of-gaana/
LOCATION:ICC Sydney Darling Harbour\, 14 Darling Dr\,\, Sydney\, NSW\, 2000\, Australia
ATTACH;FMTTYPE=image/png:https://p9dzm74w.tinifycdn.com/wp-content/uploads/2025/08/KING-OF-GAANA.png
GEO:-33.8751814;151.1998628
X-APPLE-STRUCTURED-LOCATION;VALUE=URI;X-ADDRESS=ICC Sydney Darling Harbour 14 Darling Dr Sydney NSW 2000 Australia;X-APPLE-RADIUS=500;X-TITLE=14 Darling Dr\,:geo:151.1998628,-33.8751814
END:VEVENT
END:VCALENDAR