BEGIN:VCALENDAR
VERSION:2.0
PRODID:-//Indian Link - ECPv6.15.20//NONSGML v1.0//EN
CALSCALE:GREGORIAN
METHOD:PUBLISH
X-ORIGINAL-URL:https://www.indianlink.com.au
X-WR-CALDESC:Events for Indian Link
REFRESH-INTERVAL;VALUE=DURATION:PT1H
X-Robots-Tag:noindex
X-PUBLISHED-TTL:PT1H
BEGIN:VTIMEZONE
TZID:Australia/Sydney
BEGIN:STANDARD
TZOFFSETFROM:+1100
TZOFFSETTO:+1000
TZNAME:AEST
DTSTART:20230401T160000
END:STANDARD
BEGIN:DAYLIGHT
TZOFFSETFROM:+1000
TZOFFSETTO:+1100
TZNAME:AEDT
DTSTART:20230930T160000
END:DAYLIGHT
BEGIN:STANDARD
TZOFFSETFROM:+1100
TZOFFSETTO:+1000
TZNAME:AEST
DTSTART:20240406T160000
END:STANDARD
BEGIN:DAYLIGHT
TZOFFSETFROM:+1000
TZOFFSETTO:+1100
TZNAME:AEDT
DTSTART:20241005T160000
END:DAYLIGHT
BEGIN:STANDARD
TZOFFSETFROM:+1100
TZOFFSETTO:+1000
TZNAME:AEST
DTSTART:20250405T160000
END:STANDARD
BEGIN:DAYLIGHT
TZOFFSETFROM:+1000
TZOFFSETTO:+1100
TZNAME:AEDT
DTSTART:20251004T160000
END:DAYLIGHT
END:VTIMEZONE
BEGIN:VEVENT
DTSTART;TZID=Australia/Sydney:20241228T193000
DTEND;TZID=Australia/Sydney:20241228T213000
DTSTAMP:20260423T091254
CREATED:20241204T232338Z
LAST-MODIFIED:20241204T232338Z
UID:10002417-1735414200-1735421400@www.indianlink.com.au
SUMMARY:Harsha Bhogle on India vs Australia
DESCRIPTION:Join us for an unforgettable evening with Harsha Bhogle\, as he shares his insights and captivating stories\, followed by an engaging Q&A session. Each $200 early bird ticket includes a two-course meal with wine\, and $100 will be donated to IIMPACT Australia to support education for girls in rural India. \nYou don’t want to miss out!
URL:https://www.indianlink.com.au/whats-on/harsha-bhogle-on-india-vs-australia/
LOCATION:Hotel Windsor\, Spring Street 111\, Melbourne\, VIC\, 3000\, Australia
CATEGORIES:Happening in Melbourne
ATTACH;FMTTYPE=image/jpeg:https://p9dzm74w.tinifycdn.com/wp-content/uploads/2024/12/harsha-bhogle-ind-v-aus.jpg
GEO:-37.811944;144.972778
X-APPLE-STRUCTURED-LOCATION;VALUE=URI;X-ADDRESS=Hotel Windsor Spring Street 111 Melbourne VIC 3000 Australia;X-APPLE-RADIUS=500;X-TITLE=Spring Street 111:geo:144.972778,-37.811944
END:VEVENT
END:VCALENDAR