BEGIN:VCALENDAR
VERSION:2.0
PRODID:-//Indian Link - ECPv6.15.20//NONSGML v1.0//EN
CALSCALE:GREGORIAN
METHOD:PUBLISH
X-WR-CALNAME:Indian Link
X-ORIGINAL-URL:https://www.indianlink.com.au
X-WR-CALDESC:Events for Indian Link
REFRESH-INTERVAL;VALUE=DURATION:PT1H
X-Robots-Tag:noindex
X-PUBLISHED-TTL:PT1H
BEGIN:VTIMEZONE
TZID:Australia/Sydney
BEGIN:STANDARD
TZOFFSETFROM:+1100
TZOFFSETTO:+1000
TZNAME:AEST
DTSTART:20250405T160000
END:STANDARD
BEGIN:DAYLIGHT
TZOFFSETFROM:+1000
TZOFFSETTO:+1100
TZNAME:AEDT
DTSTART:20251004T160000
END:DAYLIGHT
BEGIN:STANDARD
TZOFFSETFROM:+1100
TZOFFSETTO:+1000
TZNAME:AEST
DTSTART:20260404T160000
END:STANDARD
BEGIN:DAYLIGHT
TZOFFSETFROM:+1000
TZOFFSETTO:+1100
TZNAME:AEDT
DTSTART:20261003T160000
END:DAYLIGHT
BEGIN:STANDARD
TZOFFSETFROM:+1100
TZOFFSETTO:+1000
TZNAME:AEST
DTSTART:20270403T160000
END:STANDARD
BEGIN:DAYLIGHT
TZOFFSETFROM:+1000
TZOFFSETTO:+1100
TZNAME:AEDT
DTSTART:20271002T160000
END:DAYLIGHT
END:VTIMEZONE
BEGIN:VEVENT
DTSTART;TZID=Australia/Sydney:20260417T190000
DTEND;TZID=Australia/Sydney:20260417T220000
DTSTAMP:20260423T051553
CREATED:20260416T030544Z
LAST-MODIFIED:20260416T030544Z
UID:10008891-1776452400-1776463200@www.indianlink.com.au
SUMMARY:Sabin Rai & The Pharaoh and Purna Rai and Dajubhaiharu Live in Adelaide
DESCRIPTION:  \nThe most awaited musical event of 2026 is finally here! \nWe’re excited to officially announce that 𝗧𝗵𝗲𝗥𝗮𝗶𝗕𝗿𝗼𝘁𝗵𝗲𝗿𝘀 coming to Adelaide performing Live\, sharing the iconic stage of Adelaide. Let’s make this 𝗠𝘂𝘀𝗶𝗰𝗙𝗲𝘀𝘁𝗩𝗼𝗹. 𝟮 – bigger and better than ever! \nGet ready for an unforgettable night of live music and electrifying performances\, featuring the sensational 𝗦𝗮𝗯𝗶𝗻𝗥𝗮𝗶 & 𝗧𝗵𝗲𝗣𝗵𝗮𝗿𝗮𝗼𝗵 and the incredibly talented 𝗣𝘂𝗿𝗻𝗮𝗥𝗮𝗶𝗮𝗻𝗱𝗗𝗮𝗷𝘂𝗯𝗵𝗮𝗶𝗵𝗮𝗿𝘂 performing LIVE on same stage!🎤✨Sabin Rai & The Pharaohis a premier Nepalese rock band formed in 2011\, renowned for the raspy vocals and high-energy stage presence of frontman Sabin Rai. The band blends classic Nepali rock with modern blues\, featuring members like Binod Lama Tamang\, John Shrestha and Jeevan Lama. \nPurna Rai and Dajubhaiharuis a popular Nepali band formed in late 2023\, known for blending traditional and modern sounds with hits like “Kalo Seto” and “Sparsha Sangeet”. Led by vocalist Purna Rai\, the group features seasoned musicians. \nPresented by:\nGirish Event & Entertainment \nGET TICKETS HERE: Buy Sabin Rai & The Pharaoh and Purna Rai and Dajubhaiharu Live in Adelaide tickets\, SA 2026 | Moshtix
URL:https://www.indianlink.com.au/whats-on/sabin-rai-the-pharaoh-and-purna-rai-and-dajubhaiharu-live-in-adelaide/
LOCATION:Hindley Music Hall\, 149 Hindley Street\, Adelaide\, SA\, 5000\, Australia
ATTACH;FMTTYPE=image/png:https://p9dzm74w.tinifycdn.com/wp-content/uploads/2026/04/January-2026-Feature-Image-600-x-400-px-50.png
GEO:-34.92342;138.5939274
X-APPLE-STRUCTURED-LOCATION;VALUE=URI;X-ADDRESS=Hindley Music Hall 149 Hindley Street Adelaide SA 5000 Australia;X-APPLE-RADIUS=500;X-TITLE=149 Hindley Street:geo:138.5939274,-34.92342
END:VEVENT
END:VCALENDAR