BEGIN:VCALENDAR
VERSION:2.0
PRODID:-//Indian Link - ECPv6.15.20//NONSGML v1.0//EN
CALSCALE:GREGORIAN
METHOD:PUBLISH
X-ORIGINAL-URL:https://www.indianlink.com.au
X-WR-CALDESC:Events for Indian Link
REFRESH-INTERVAL;VALUE=DURATION:PT1H
X-Robots-Tag:noindex
X-PUBLISHED-TTL:PT1H
BEGIN:VTIMEZONE
TZID:Australia/Sydney
BEGIN:STANDARD
TZOFFSETFROM:+1100
TZOFFSETTO:+1000
TZNAME:AEST
DTSTART:20240406T160000
END:STANDARD
BEGIN:DAYLIGHT
TZOFFSETFROM:+1000
TZOFFSETTO:+1100
TZNAME:AEDT
DTSTART:20241005T160000
END:DAYLIGHT
BEGIN:STANDARD
TZOFFSETFROM:+1100
TZOFFSETTO:+1000
TZNAME:AEST
DTSTART:20250405T160000
END:STANDARD
BEGIN:DAYLIGHT
TZOFFSETFROM:+1000
TZOFFSETTO:+1100
TZNAME:AEDT
DTSTART:20251004T160000
END:DAYLIGHT
BEGIN:STANDARD
TZOFFSETFROM:+1100
TZOFFSETTO:+1000
TZNAME:AEST
DTSTART:20260404T160000
END:STANDARD
BEGIN:DAYLIGHT
TZOFFSETFROM:+1000
TZOFFSETTO:+1100
TZNAME:AEDT
DTSTART:20261003T160000
END:DAYLIGHT
END:VTIMEZONE
BEGIN:VEVENT
DTSTART;TZID=Australia/Sydney:20251108T173000
DTEND;TZID=Australia/Sydney:20251108T210000
DTSTAMP:20260426T014158
CREATED:20251008T021451Z
LAST-MODIFIED:20251008T021451Z
UID:10008656-1762623000-1762635600@www.indianlink.com.au
SUMMARY:BJSM Diwali 2025
DESCRIPTION:THIS YEAR BJSM COMMUNITY OF WA\, WILL HAVE A JOINT CELEBRATION OF DIWALI MILAN 2025 & JHARKHAND DIVAS ON\n\n\n# Saturday\, 8th NOV 2025\n# HILLVIEW INTERCULTURAL COMMUNITY CENTRE\, 1-4 Hill View Pl\, BENTLEY.\n# From 5:30 PM till 9:30PM.\n\n\nEVENT IS GOING TO BE FULL OF FUN AND EXCITEMENT WITH RANGOLI\, GAMES\, DANCE/MUSICAL PERFORMANCES \, PRIZES\, RAFFLES\, SPARKLERS AND LUSCIOUS VEG DINNER.\n\n\nhttps://webfitnews.com/diwali-milan-2025-and-jharkhand…/\n\n\n\nTHIS YEARS CULTURAL and Activity COORDINATORS ARE\n1. NEHA Ji- 0469395914 ( Cultural)\n2. ⁠Raj Sinha ji – 0416557966 (Activity)\n3. ⁠Pramod Ranjan ji- 0409 316 525( for Jharkhand Day Program)\n4. ⁠Narendra ji- 0406115512(over all Program coordinator)\n\n\nNote- Plzz reach out to respective numbers if you want to perform or participate in the event.
URL:https://www.indianlink.com.au/whats-on/bjsm-diwali-2025/
LOCATION:Hill View Community Centre\, Hill View Place 1-3\, Bentley\, WA\, 6102\, Australia
CATEGORIES:Happening in Perth
ATTACH;FMTTYPE=image/jpeg:https://p9dzm74w.tinifycdn.com/wp-content/uploads/2025/10/BJSM-Diwali-e1759889627558.jpg
GEO:-32.0090238;115.9029448
X-APPLE-STRUCTURED-LOCATION;VALUE=URI;X-ADDRESS=Hill View Community Centre Hill View Place 1-3 Bentley WA 6102 Australia;X-APPLE-RADIUS=500;X-TITLE=Hill View Place 1-3:geo:115.9029448,-32.0090238
END:VEVENT
END:VCALENDAR