BEGIN:VCALENDAR
VERSION:2.0
PRODID:-//Indian Link - ECPv6.15.20//NONSGML v1.0//EN
CALSCALE:GREGORIAN
METHOD:PUBLISH
X-WR-CALNAME:Indian Link
X-ORIGINAL-URL:https://www.indianlink.com.au
X-WR-CALDESC:Events for Indian Link
REFRESH-INTERVAL;VALUE=DURATION:PT1H
X-Robots-Tag:noindex
X-PUBLISHED-TTL:PT1H
BEGIN:VTIMEZONE
TZID:Australia/Sydney
BEGIN:STANDARD
TZOFFSETFROM:+1100
TZOFFSETTO:+1000
TZNAME:AEST
DTSTART:20240406T160000
END:STANDARD
BEGIN:DAYLIGHT
TZOFFSETFROM:+1000
TZOFFSETTO:+1100
TZNAME:AEDT
DTSTART:20241005T160000
END:DAYLIGHT
BEGIN:STANDARD
TZOFFSETFROM:+1100
TZOFFSETTO:+1000
TZNAME:AEST
DTSTART:20250405T160000
END:STANDARD
BEGIN:DAYLIGHT
TZOFFSETFROM:+1000
TZOFFSETTO:+1100
TZNAME:AEDT
DTSTART:20251004T160000
END:DAYLIGHT
BEGIN:STANDARD
TZOFFSETFROM:+1100
TZOFFSETTO:+1000
TZNAME:AEST
DTSTART:20260404T160000
END:STANDARD
BEGIN:DAYLIGHT
TZOFFSETFROM:+1000
TZOFFSETTO:+1100
TZNAME:AEDT
DTSTART:20261003T160000
END:DAYLIGHT
END:VTIMEZONE
BEGIN:VEVENT
DTSTART;TZID=Australia/Sydney:20251108T200000
DTEND;TZID=Australia/Sydney:20251108T213000
DTSTAMP:20260425T234102
CREATED:20251020T060237Z
LAST-MODIFIED:20251020T060237Z
UID:10008671-1762632000-1762637400@www.indianlink.com.au
SUMMARY:The Special Comedy Comedy Special: Greatest Debate
DESCRIPTION:  \nThe new Australian dream is never moving out. \nIn a country once defined by independence and the quarter-acre block\, is the real dream now staying put – with your parents\, your grandparents\, and maybe your cousin who won’t leave? \nJoin the debate with your favourite Asian Australian comedians for a night of real estate\, rice cookers and repressed emotions. Only one team can get the spare room – you decide! \nGET TICKETS HERE: https://ozasia.adelaidefestivalcentre.com.au/whats-on/the-special-comedy-comedy-special-greatest-debate?dateId=08-11-2025&performanceId=EHMA2025928SP
URL:https://www.indianlink.com.au/whats-on/the-special-comedy-comedy-special-greatest-debate/
LOCATION:Her Majesty’s Theatre\, 58 Grote St\, Adelaide\, SA\, 5000\, Australia
ATTACH;FMTTYPE=image/jpeg:https://p9dzm74w.tinifycdn.com/wp-content/uploads/2025/10/Comedy-special.jpg
GEO:-34.9284506;138.5970898
X-APPLE-STRUCTURED-LOCATION;VALUE=URI;X-ADDRESS=Her Majesty’s Theatre 58 Grote St Adelaide SA 5000 Australia;X-APPLE-RADIUS=500;X-TITLE=58 Grote St:geo:138.5970898,-34.9284506
END:VEVENT
END:VCALENDAR