BEGIN:VCALENDAR
VERSION:2.0
PRODID:-//Indian Link - ECPv6.15.20//NONSGML v1.0//EN
CALSCALE:GREGORIAN
METHOD:PUBLISH
X-ORIGINAL-URL:https://www.indianlink.com.au
X-WR-CALDESC:Events for Indian Link
REFRESH-INTERVAL;VALUE=DURATION:PT1H
X-Robots-Tag:noindex
X-PUBLISHED-TTL:PT1H
BEGIN:VTIMEZONE
TZID:Australia/Sydney
BEGIN:STANDARD
TZOFFSETFROM:+1100
TZOFFSETTO:+1000
TZNAME:AEST
DTSTART:20250405T160000
END:STANDARD
BEGIN:DAYLIGHT
TZOFFSETFROM:+1000
TZOFFSETTO:+1100
TZNAME:AEDT
DTSTART:20251004T160000
END:DAYLIGHT
BEGIN:STANDARD
TZOFFSETFROM:+1100
TZOFFSETTO:+1000
TZNAME:AEST
DTSTART:20260404T160000
END:STANDARD
BEGIN:DAYLIGHT
TZOFFSETFROM:+1000
TZOFFSETTO:+1100
TZNAME:AEDT
DTSTART:20261003T160000
END:DAYLIGHT
BEGIN:STANDARD
TZOFFSETFROM:+1100
TZOFFSETTO:+1000
TZNAME:AEST
DTSTART:20270403T160000
END:STANDARD
BEGIN:DAYLIGHT
TZOFFSETFROM:+1000
TZOFFSETTO:+1100
TZNAME:AEDT
DTSTART:20271002T160000
END:DAYLIGHT
END:VTIMEZONE
BEGIN:VEVENT
DTSTART;TZID=Australia/Sydney:20260210T190000
DTEND;TZID=Australia/Sydney:20260210T220000
DTSTAMP:20260423T100335
CREATED:20260115T045257Z
LAST-MODIFIED:20260115T045257Z
UID:10008744-1770750000-1770760800@www.indianlink.com.au
SUMMARY:LACRIMA - Perth
DESCRIPTION:  \nParis\, 2025. A prestigious fashion house receives an important commission – to create the wedding dress for a British royal princess. Beauty\, secrecy and power collide in this cinematic thriller – the story of the creation of a dress and the secret that ties it together.\nFrom a Parisian haute couture fashion house to an embroidery workshop in Mumbai\, to a lace atelier in Alençon\, invisible hands labour in silence\, stitching threads of ambition\, sacrifice and survival. All for a dress that will spend mere minutes in the spotlight. \nRenowned French director and filmmaker Caroline Guiela Nguyen pulls back the velvet curtain on the world of haute couture in LACRIMA. This is theatre as sharp as a needle – dazzling in its spectacle\, unflinching in its humanity\, unforgettable in its emotional impact. Following five-star\, sell-out seasons across Europe\, this extraordinary production now premieres in Australia. \nLACRIMA unfolds like a cinematic thriller. With its shifting plots and intersecting characters\, it has the grip of a Netflix binge – layered\, suspenseful and impossible to stop watching. \nGET TICKETS HERE: LACRIMA
URL:https://www.indianlink.com.au/whats-on/lacrima-perth/2026-02-10/
LOCATION:Heath Ledger Theatre\, State Theatre Centre of WA\, 174/176 William St\, Yandilup\, Perth\, WA\, 6000\, Australia
ATTACH;FMTTYPE=image/jpeg:https://p9dzm74w.tinifycdn.com/wp-content/uploads/2026/01/LACRIMA-Perth.jpg
GEO:-31.9497577;115.8590761
X-APPLE-STRUCTURED-LOCATION;VALUE=URI;X-ADDRESS=Heath Ledger Theatre State Theatre Centre of WA 174/176 William St Yandilup Perth WA 6000 Australia;X-APPLE-RADIUS=500;X-TITLE=174/176 William St\, Yandilup:geo:115.8590761,-31.9497577
END:VEVENT
BEGIN:VEVENT
DTSTART;TZID=Australia/Sydney:20260209T190000
DTEND;TZID=Australia/Sydney:20260209T220000
DTSTAMP:20260423T100335
CREATED:20260115T045257Z
LAST-MODIFIED:20260115T045257Z
UID:10008743-1770663600-1770674400@www.indianlink.com.au
SUMMARY:LACRIMA - Perth
DESCRIPTION:  \nParis\, 2025. A prestigious fashion house receives an important commission – to create the wedding dress for a British royal princess. Beauty\, secrecy and power collide in this cinematic thriller – the story of the creation of a dress and the secret that ties it together.\nFrom a Parisian haute couture fashion house to an embroidery workshop in Mumbai\, to a lace atelier in Alençon\, invisible hands labour in silence\, stitching threads of ambition\, sacrifice and survival. All for a dress that will spend mere minutes in the spotlight. \nRenowned French director and filmmaker Caroline Guiela Nguyen pulls back the velvet curtain on the world of haute couture in LACRIMA. This is theatre as sharp as a needle – dazzling in its spectacle\, unflinching in its humanity\, unforgettable in its emotional impact. Following five-star\, sell-out seasons across Europe\, this extraordinary production now premieres in Australia. \nLACRIMA unfolds like a cinematic thriller. With its shifting plots and intersecting characters\, it has the grip of a Netflix binge – layered\, suspenseful and impossible to stop watching. \nGET TICKETS HERE: LACRIMA
URL:https://www.indianlink.com.au/whats-on/lacrima-perth/2026-02-09/
LOCATION:Heath Ledger Theatre\, State Theatre Centre of WA\, 174/176 William St\, Yandilup\, Perth\, WA\, 6000\, Australia
ATTACH;FMTTYPE=image/jpeg:https://p9dzm74w.tinifycdn.com/wp-content/uploads/2026/01/LACRIMA-Perth.jpg
GEO:-31.9497577;115.8590761
X-APPLE-STRUCTURED-LOCATION;VALUE=URI;X-ADDRESS=Heath Ledger Theatre State Theatre Centre of WA 174/176 William St Yandilup Perth WA 6000 Australia;X-APPLE-RADIUS=500;X-TITLE=174/176 William St\, Yandilup:geo:115.8590761,-31.9497577
END:VEVENT
BEGIN:VEVENT
DTSTART;TZID=Australia/Sydney:20260208T170000
DTEND;TZID=Australia/Sydney:20260208T200000
DTSTAMP:20260423T100335
CREATED:20260115T045257Z
LAST-MODIFIED:20260115T045257Z
UID:10008742-1770570000-1770580800@www.indianlink.com.au
SUMMARY:LACRIMA - Perth
DESCRIPTION:  \nParis\, 2025. A prestigious fashion house receives an important commission – to create the wedding dress for a British royal princess. Beauty\, secrecy and power collide in this cinematic thriller – the story of the creation of a dress and the secret that ties it together.\nFrom a Parisian haute couture fashion house to an embroidery workshop in Mumbai\, to a lace atelier in Alençon\, invisible hands labour in silence\, stitching threads of ambition\, sacrifice and survival. All for a dress that will spend mere minutes in the spotlight. \nRenowned French director and filmmaker Caroline Guiela Nguyen pulls back the velvet curtain on the world of haute couture in LACRIMA. This is theatre as sharp as a needle – dazzling in its spectacle\, unflinching in its humanity\, unforgettable in its emotional impact. Following five-star\, sell-out seasons across Europe\, this extraordinary production now premieres in Australia. \nLACRIMA unfolds like a cinematic thriller. With its shifting plots and intersecting characters\, it has the grip of a Netflix binge – layered\, suspenseful and impossible to stop watching. \nGET TICKETS HERE: LACRIMA
URL:https://www.indianlink.com.au/whats-on/lacrima-perth/2026-02-08/
LOCATION:Heath Ledger Theatre\, State Theatre Centre of WA\, 174/176 William St\, Yandilup\, Perth\, WA\, 6000\, Australia
ATTACH;FMTTYPE=image/jpeg:https://p9dzm74w.tinifycdn.com/wp-content/uploads/2026/01/LACRIMA-Perth.jpg
GEO:-31.9497577;115.8590761
X-APPLE-STRUCTURED-LOCATION;VALUE=URI;X-ADDRESS=Heath Ledger Theatre State Theatre Centre of WA 174/176 William St Yandilup Perth WA 6000 Australia;X-APPLE-RADIUS=500;X-TITLE=174/176 William St\, Yandilup:geo:115.8590761,-31.9497577
END:VEVENT
BEGIN:VEVENT
DTSTART;TZID=Australia/Sydney:20260207T190000
DTEND;TZID=Australia/Sydney:20260207T220000
DTSTAMP:20260423T100335
CREATED:20260115T045257Z
LAST-MODIFIED:20260115T045257Z
UID:10008741-1770490800-1770501600@www.indianlink.com.au
SUMMARY:LACRIMA - Perth
DESCRIPTION:  \nParis\, 2025. A prestigious fashion house receives an important commission – to create the wedding dress for a British royal princess. Beauty\, secrecy and power collide in this cinematic thriller – the story of the creation of a dress and the secret that ties it together.\nFrom a Parisian haute couture fashion house to an embroidery workshop in Mumbai\, to a lace atelier in Alençon\, invisible hands labour in silence\, stitching threads of ambition\, sacrifice and survival. All for a dress that will spend mere minutes in the spotlight. \nRenowned French director and filmmaker Caroline Guiela Nguyen pulls back the velvet curtain on the world of haute couture in LACRIMA. This is theatre as sharp as a needle – dazzling in its spectacle\, unflinching in its humanity\, unforgettable in its emotional impact. Following five-star\, sell-out seasons across Europe\, this extraordinary production now premieres in Australia. \nLACRIMA unfolds like a cinematic thriller. With its shifting plots and intersecting characters\, it has the grip of a Netflix binge – layered\, suspenseful and impossible to stop watching. \nGET TICKETS HERE: LACRIMA
URL:https://www.indianlink.com.au/whats-on/lacrima-perth/2026-02-07/
LOCATION:Heath Ledger Theatre\, State Theatre Centre of WA\, 174/176 William St\, Yandilup\, Perth\, WA\, 6000\, Australia
ATTACH;FMTTYPE=image/jpeg:https://p9dzm74w.tinifycdn.com/wp-content/uploads/2026/01/LACRIMA-Perth.jpg
GEO:-31.9497577;115.8590761
X-APPLE-STRUCTURED-LOCATION;VALUE=URI;X-ADDRESS=Heath Ledger Theatre State Theatre Centre of WA 174/176 William St Yandilup Perth WA 6000 Australia;X-APPLE-RADIUS=500;X-TITLE=174/176 William St\, Yandilup:geo:115.8590761,-31.9497577
END:VEVENT
BEGIN:VEVENT
DTSTART;TZID=Australia/Sydney:20260206T190000
DTEND;TZID=Australia/Sydney:20260206T220000
DTSTAMP:20260423T100335
CREATED:20260115T045257Z
LAST-MODIFIED:20260115T045257Z
UID:10008740-1770404400-1770415200@www.indianlink.com.au
SUMMARY:LACRIMA - Perth
DESCRIPTION:  \nParis\, 2025. A prestigious fashion house receives an important commission – to create the wedding dress for a British royal princess. Beauty\, secrecy and power collide in this cinematic thriller – the story of the creation of a dress and the secret that ties it together.\nFrom a Parisian haute couture fashion house to an embroidery workshop in Mumbai\, to a lace atelier in Alençon\, invisible hands labour in silence\, stitching threads of ambition\, sacrifice and survival. All for a dress that will spend mere minutes in the spotlight. \nRenowned French director and filmmaker Caroline Guiela Nguyen pulls back the velvet curtain on the world of haute couture in LACRIMA. This is theatre as sharp as a needle – dazzling in its spectacle\, unflinching in its humanity\, unforgettable in its emotional impact. Following five-star\, sell-out seasons across Europe\, this extraordinary production now premieres in Australia. \nLACRIMA unfolds like a cinematic thriller. With its shifting plots and intersecting characters\, it has the grip of a Netflix binge – layered\, suspenseful and impossible to stop watching. \nGET TICKETS HERE: LACRIMA
URL:https://www.indianlink.com.au/whats-on/lacrima-perth/2026-02-06/
LOCATION:Heath Ledger Theatre\, State Theatre Centre of WA\, 174/176 William St\, Yandilup\, Perth\, WA\, 6000\, Australia
ATTACH;FMTTYPE=image/jpeg:https://p9dzm74w.tinifycdn.com/wp-content/uploads/2026/01/LACRIMA-Perth.jpg
GEO:-31.9497577;115.8590761
X-APPLE-STRUCTURED-LOCATION;VALUE=URI;X-ADDRESS=Heath Ledger Theatre State Theatre Centre of WA 174/176 William St Yandilup Perth WA 6000 Australia;X-APPLE-RADIUS=500;X-TITLE=174/176 William St\, Yandilup:geo:115.8590761,-31.9497577
END:VEVENT
END:VCALENDAR