BEGIN:VCALENDAR
VERSION:2.0
PRODID:-//Indian Link - ECPv6.15.20//NONSGML v1.0//EN
CALSCALE:GREGORIAN
METHOD:PUBLISH
X-WR-CALNAME:Indian Link
X-ORIGINAL-URL:https://www.indianlink.com.au
X-WR-CALDESC:Events for Indian Link
REFRESH-INTERVAL;VALUE=DURATION:PT1H
X-Robots-Tag:noindex
X-PUBLISHED-TTL:PT1H
BEGIN:VTIMEZONE
TZID:Australia/Sydney
BEGIN:STANDARD
TZOFFSETFROM:+1100
TZOFFSETTO:+1000
TZNAME:AEST
DTSTART:20240406T160000
END:STANDARD
BEGIN:DAYLIGHT
TZOFFSETFROM:+1000
TZOFFSETTO:+1100
TZNAME:AEDT
DTSTART:20241005T160000
END:DAYLIGHT
BEGIN:STANDARD
TZOFFSETFROM:+1100
TZOFFSETTO:+1000
TZNAME:AEST
DTSTART:20250405T160000
END:STANDARD
BEGIN:DAYLIGHT
TZOFFSETFROM:+1000
TZOFFSETTO:+1100
TZNAME:AEDT
DTSTART:20251004T160000
END:DAYLIGHT
BEGIN:STANDARD
TZOFFSETFROM:+1100
TZOFFSETTO:+1000
TZNAME:AEST
DTSTART:20260404T160000
END:STANDARD
BEGIN:DAYLIGHT
TZOFFSETFROM:+1000
TZOFFSETTO:+1100
TZNAME:AEDT
DTSTART:20261003T160000
END:DAYLIGHT
END:VTIMEZONE
BEGIN:VEVENT
DTSTART;TZID=Australia/Sydney:20251004T193000
DTEND;TZID=Australia/Sydney:20251004T213000
DTSTAMP:20260426T101618
CREATED:20250922T070428Z
LAST-MODIFIED:20250922T070428Z
UID:10008628-1759606200-1759613400@www.indianlink.com.au
SUMMARY:Sound of India: Diwali celebrated at Hawthorn Arts Centre
DESCRIPTION:  \nThe Indian festival of Diwali will be celebrated at Hawthorn Arts Centre with a concert featuring highlights from the subcontinent’s classical artforms with a blend of contemporary culture. \nThe unique family-friendly multicultural Diwali celebration is set to feature the award-winning bansuri virtuoso\, Vinod Prasanna\, who will perform the classical Indian flute-like instrument alongside talented Melburnian guitarist Jenna Campbell and tabla maestro Pranav Ramji. \nThe enchanting musical collaboration will welcome to the stage captivating performances by Kathak dancer Sonya Parmat and mesmerizing belly dancer Sarah Moulton. \n“I play a soulful interpretation of Indian classical music. The melodies resonate with the essence of Diwali and evoke the spirit of light and joy that encapsulates this important celebration in our culture” says Vinod Prasanna. \nTo celebrate the spirit of Diwali\, a vibrant atmosphere will transform the classical architecture of the hall\, with colourful rangoli installations by traditional artists and the warm glow of flickering diyas. The event promises an artistically immersive experience that honours the festival of lights and community connection. \nREGISTER HERE: https://www.boroondara.vic.gov.au/events/sound-india-diwali-hawthorn-arts-centre
URL:https://www.indianlink.com.au/whats-on/sound-of-india-diwali-celebrated-at-hawthorn-arts-centre/
LOCATION:Hawthorne Arts Centre\, 360 Burwood Road\, Hawthornr\, Melbourne\, VIC\, 3122\, Australia
ATTACH;FMTTYPE=image/jpeg:https://p9dzm74w.tinifycdn.com/wp-content/uploads/2025/09/Diwali-at-Hawthorn-Arts-Centre-web-res.jpg
GEO:-37.822885;145.0363741
X-APPLE-STRUCTURED-LOCATION;VALUE=URI;X-ADDRESS=Hawthorne Arts Centre 360 Burwood Road Hawthornr Melbourne VIC 3122 Australia;X-APPLE-RADIUS=500;X-TITLE=360 Burwood Road\, Hawthornr:geo:145.0363741,-37.822885
END:VEVENT
END:VCALENDAR