BEGIN:VCALENDAR
VERSION:2.0
PRODID:-//Indian Link - ECPv6.15.20//NONSGML v1.0//EN
CALSCALE:GREGORIAN
METHOD:PUBLISH
X-ORIGINAL-URL:https://www.indianlink.com.au
X-WR-CALDESC:Events for Indian Link
REFRESH-INTERVAL;VALUE=DURATION:PT1H
X-Robots-Tag:noindex
X-PUBLISHED-TTL:PT1H
BEGIN:VTIMEZONE
TZID:Australia/Sydney
BEGIN:STANDARD
TZOFFSETFROM:+1100
TZOFFSETTO:+1000
TZNAME:AEST
DTSTART:20240406T160000
END:STANDARD
BEGIN:DAYLIGHT
TZOFFSETFROM:+1000
TZOFFSETTO:+1100
TZNAME:AEDT
DTSTART:20241005T160000
END:DAYLIGHT
BEGIN:STANDARD
TZOFFSETFROM:+1100
TZOFFSETTO:+1000
TZNAME:AEST
DTSTART:20250405T160000
END:STANDARD
BEGIN:DAYLIGHT
TZOFFSETFROM:+1000
TZOFFSETTO:+1100
TZNAME:AEDT
DTSTART:20251004T160000
END:DAYLIGHT
BEGIN:STANDARD
TZOFFSETFROM:+1100
TZOFFSETTO:+1000
TZNAME:AEST
DTSTART:20260404T160000
END:STANDARD
BEGIN:DAYLIGHT
TZOFFSETFROM:+1000
TZOFFSETTO:+1100
TZNAME:AEDT
DTSTART:20261003T160000
END:DAYLIGHT
END:VTIMEZONE
BEGIN:VEVENT
DTSTART;TZID=Australia/Sydney:20250215T190000
DTEND;TZID=Australia/Sydney:20250215T233000
DTSTAMP:20260423T225804
CREATED:20250107T000915Z
LAST-MODIFIED:20250107T000915Z
UID:10002447-1739646000-1739662200@www.indianlink.com.au
SUMMARY:Meet & Greet with Shehnaaz Gill
DESCRIPTION:  \n\nWelcome India’s biggest and cutest Bollywood sensation\, Shehnaaz Gill! \nThis is your chance to collaborate and showcase your brand to Shehnaaz Gill and an audience that’s madly in love!
URL:https://www.indianlink.com.au/whats-on/meet-greet-with-shehnaaz-gill/
LOCATION:Grand Royale Function Centre\, 51-61 South Street\, Granville\, NSW\, 2142\, Australia
ATTACH;FMTTYPE=image/jpeg:https://p9dzm74w.tinifycdn.com/wp-content/uploads/2025/01/1388-meet-greet-with-shehnaaz-gill-live-in-sydney-2025-1734028367.jpg
ORGANIZER;CN="Indian Beauty Secrets":MAILTO:indianbeautysecrets@live.com.au
GEO:-33.8344327;151.0112616
X-APPLE-STRUCTURED-LOCATION;VALUE=URI;X-ADDRESS=Grand Royale Function Centre 51-61 South Street Granville NSW 2142 Australia;X-APPLE-RADIUS=500;X-TITLE=51-61 South Street:geo:151.0112616,-33.8344327
END:VEVENT
BEGIN:VEVENT
DTSTART;TZID=Australia/Sydney:20250201T193000
DTEND;TZID=Australia/Sydney:20250201T210000
DTSTAMP:20260423T225804
CREATED:20241203T020550Z
LAST-MODIFIED:20241203T020550Z
UID:10002414-1738438200-1738443600@www.indianlink.com.au
SUMMARY:Aakash Mehta Lives A Stand-Up Comedy Show In Sydney 2025
DESCRIPTION:  \nAakash Mehta\, known for his witty humor\, relatable anecdotes\, and unique perspective on life\, will have you in splits from start to finish. With his signature style\, Aakash takes everyday situations and turns them into hilarious moments that everyone can relate to. This show is a must-see for comedy lovers looking for an evening of non-stop entertainment. \nJoin us for Aakash Mehta Lives and experience the joy of live stand-up comedy like never before. Whether you’re a fan of his YouTube specials or new to his comedy\, this performance guarantees laughter and good vibes all night long. Don’t miss out on this chance to witness one of India’s top comedians live in action. Book your tickets now for a night of pure fun and entertainment! \nGET TICKETS HERE: Aakash Mehta Lives A Stand-Up Comedy Show In Sydney 2025
URL:https://www.indianlink.com.au/whats-on/aakash-mehta-lives-a-stand-up-comedy-show-in-sydney-2025/
LOCATION:Grand Royale Function Centre\, 51-61 South Street\, Granville\, NSW\, 2142\, Australia
ATTACH;FMTTYPE=image/jpeg:https://p9dzm74w.tinifycdn.com/wp-content/uploads/2024/12/Aakash-Mehta.jpg
GEO:-33.8344327;151.0112616
X-APPLE-STRUCTURED-LOCATION;VALUE=URI;X-ADDRESS=Grand Royale Function Centre 51-61 South Street Granville NSW 2142 Australia;X-APPLE-RADIUS=500;X-TITLE=51-61 South Street:geo:151.0112616,-33.8344327
END:VEVENT
END:VCALENDAR