BEGIN:VCALENDAR
VERSION:2.0
PRODID:-//Indian Link - ECPv6.15.20//NONSGML v1.0//EN
CALSCALE:GREGORIAN
METHOD:PUBLISH
X-WR-CALNAME:Indian Link
X-ORIGINAL-URL:https://www.indianlink.com.au
X-WR-CALDESC:Events for Indian Link
REFRESH-INTERVAL;VALUE=DURATION:PT1H
X-Robots-Tag:noindex
X-PUBLISHED-TTL:PT1H
BEGIN:VTIMEZONE
TZID:Australia/Sydney
BEGIN:STANDARD
TZOFFSETFROM:+1100
TZOFFSETTO:+1000
TZNAME:AEST
DTSTART:20240406T160000
END:STANDARD
BEGIN:DAYLIGHT
TZOFFSETFROM:+1000
TZOFFSETTO:+1100
TZNAME:AEDT
DTSTART:20241005T160000
END:DAYLIGHT
BEGIN:STANDARD
TZOFFSETFROM:+1100
TZOFFSETTO:+1000
TZNAME:AEST
DTSTART:20250405T160000
END:STANDARD
BEGIN:DAYLIGHT
TZOFFSETFROM:+1000
TZOFFSETTO:+1100
TZNAME:AEDT
DTSTART:20251004T160000
END:DAYLIGHT
BEGIN:STANDARD
TZOFFSETFROM:+1100
TZOFFSETTO:+1000
TZNAME:AEST
DTSTART:20260404T160000
END:STANDARD
BEGIN:DAYLIGHT
TZOFFSETFROM:+1000
TZOFFSETTO:+1100
TZNAME:AEDT
DTSTART:20261003T160000
END:DAYLIGHT
END:VTIMEZONE
BEGIN:VEVENT
DTSTART;TZID=Australia/Sydney:20251011T180000
DTEND;TZID=Australia/Sydney:20251011T180000
DTSTAMP:20260425T232724
CREATED:20250825T032323Z
LAST-MODIFIED:20250825T032323Z
UID:10008517-1760205600-1760205600@www.indianlink.com.au
SUMMARY:Diwali Dinner Night & Standup Ft. Manpreet Singh
DESCRIPTION:Join us for an unforgettable Diwali celebration at the Diwali Dinner Night featuring Manpreet Singh in Melbourne. The evening promises a delightful fusion of traditional Diwali festivities and the hilarious stand-up comedy of Manpreet Singh\, a favorite among comedy lovers. \nExperience the joy of Diwali as you indulge in a mouth-watering Diwali dinner\, complemented by the laughs and charm of one of the most loved Punjabi comedians. Whether you’re celebrating with family\, friends\, or colleagues\, this event is the perfect way to combine culture\, food\, and comedy under one roof. \nManpreet Singh’s performance will add the perfect touch to this special evening\, as he brings his unique style of comedy to the stage. Don’t miss out on the Diwali stand-up comedy event in Melbourne\, a fun-filled night guaranteed to leave you in stitches! \nEvent Highlights\n\nManpreet Singh Live Stand-up Comedy: Enjoy rib-tickling humor from one of the best in the business.\nFestive Diwali Dinner: Savor traditional dishes that are sure to delight your taste buds.\nVibrant Atmosphere: Celebrate Diwali with friends\, family\, and the Melbourne community.\nPerfect for All Ages: A family-friendly event with laughter and joy for everyone.\n\nThis Diwali Dinner Night with Standup by Manpreet Singh is more than just an event – it’s a celebration of culture\, laughter\, and good food. Purchase your tickets now and make this Diwali an unforgettable experience in Melbourne! \nBe part of an evening filled with joy\, laughter\, and festive cheer! \nBook your tickets here: https://www.premiertickets.co/event/diwali-dinner-night-standup-ft-manpreet-singh/
URL:https://www.indianlink.com.au/whats-on/diwali-dinner-night-standup-ft-manpreet-singh/
LOCATION:Grand Neret Receptions\, Grand Neret Receptions\,19 Salicki Ave\, Epping\, Victoria\, 3076\, Australia
ATTACH;FMTTYPE=image/png:https://p9dzm74w.tinifycdn.com/wp-content/uploads/2025/08/diwali-dinner-night-and-standup-ft-manpreet-singh.png
GEO:-37.6578941;145.0233002
X-APPLE-STRUCTURED-LOCATION;VALUE=URI;X-ADDRESS=Grand Neret Receptions Grand Neret Receptions19 Salicki Ave Epping Victoria 3076 Australia;X-APPLE-RADIUS=500;X-TITLE=Grand Neret Receptions\,19 Salicki Ave:geo:145.0233002,-37.6578941
END:VEVENT
END:VCALENDAR