BEGIN:VCALENDAR
VERSION:2.0
PRODID:-//Indian Link - ECPv6.15.20//NONSGML v1.0//EN
CALSCALE:GREGORIAN
METHOD:PUBLISH
X-ORIGINAL-URL:https://www.indianlink.com.au
X-WR-CALDESC:Events for Indian Link
REFRESH-INTERVAL;VALUE=DURATION:PT1H
X-Robots-Tag:noindex
X-PUBLISHED-TTL:PT1H
BEGIN:VTIMEZONE
TZID:Australia/Sydney
BEGIN:STANDARD
TZOFFSETFROM:+1100
TZOFFSETTO:+1000
TZNAME:AEST
DTSTART:20240406T160000
END:STANDARD
BEGIN:DAYLIGHT
TZOFFSETFROM:+1000
TZOFFSETTO:+1100
TZNAME:AEDT
DTSTART:20241005T160000
END:DAYLIGHT
BEGIN:STANDARD
TZOFFSETFROM:+1100
TZOFFSETTO:+1000
TZNAME:AEST
DTSTART:20250405T160000
END:STANDARD
BEGIN:DAYLIGHT
TZOFFSETFROM:+1000
TZOFFSETTO:+1100
TZNAME:AEDT
DTSTART:20251004T160000
END:DAYLIGHT
BEGIN:STANDARD
TZOFFSETFROM:+1100
TZOFFSETTO:+1000
TZNAME:AEST
DTSTART:20260404T160000
END:STANDARD
BEGIN:DAYLIGHT
TZOFFSETFROM:+1000
TZOFFSETTO:+1100
TZNAME:AEDT
DTSTART:20261003T160000
END:DAYLIGHT
END:VTIMEZONE
BEGIN:VEVENT
DTSTART;TZID=Australia/Sydney:20251109T150000
DTEND;TZID=Australia/Sydney:20251109T172000
DTSTAMP:20260426T084008
CREATED:20250711T025206Z
LAST-MODIFIED:20250711T025206Z
UID:10008379-1762700400-1762708800@www.indianlink.com.au
SUMMARY:Nupurnaad
DESCRIPTION:  \n“NUPURNAAD” is a captivating collaboration that combines Bharatanatyam\, an Indian classical dance\, with the melodious sounds of the Santoor. This unique presentation brings together both dance and live music on stage\, featuring the talents of Dr. Swati Daithankar\, Nupur Daithankar\, Ninad Daithankar\, and Dr. Dhananjay Daithankar. Interestingly\, the performance showcases the dynamic of family\, as it is led by a mother-daughter duo and a father-son duo—THE Daithankars. \nThe performances encompass a blend of classical and thematic semi-classical programs\, with the Santoor enriched by live Tabla accompaniment\, engaging a total of five artists.\nAlready celebrated in the US\, Canada\, the UK\, and Singapore\, the show has received immense appreciation and support from audiences. \nThe program lasts between one and a half to two hours\, beginning with a classical traditional dance by Swati and Nupur. Their performance includes Marathi Abhanga\, Surdas Bhajans\, and Meera Bhajans\, all presented in a captivating manner. Following this\, Dhananjay and Ninad delight the audience with a Santoor duo. The grand finale brings everyone together for an exhilarating display of thematic presentations\, rhythmic co presentations\, emotional interactions of different characters portrayed on stage. As universal forms of expression\, dance and music unite people across cultures\, and this performance consistently garners enthusiastic applause. It promises to be an audio-visual feast for music enthusiasts! \nCompanion Card Holder tickets are available. To book\, please contact the Gasworks Front Desk on (03) 8606 4200 during office hours: Monday to Friday\, 10:00 am – 4:30 pm. \nGET TICKETS HERE: Gasworks Arts Park : a vibrant arts precinct
URL:https://www.indianlink.com.au/whats-on/nupurnaad-2/
LOCATION:Gasworks Theatre\, 1-35 Graham St\, Albert Park\, Melbourne\, Victoria\, 3206\, Australia
ATTACH;FMTTYPE=image/png:https://p9dzm74w.tinifycdn.com/wp-content/uploads/2025/07/Nurpanaad.png
GEO:-37.8434444;144.946554
X-APPLE-STRUCTURED-LOCATION;VALUE=URI;X-ADDRESS=Gasworks Theatre 1-35 Graham St Albert Park Melbourne Victoria 3206 Australia;X-APPLE-RADIUS=500;X-TITLE=1-35 Graham St\, Albert Park:geo:144.946554,-37.8434444
END:VEVENT
END:VCALENDAR