BEGIN:VCALENDAR
VERSION:2.0
PRODID:-//Indian Link - ECPv6.15.20//NONSGML v1.0//EN
CALSCALE:GREGORIAN
METHOD:PUBLISH
X-WR-CALNAME:Indian Link
X-ORIGINAL-URL:https://www.indianlink.com.au
X-WR-CALDESC:Events for Indian Link
REFRESH-INTERVAL;VALUE=DURATION:PT1H
X-Robots-Tag:noindex
X-PUBLISHED-TTL:PT1H
BEGIN:VTIMEZONE
TZID:Australia/Sydney
BEGIN:STANDARD
TZOFFSETFROM:+1100
TZOFFSETTO:+1000
TZNAME:AEST
DTSTART:20240406T160000
END:STANDARD
BEGIN:DAYLIGHT
TZOFFSETFROM:+1000
TZOFFSETTO:+1100
TZNAME:AEDT
DTSTART:20241005T160000
END:DAYLIGHT
BEGIN:STANDARD
TZOFFSETFROM:+1100
TZOFFSETTO:+1000
TZNAME:AEST
DTSTART:20250405T160000
END:STANDARD
BEGIN:DAYLIGHT
TZOFFSETFROM:+1000
TZOFFSETTO:+1100
TZNAME:AEDT
DTSTART:20251004T160000
END:DAYLIGHT
BEGIN:STANDARD
TZOFFSETFROM:+1100
TZOFFSETTO:+1000
TZNAME:AEST
DTSTART:20260404T160000
END:STANDARD
BEGIN:DAYLIGHT
TZOFFSETFROM:+1000
TZOFFSETTO:+1100
TZNAME:AEDT
DTSTART:20261003T160000
END:DAYLIGHT
END:VTIMEZONE
BEGIN:VEVENT
DTSTART;TZID=Australia/Sydney:20250906T193000
DTEND;TZID=Australia/Sydney:20250906T203000
DTSTAMP:20260423T170849
CREATED:20250901T004447Z
LAST-MODIFIED:20250901T005112Z
UID:10008568-1757187000-1757190600@www.indianlink.com.au
SUMMARY:“TOUCH” — Bharathanatyam x Ballet premiering in Melbourne
DESCRIPTION:TOUCH is themed around identity\, sense of belonging\, and unconscious bias. The fusion of Bharatanatyam and Ballet reframes these classical art forms on contemporary Australian stages. The performance is brought to life in Melbourne by dancers Deepa Mani and Sheena Chundee\, two women of colour\, who blend tradition and innovation for mainstream audiences. \nBook your tickets here: https://gasworks.org.au/whats-on/touch/
URL:https://www.indianlink.com.au/whats-on/touch-bharathanatyam-x-ballet-premiering-in-melbourne/2025-09-06/2/
LOCATION:Gasworks Arts Park (Albert Park)\, 21 Graham St\, Albert Park VIC 3206
ATTACH;FMTTYPE=image/png:https://p9dzm74w.tinifycdn.com/wp-content/uploads/2025/09/touch.png
GEO:-37.8424592;144.9470737
X-APPLE-STRUCTURED-LOCATION;VALUE=URI;X-ADDRESS=Gasworks Arts Park (Albert Park) 21 Graham St Albert Park VIC 3206;X-APPLE-RADIUS=500;X-TITLE=21 Graham St\, Albert Park VIC 3206:geo:144.9470737,-37.8424592
END:VEVENT
BEGIN:VEVENT
DTSTART;TZID=Australia/Sydney:20250906T160000
DTEND;TZID=Australia/Sydney:20250906T170000
DTSTAMP:20260423T170849
CREATED:20250901T004447Z
LAST-MODIFIED:20250901T005112Z
UID:10008567-1757174400-1757178000@www.indianlink.com.au
SUMMARY:“TOUCH” — Bharathanatyam x Ballet premiering in Melbourne
DESCRIPTION:TOUCH is themed around identity\, sense of belonging\, and unconscious bias. The fusion of Bharatanatyam and Ballet reframes these classical art forms on contemporary Australian stages. The performance is brought to life in Melbourne by dancers Deepa Mani and Sheena Chundee\, two women of colour\, who blend tradition and innovation for mainstream audiences. \nBook your tickets here: https://gasworks.org.au/whats-on/touch/
URL:https://www.indianlink.com.au/whats-on/touch-bharathanatyam-x-ballet-premiering-in-melbourne/2025-09-06/1/
LOCATION:Gasworks Arts Park (Albert Park)\, 21 Graham St\, Albert Park VIC 3206
ATTACH;FMTTYPE=image/png:https://p9dzm74w.tinifycdn.com/wp-content/uploads/2025/09/touch.png
GEO:-37.8424592;144.9470737
X-APPLE-STRUCTURED-LOCATION;VALUE=URI;X-ADDRESS=Gasworks Arts Park (Albert Park) 21 Graham St Albert Park VIC 3206;X-APPLE-RADIUS=500;X-TITLE=21 Graham St\, Albert Park VIC 3206:geo:144.9470737,-37.8424592
END:VEVENT
END:VCALENDAR