BEGIN:VCALENDAR
VERSION:2.0
PRODID:-//Indian Link - ECPv6.15.20//NONSGML v1.0//EN
CALSCALE:GREGORIAN
METHOD:PUBLISH
X-WR-CALNAME:Indian Link
X-ORIGINAL-URL:https://www.indianlink.com.au
X-WR-CALDESC:Events for Indian Link
REFRESH-INTERVAL;VALUE=DURATION:PT1H
X-Robots-Tag:noindex
X-PUBLISHED-TTL:PT1H
BEGIN:VTIMEZONE
TZID:Australia/Sydney
BEGIN:STANDARD
TZOFFSETFROM:+1100
TZOFFSETTO:+1000
TZNAME:AEST
DTSTART:20240406T160000
END:STANDARD
BEGIN:DAYLIGHT
TZOFFSETFROM:+1000
TZOFFSETTO:+1100
TZNAME:AEDT
DTSTART:20241005T160000
END:DAYLIGHT
BEGIN:STANDARD
TZOFFSETFROM:+1100
TZOFFSETTO:+1000
TZNAME:AEST
DTSTART:20250405T160000
END:STANDARD
BEGIN:DAYLIGHT
TZOFFSETFROM:+1000
TZOFFSETTO:+1100
TZNAME:AEDT
DTSTART:20251004T160000
END:DAYLIGHT
BEGIN:STANDARD
TZOFFSETFROM:+1100
TZOFFSETTO:+1000
TZNAME:AEST
DTSTART:20260404T160000
END:STANDARD
BEGIN:DAYLIGHT
TZOFFSETFROM:+1000
TZOFFSETTO:+1100
TZNAME:AEDT
DTSTART:20261003T160000
END:DAYLIGHT
END:VTIMEZONE
BEGIN:VEVENT
DTSTART;TZID=Australia/Sydney:20250913T183000
DTEND;TZID=Australia/Sydney:20250913T183000
DTSTAMP:20260423T105846
CREATED:20250827T020914Z
LAST-MODIFIED:20250827T021000Z
UID:10008554-1757788200-1757788200@www.indianlink.com.au
SUMMARY:Debi Makhsoospuri - Live In Adelaide 2025
DESCRIPTION:Experience the soulful voice of renowned Pakistani artist Debi Makhsoospuri in a live performance on Saturday\, 13 September 2025 at 6:30 PM. Set in the vibrant Futures Church Paradise Campus at 57 Darley Rd\, Paradise\, South Australia\, this unforgettable night brings together heartfelt vocals and community ambience. \nThis event showcases Debi’s iconic tracks and live musical artistry\, offering fans and new listeners a chance to connect with her emotive storytelling and cultural flair. \n\nVenue: Futures Church Paradise Campus\, Paradise\, Adelaide\nDate & Time: Saturday\, 13 September 2025 • 6:30 PM\nArtist: Debi Makhsoospuri – celebrated singer-songwriter\, known for soulful performances\nHighlights: Live vocals\, immersive atmosphere\, audience engagement.\nIdeal for: Fans of South Asian music\, cultural evenings\, uplifting community concerts.\n\nAttendees can expect seamless access within the welcoming premises of Futures Church\, known for its modern auditorium and accessible layout. Whether you’re a long-time fan or discovering Debi for the first time\, this event promises a night filled with emotion\, melody\, and connection—right in the heart of Adelaide’s Paradise suburb. \nSecure your tickets early for a memorable evening of music and cultural celebration. Be part of a live experience unlike any other—Debi Makhsoospuri Live in Adelaide\, 2025. \nGet your tickets here: https://www.premiertickets.co/event/debi-makhsoospuri-live-in-adelaide-2025/
URL:https://www.indianlink.com.au/whats-on/debi-makhsoospuri-live-in-adelaide-2025/
LOCATION:Futures Church Paradise Campus\, South Australia
ATTACH;FMTTYPE=image/png:https://p9dzm74w.tinifycdn.com/wp-content/uploads/2025/08/debi-live-adelaide-1.png
GEO:-34.8699439;138.6681757
END:VEVENT
BEGIN:VEVENT
DTSTART;TZID=Australia/Sydney:20250821T151841
DTEND;TZID=Australia/Sydney:20250821T151841
DTSTAMP:20260423T105846
CREATED:20250821T051841Z
LAST-MODIFIED:20250821T051841Z
UID:10008491-1755789521-1755789521@www.indianlink.com.au
SUMMARY:Debi Makhsoospuri Live in Adelaide
DESCRIPTION:Experience the soulful voice of renowned Pakistani artist Debi Makhsoospuri in a live performance in South Australia. This unforgettable night brings together heartfelt vocals and community ambience. \nThis event showcases Debi’s iconic tracks and live musical artistry\, offering fans and new listeners a chance to connect with her emotive storytelling and cultural flair. \n\nArtist: Debi Makhsoospuri – celebrated singer-songwriter\, known for soulful performances\nHighlights: Live vocals\, immersive atmosphere\, audience engagement.\nIdeal for: Fans of South Asian music\, cultural evenings\, uplifting community concerts.\n\nAttendees can expect seamless access within the welcoming premises of Futures Church\, known for its modern auditorium and accessible layout. Whether you’re a long-time fan or discovering Debi for the first time\, this event promises a night filled with emotion\, melody\, and connection—right in the heart of Adelaide’s Paradise suburb. \nSecure your tickets early for a memorable evening of music and cultural celebration. Be part of a live experience unlike any other—Debi Makhsoospuri Live in Adelaide\, 2025. \nPurchase your tickets here: https://www.premiertickets.co/event/debi-makhsoospuri-live-in-adelaide-2025/
URL:https://www.indianlink.com.au/whats-on/debi-makhsoospuri-live-in-adelaide/
LOCATION:Futures Church Paradise Campus\, South Australia
ATTACH;FMTTYPE=image/png:https://p9dzm74w.tinifycdn.com/wp-content/uploads/2025/08/debi-live-adelaide.png
GEO:-34.8699439;138.6681757
END:VEVENT
END:VCALENDAR